BEGIN:VCALENDAR
VERSION:2.0
PRODID:-//WGIL 93.7 FM - 1400 AM - ECPv5.6.0//NONSGML v1.0//EN
CALSCALE:GREGORIAN
METHOD:PUBLISH
X-WR-CALNAME:WGIL 93.7 FM - 1400 AM
X-ORIGINAL-URL:https://www.wgil.com
X-WR-CALDESC:Events for WGIL 93.7 FM - 1400 AM
BEGIN:VTIMEZONE
TZID:America/Chicago
BEGIN:DAYLIGHT
TZOFFSETFROM:-0600
TZOFFSETTO:-0500
TZNAME:CDT
DTSTART:20160313T080000
END:DAYLIGHT
BEGIN:STANDARD
TZOFFSETFROM:-0500
TZOFFSETTO:-0600
TZNAME:CST
DTSTART:20161106T070000
END:STANDARD
END:VTIMEZONE
BEGIN:VEVENT
DTSTART;TZID=America/Chicago:20160908T170000
DTEND;TZID=America/Chicago:20160908T220000
DTSTAMP:20260425T182015
CREATED:20160725T211820Z
LAST-MODIFIED:20160725T211820Z
UID:107945-1473354000-1473372000@www.wgil.com
SUMMARY:2016 Elmwood Fall Festival
DESCRIPTION:Come enjoy Elmwood Fall Festival – Music Through the Ages on September 8\, 9 and 10! There will be carnival rides\, fabulous food\, race/walk\, and great music just to mention a few fun family-oriented activities! Come join the fun and enjoy the music!
URL:https://www.wgil.com/event/2016-elmwood-fall-festival/2016-09-08/
LOCATION:Elmwood Central Park\, 101 East Main Street\, Elmwood\, IL\, 61529\, United States
CATEGORIES:Community Events,Fairs & Festivals
ORGANIZER;CN="Unnamed%20Organizer":MAILTO:muzikluvnmom@mchsi.com
GEO:40.7780009;-89.9661265
X-APPLE-STRUCTURED-LOCATION;VALUE=URI;X-ADDRESS=Elmwood Central Park 101 East Main Street Elmwood IL 61529 United States;X-APPLE-RADIUS=500;X-TITLE=101 East Main Street:geo:-89.9661265,40.7780009
END:VEVENT
END:VCALENDAR