BEGIN:VCALENDAR
VERSION:2.0
PRODID:-//WGIL 93.7 FM - 1400 AM - ECPv5.6.0//NONSGML v1.0//EN
CALSCALE:GREGORIAN
METHOD:PUBLISH
X-WR-CALNAME:WGIL 93.7 FM - 1400 AM
X-ORIGINAL-URL:https://www.wgil.com
X-WR-CALDESC:Events for WGIL 93.7 FM - 1400 AM
BEGIN:VTIMEZONE
TZID:America/Chicago
BEGIN:DAYLIGHT
TZOFFSETFROM:-0600
TZOFFSETTO:-0500
TZNAME:CDT
DTSTART:20250309T080000
END:DAYLIGHT
BEGIN:STANDARD
TZOFFSETFROM:-0500
TZOFFSETTO:-0600
TZNAME:CST
DTSTART:20251102T070000
END:STANDARD
END:VTIMEZONE
BEGIN:VEVENT
DTSTART;TZID=America/Chicago:20250409T093000
DTEND;TZID=America/Chicago:20250409T110000
DTSTAMP:20260424T193556
CREATED:20250212T214750Z
LAST-MODIFIED:20250212T214750Z
UID:669311-1744191000-1744196400@www.wgil.com
SUMMARY:2025 Women's Lenten Services
DESCRIPTION:Women of the community are invited to attend Community Woman’s Lenten Services on the six Wednesdays of Lent\, March 5 to April 9\, at 9:30am at First Christian Church\, 301 N. Broad St.\, Galesburg\, for a time of worship\, with guest speakers from the community. This year’s theme is “God’s Grace Poured Out.”
URL:https://www.wgil.com/event/2025-womens-lenten-services/2025-04-09/
LOCATION:First Christian Church of Galesburg\, 301 N. Broad St.\, Galesburg\, 61401
CATEGORIES:Community Events
ATTACH;FMTTYPE=image/jpeg:https://dehayf5mhw1h7.cloudfront.net/wp-content/uploads/sites/2036/2025/02/12103956/2025-womans-lenten-e1739396852378.jpg
END:VEVENT
BEGIN:VEVENT
DTSTART;TZID=America/Chicago:20250402T093000
DTEND;TZID=America/Chicago:20250402T110000
DTSTAMP:20260424T193556
CREATED:20250212T214749Z
LAST-MODIFIED:20250212T214749Z
UID:669310-1743586200-1743591600@www.wgil.com
SUMMARY:2025 Women's Lenten Services
DESCRIPTION:Women of the community are invited to attend Community Woman’s Lenten Services on the six Wednesdays of Lent\, March 5 to April 9\, at 9:30am at First Christian Church\, 301 N. Broad St.\, Galesburg\, for a time of worship\, with guest speakers from the community. This year’s theme is “God’s Grace Poured Out.”
URL:https://www.wgil.com/event/2025-womens-lenten-services/2025-04-02/
LOCATION:First Christian Church of Galesburg\, 301 N. Broad St.\, Galesburg\, 61401
CATEGORIES:Community Events
ATTACH;FMTTYPE=image/jpeg:https://dehayf5mhw1h7.cloudfront.net/wp-content/uploads/sites/2036/2025/02/12103956/2025-womans-lenten-e1739396852378.jpg
END:VEVENT
BEGIN:VEVENT
DTSTART;TZID=America/Chicago:20250326T093000
DTEND;TZID=America/Chicago:20250326T110000
DTSTAMP:20260424T193556
CREATED:20250212T214748Z
LAST-MODIFIED:20250212T214748Z
UID:669309-1742981400-1742986800@www.wgil.com
SUMMARY:2025 Women's Lenten Services
DESCRIPTION:Women of the community are invited to attend Community Woman’s Lenten Services on the six Wednesdays of Lent\, March 5 to April 9\, at 9:30am at First Christian Church\, 301 N. Broad St.\, Galesburg\, for a time of worship\, with guest speakers from the community. This year’s theme is “God’s Grace Poured Out.”
URL:https://www.wgil.com/event/2025-womens-lenten-services/2025-03-26/
LOCATION:First Christian Church of Galesburg\, 301 N. Broad St.\, Galesburg\, 61401
CATEGORIES:Community Events
ATTACH;FMTTYPE=image/jpeg:https://dehayf5mhw1h7.cloudfront.net/wp-content/uploads/sites/2036/2025/02/12103956/2025-womans-lenten-e1739396852378.jpg
END:VEVENT
BEGIN:VEVENT
DTSTART;TZID=America/Chicago:20250319T093000
DTEND;TZID=America/Chicago:20250319T110000
DTSTAMP:20260424T193556
CREATED:20250212T214748Z
LAST-MODIFIED:20250212T214748Z
UID:669308-1742376600-1742382000@www.wgil.com
SUMMARY:2025 Women's Lenten Services
DESCRIPTION:Women of the community are invited to attend Community Woman’s Lenten Services on the six Wednesdays of Lent\, March 5 to April 9\, at 9:30am at First Christian Church\, 301 N. Broad St.\, Galesburg\, for a time of worship\, with guest speakers from the community. This year’s theme is “God’s Grace Poured Out.”
URL:https://www.wgil.com/event/2025-womens-lenten-services/2025-03-19/
LOCATION:First Christian Church of Galesburg\, 301 N. Broad St.\, Galesburg\, 61401
CATEGORIES:Community Events
ATTACH;FMTTYPE=image/jpeg:https://dehayf5mhw1h7.cloudfront.net/wp-content/uploads/sites/2036/2025/02/12103956/2025-womans-lenten-e1739396852378.jpg
END:VEVENT
BEGIN:VEVENT
DTSTART;TZID=America/Chicago:20250312T093000
DTEND;TZID=America/Chicago:20250312T110000
DTSTAMP:20260424T193556
CREATED:20250212T214747Z
LAST-MODIFIED:20250212T214747Z
UID:669307-1741771800-1741777200@www.wgil.com
SUMMARY:2025 Women's Lenten Services
DESCRIPTION:Women of the community are invited to attend Community Woman’s Lenten Services on the six Wednesdays of Lent\, March 5 to April 9\, at 9:30am at First Christian Church\, 301 N. Broad St.\, Galesburg\, for a time of worship\, with guest speakers from the community. This year’s theme is “God’s Grace Poured Out.”
URL:https://www.wgil.com/event/2025-womens-lenten-services/2025-03-12/
LOCATION:First Christian Church of Galesburg\, 301 N. Broad St.\, Galesburg\, 61401
CATEGORIES:Community Events
ATTACH;FMTTYPE=image/jpeg:https://dehayf5mhw1h7.cloudfront.net/wp-content/uploads/sites/2036/2025/02/12103956/2025-womans-lenten-e1739396852378.jpg
END:VEVENT
BEGIN:VEVENT
DTSTART;TZID=America/Chicago:20250305T093000
DTEND;TZID=America/Chicago:20250305T110000
DTSTAMP:20260424T193556
CREATED:20250212T214746Z
LAST-MODIFIED:20250212T214746Z
UID:669305-1741167000-1741172400@www.wgil.com
SUMMARY:2025 Women's Lenten Services
DESCRIPTION:Women of the community are invited to attend Community Woman’s Lenten Services on the six Wednesdays of Lent\, March 5 to April 9\, at 9:30am at First Christian Church\, 301 N. Broad St.\, Galesburg\, for a time of worship\, with guest speakers from the community. This year’s theme is “God’s Grace Poured Out.”
URL:https://www.wgil.com/event/2025-womens-lenten-services/2025-03-05/
LOCATION:First Christian Church of Galesburg\, 301 N. Broad St.\, Galesburg\, 61401
CATEGORIES:Community Events
ATTACH;FMTTYPE=image/jpeg:https://dehayf5mhw1h7.cloudfront.net/wp-content/uploads/sites/2036/2025/02/12103956/2025-womans-lenten-e1739396852378.jpg
END:VEVENT
END:VCALENDAR