BEGIN:VCALENDAR
VERSION:2.0
PRODID:-//WGIL 93.7 FM - 1400 AM - ECPv5.6.0//NONSGML v1.0//EN
CALSCALE:GREGORIAN
METHOD:PUBLISH
X-WR-CALNAME:WGIL 93.7 FM - 1400 AM
X-ORIGINAL-URL:https://www.wgil.com
X-WR-CALDESC:Events for WGIL 93.7 FM - 1400 AM
BEGIN:VTIMEZONE
TZID:America/Chicago
BEGIN:DAYLIGHT
TZOFFSETFROM:-0600
TZOFFSETTO:-0500
TZNAME:CDT
DTSTART:20240310T080000
END:DAYLIGHT
BEGIN:STANDARD
TZOFFSETFROM:-0500
TZOFFSETTO:-0600
TZNAME:CST
DTSTART:20241103T070000
END:STANDARD
TZID:America/New_York
BEGIN:DAYLIGHT
TZOFFSETFROM:-0500
TZOFFSETTO:-0400
TZNAME:EDT
DTSTART:20240310T070000
END:DAYLIGHT
BEGIN:STANDARD
TZOFFSETFROM:-0400
TZOFFSETTO:-0500
TZNAME:EST
DTSTART:20241103T060000
END:STANDARD
END:VTIMEZONE
BEGIN:VEVENT
DTSTART;TZID=America/Chicago:20241215T100000
DTEND;TZID=America/Chicago:20241215T130000
DTSTAMP:20260422T190001
CREATED:20241118T201945Z
LAST-MODIFIED:20241118T201945Z
UID:665402-1734256800-1734267600@www.wgil.com
SUMMARY:Tennis Clinic: Coed JV Clinic
DESCRIPTION:Date: December 15\, 2024\nTime: 10-1pm\nCost: $50 per player\nAges: 5th-8th grade\nLocation: Lakeside Recreation Facility \nPeoria Notre Dame High School Head Tennis Coach\, Brad Douglas\, in collaboration with City of Galesburg\, is hosting a coed JV tennis clinic.
URL:https://www.wgil.com/event/tennis-clinic-coed-jv-clinic/
LOCATION:Lakeside Recreation Facility\, 1033 S. Lake Storey Rd\, Galesburg\, IL\, 61401\, United States
CATEGORIES:Community Events
ATTACH;FMTTYPE=image/png:https://dehayf5mhw1h7.cloudfront.net/wp-content/uploads/sites/2036/2024/11/18140003/tennis-clinic-2024-1-e1731961173687.png
END:VEVENT
BEGIN:VEVENT
DTSTART;TZID=America/Chicago:20241215T110000
DTEND;TZID=America/Chicago:20241215T180000
DTSTAMP:20260422T190002
CREATED:20241125T203318Z
LAST-MODIFIED:20241125T203318Z
UID:665657-1734260400-1734285600@www.wgil.com
SUMMARY:Soup and Santa
DESCRIPTION:Chili\, potato\, chicken and noodle\, spinach bisque soups will be served from 11-6\nCarry out available. Free will donations.\nSanta will be 1-5\nBingo\nCraft Vendors
URL:https://www.wgil.com/event/soup-and-santa/
LOCATION:Oneida Fire Station\, 210 N Sage\, Oneida \, IL\, 61467\, United States
CATEGORIES:Community Events
ATTACH;FMTTYPE=image/jpeg:https://dehayf5mhw1h7.cloudfront.net/wp-content/uploads/sites/2036/2024/11/23072715/image-rotated-e1732566788216.jpg
ORGANIZER;CN="Julie%20Nelson":MAILTO:nelsonbeauty07@gmail.com
END:VEVENT
BEGIN:VEVENT
DTSTART;TZID=America/Chicago:20241215T133000
DTEND;TZID=America/Chicago:20241215T163000
DTSTAMP:20260422T190002
CREATED:20241118T202059Z
LAST-MODIFIED:20241118T202059Z
UID:665405-1734269400-1734280200@www.wgil.com
SUMMARY:Tennis Clinic: Adult Clinic
DESCRIPTION:Date: December 15\, 2024\nTime: 1:30-4:30pm\nCost: $50 per player\nAges: 18+\nLocation: Lakeside Recreation Facility \nPeoria Notre Dame High School Head Tennis Coach\, Brad Douglas\, in collaboration with City of Galesburg\, is hosting an adult tennis clinic.
URL:https://www.wgil.com/event/tennis-clinic-adult-clinic/
LOCATION:Lakeside Recreation Facility\, 1033 S. Lake Storey Rd\, Galesburg\, IL\, 61401\, United States
CATEGORIES:Community Events
ATTACH;FMTTYPE=image/png:https://dehayf5mhw1h7.cloudfront.net/wp-content/uploads/sites/2036/2024/11/18140241/tennis-clinic-2024-1-e1731961243966.png
END:VEVENT
BEGIN:VEVENT
DTSTART;TZID=America/Chicago:20241215T140000
DTEND;TZID=America/Chicago:20241215T163000
DTSTAMP:20260422T190002
CREATED:20241004T185318Z
LAST-MODIFIED:20241004T185318Z
UID:662540-1734271200-1734280200@www.wgil.com
SUMMARY:American Red Cross CPR/AED Certification Class
DESCRIPTION:Date: December 15\, 2024\nTime: 2-4:30PM\nCost: $50 by December 5\nLocation: Lake Storey Pavilion \nLearn how to respond in case of an emergency with this American Red Cross CPR blended learning class. Online portion of class must be completed by in-person class date. Link to online learning will be sent out 5-7 days ahead of in-person class date. In-person portion is a hands-on testing of skills learned during the online modules. Both portions must be passed to receive certification.
URL:https://www.wgil.com/event/american-red-cross-cpr-aed-certification-class/
LOCATION:Lake Storey Pavilion\, 1572 Machen Drive\, Galesburg\, IL\, 61401\, United States
CATEGORIES:Community Events
ATTACH;FMTTYPE=image/png:https://dehayf5mhw1h7.cloudfront.net/wp-content/uploads/sites/2036/2024/10/03103914/cpr-12-15-24-arc-adultchildinfant-first-aid-cpr-aed-bl-class-fb-e1728067984763.png
END:VEVENT
BEGIN:VEVENT
DTSTART;TZID=America/Chicago:20241215T173000
DTEND;TZID=America/Chicago:20241215T203000
DTSTAMP:20260422T190002
CREATED:20241209T202411Z
LAST-MODIFIED:20241209T202411Z
UID:666673-1734283800-1734294600@www.wgil.com
SUMMARY:Canton Area Chamber of Commerce's 3rd Annual Holiday Lightshow
DESCRIPTION:To experience the 3rd Annual Holiday Lightshow\, drive through Big Creek Park\, then make your way to the new rec center parking lot. Each lightshow lasts about 15 minutes\, with music provided. \nLightshows run from December 6th thru December 29th Friday\, Saturday and Sunday nights only.\nShow times are 5:30 – 8:30 pm inside Big Creek Park in Canton\, IL.
URL:https://www.wgil.com/event/canton-area-chamber-of-commerces-3rd-annual-holiday-lightshow/2024-12-15/
LOCATION:Big Creek Park\, 950 N. Main St.\, Canton\, IL\, 61520\, United States
CATEGORIES:Community Events
ATTACH;FMTTYPE=image/png:https://dehayf5mhw1h7.cloudfront.net/wp-content/uploads/sites/2036/2024/12/09142331/holiday-lightshow-flyer-2024.png
GEO:40.577535;-90.0431547
X-APPLE-STRUCTURED-LOCATION;VALUE=URI;X-ADDRESS=Big Creek Park 950 N. Main St. Canton IL 61520 United States;X-APPLE-RADIUS=500;X-TITLE=950 N. Main St.:geo:-90.0431547,40.577535
END:VEVENT
BEGIN:VEVENT
DTSTART;TZID=America/Chicago:20241217T103000
DTEND;TZID=America/Chicago:20241217T113000
DTSTAMP:20260422T190002
CREATED:20241203T204203Z
LAST-MODIFIED:20241203T204203Z
UID:665940-1734431400-1734435000@www.wgil.com
SUMMARY:Engine & Caboose
DESCRIPTION:Engine and Caboose is a weekly preschool program for children ages 2 to 5 years old. It promotes early literacy\, fine motor and math skills. FREE with paid admission. \nDecember 17th and 18th The Littlest Tree by Jane Chapman \nBooks will be read at 10:30.
URL:https://www.wgil.com/event/engine-caboose-28/
LOCATION:Discovery Depot\, 128 S Chambers St\, Galesburg\, IL\, 61401\, United States
CATEGORIES:Community Events
ATTACH;FMTTYPE=image/png:https://dehayf5mhw1h7.cloudfront.net/wp-content/uploads/sites/2036/2024/11/29094727/engine-and-caboose-12-24-e1733258513630.png
ORGANIZER;CN="Discovery%20Depot":MAILTO:director@discoverydepot.org
END:VEVENT
BEGIN:VEVENT
DTSTART;TZID=America/Chicago:20241217T173000
DTEND;TZID=America/Chicago:20241217T190000
DTSTAMP:20260422T190002
CREATED:20241120T194347Z
LAST-MODIFIED:20241120T194347Z
UID:665505-1734456600-1734462000@www.wgil.com
SUMMARY:Toddler Plus Tuesday
DESCRIPTION:This program is for toddlers plus their families and is offered after hours. The program is in collaboration with ROE #33 educators. Special developmental activities each month will be available. \nReduced admission rate is $6.50.
URL:https://www.wgil.com/event/toddler-plus-tuesday-18/
LOCATION:Discovery Depot\, 128 S Chambers St\, Galesburg\, IL\, 61401\, United States
CATEGORIES:Community Events
ATTACH;FMTTYPE=image/png:https://dehayf5mhw1h7.cloudfront.net/wp-content/uploads/sites/2036/2024/11/20100348/toddler-tuesday-december24-e1732131814185.png
ORGANIZER;CN="Discovery%20Depot":MAILTO:director@discoverydepot.org
END:VEVENT
BEGIN:VEVENT
DTSTART;VALUE=DATE:20241218
DTEND;VALUE=DATE:20241219
DTSTAMP:20260422T190002
CREATED:20200912T172504Z
LAST-MODIFIED:20200912T172504Z
UID:322208-1734480000-1734566399@www.wgil.com
SUMMARY:Galesburg Veterans Van
DESCRIPTION:We start running to Iowa City VA Hospital on Wednesdays and Thursdays.  Please give us a weeks notice. 309-342-7735
URL:https://www.wgil.com/event/galesburg-veterans-van-2/2024-12-18/
LOCATION:IL
CATEGORIES:Community Events
ATTACH;FMTTYPE=image/jpeg:https://dehayf5mhw1h7.cloudfront.net/wp-content/uploads/sites/2036/2020/09/12172504/7D5E0CF3-3117-4BDA-80CF-17EE7A16E44C-e1599931346207.jpeg
ORGANIZER;CN="Galesburg%20Veterans%20Van":MAILTO:Galesburgveteransvan@gmail.com
END:VEVENT
BEGIN:VEVENT
DTSTART;TZID=America/Chicago:20241218T093000
DTEND;TZID=America/Chicago:20241218T110000
DTSTAMP:20260422T190002
CREATED:20241216T234034Z
LAST-MODIFIED:20241216T234034Z
UID:666908-1734514200-1734519600@www.wgil.com
SUMMARY:Galesburg Welcome Newcomer Meeting
DESCRIPTION:Galesburg Welcome Newcomer Club Christmas Brunch\, Wednesday the 18th\, 9:30 a.m. First United Methodist Church\, 120 N Kellogg St. \nCome meet new and longtime residents for food\, fun and camaraderie! The club provides members with the opportunity to develop friendships through a variety of activities and participate in charitable events. For more information call Vickie Dowers at (309)335-3377.
URL:https://www.wgil.com/event/galesburg-welcome-newcomer-meeting/
LOCATION:First United Methodist Church\, 120 North Kellogg Street\, Galesburg\, IL\, 61401\, United States
CATEGORIES:Community Events
GEO:40.9488107;-90.3662995
X-APPLE-STRUCTURED-LOCATION;VALUE=URI;X-ADDRESS=First United Methodist Church 120 North Kellogg Street Galesburg IL 61401 United States;X-APPLE-RADIUS=500;X-TITLE=120 North Kellogg Street:geo:-90.3662995,40.9488107
END:VEVENT
BEGIN:VEVENT
DTSTART;TZID=America/Chicago:20241218T100000
DTEND;TZID=America/Chicago:20241218T130000
DTSTAMP:20260422T190002
CREATED:20240905T185855Z
LAST-MODIFIED:20240905T185855Z
UID:662689-1734516000-1734526800@www.wgil.com
SUMMARY:Wataga Seniors Social and Luncheon
DESCRIPTION:Wataga Seniors start at 10 am every Wednesday for social interaction\, including playing cards\, At noon a potluck dinner is served. Birthdays are celebrated on the last Wednesday of the month with bingo\, prizes\, and cake for all.
URL:https://www.wgil.com/event/wataga-seniors-social-and-luncheon-5/2024-12-18/
LOCATION:Sparta Township Hall\, 100 E Willard St\, Wataga\, IL\, 61488\, United States
CATEGORIES:Community Events
ATTACH;FMTTYPE=image/jpeg:https://dehayf5mhw1h7.cloudfront.net/wp-content/uploads/sites/2036/2024/09/04012524/fun-for-seniors.jpg
ORGANIZER;CN="Wataga%20Seniors":MAILTO:Wataga_Seniors@outlook.com
END:VEVENT
BEGIN:VEVENT
DTSTART;TZID=America/Chicago:20241218T103000
DTEND;TZID=America/Chicago:20241218T113000
DTSTAMP:20260422T190002
CREATED:20241203T204249Z
LAST-MODIFIED:20241203T204249Z
UID:665943-1734517800-1734521400@www.wgil.com
SUMMARY:Engine & Caboose
DESCRIPTION:Engine and Caboose is a weekly preschool program for children ages 2 to 5 years old. It promotes early literacy\, fine motor and math skills. FREE with paid admission. \nDecember 17th and 18th The Littlest Tree by Jane Chapman \nBooks will be read at 10:30.
URL:https://www.wgil.com/event/engine-caboose-29/
LOCATION:Discovery Depot\, 128 S Chambers St\, Galesburg\, IL\, 61401\, United States
CATEGORIES:Community Events
ATTACH;FMTTYPE=image/png:https://dehayf5mhw1h7.cloudfront.net/wp-content/uploads/sites/2036/2024/11/29094906/engine-and-caboose-12-24-e1733258557157.png
ORGANIZER;CN="Discovery%20Depot":MAILTO:director@discoverydepot.org
END:VEVENT
BEGIN:VEVENT
DTSTART;TZID=America/Chicago:20241218T130000
DTEND;TZID=America/Chicago:20241218T140000
DTSTAMP:20260422T190002
CREATED:20210524T132602Z
LAST-MODIFIED:20210524T132602Z
UID:322207-1734526800-1734530400@www.wgil.com
SUMMARY:St. Vincent de Paul Food Pantry
DESCRIPTION:ST VINCENT DE PAUL WEEKLY FOOD DISTRIBUTION. Weekly (Wednesdays from 1PM toll 2 PM) grocery distribution for individuals and families in need. \nCurbside service is provided as well. \nNot required to call ahead\, but calling will speed up the process. \nWill be asked whether they need a milk voucher\, number of adults and children in family and about any food restrictions. \nNUMBER TO CALL: 815-200-4911.
URL:https://www.wgil.com/event/st-vincent-de-paul-food-pantry/2024-12-18/
LOCATION:Corpus Christi Church basement\, 273 South Prairie St\, Galesburg\, IL\, 61401\, United States
CATEGORIES:Community Events
ORGANIZER;CN="St%20Vincent%20de%20Paul%20Society":MAILTO:dallind@grics.net
END:VEVENT
BEGIN:VEVENT
DTSTART;TZID=America/Chicago:20241218T173000
DTEND;TZID=America/Chicago:20241218T183000
DTSTAMP:20260422T190002
CREATED:20240207T185904Z
LAST-MODIFIED:20240207T185904Z
UID:648729-1734543000-1734546600@www.wgil.com
SUMMARY:First Lutheran Church Food Pantry
DESCRIPTION:First Lutheran Church Food Pantry\, 364 E. Water St.\, Galesburg.
URL:https://www.wgil.com/event/first-lutheran-church-food-pantry-2/2024-12-18/
LOCATION:First Lutheran Church\, 364 E. Water St.\, Galesburg\, IL\, 61401\, United States
CATEGORIES:Community Events
ATTACH;FMTTYPE=image/jpeg:https://dehayf5mhw1h7.cloudfront.net/wp-content/uploads/sites/2036/2020/05/27162250/first-lutheran-church-food-pantry.jpg
GEO:40.9495812;-90.3650888
X-APPLE-STRUCTURED-LOCATION;VALUE=URI;X-ADDRESS=First Lutheran Church 364 E. Water St. Galesburg IL 61401 United States;X-APPLE-RADIUS=500;X-TITLE=364 E. Water St.:geo:-90.3650888,40.9495812
END:VEVENT
BEGIN:VEVENT
DTSTART;TZID=America/New_York:20241218T183000
DTEND;TZID=America/New_York:20241218T200000
DTSTAMP:20260422T190002
CREATED:20200124T193917Z
LAST-MODIFIED:20230404T104802Z
UID:322206-1734546600-1734552000@www.wgil.com
SUMMARY:Chess Club
DESCRIPTION:A chess club for players of all levels will meet at 6:30 pm on Wednesday nights at the Henderson Town Hall. There is no cost to come play\, learn and make friends.
URL:https://www.wgil.com/event/chess-club/2024-12-18/
LOCATION:Henderson Town Hall\, 215 S Main Street\, HENDERSON\, IL\, 61439\, United States
CATEGORIES:Community Events
ORGANIZER;CN="Dale%20Hidden":MAILTO:dale_hidden@yahoo.com
END:VEVENT
BEGIN:VEVENT
DTSTART;VALUE=DATE:20241219
DTEND;VALUE=DATE:20241220
DTSTAMP:20260422T190002
CREATED:20200912T172504Z
LAST-MODIFIED:20200912T172504Z
UID:322209-1734566400-1734652799@www.wgil.com
SUMMARY:Galesburg Veterans Van
DESCRIPTION:We start running to Iowa City VA Hospital on Wednesdays and Thursdays.  Please give us a weeks notice. 309-342-7735
URL:https://www.wgil.com/event/galesburg-veterans-van-2/2024-12-19/
LOCATION:IL
CATEGORIES:Community Events
ATTACH;FMTTYPE=image/jpeg:https://dehayf5mhw1h7.cloudfront.net/wp-content/uploads/sites/2036/2020/09/12172504/7D5E0CF3-3117-4BDA-80CF-17EE7A16E44C-e1599931346207.jpeg
ORGANIZER;CN="Galesburg%20Veterans%20Van":MAILTO:Galesburgveteransvan@gmail.com
END:VEVENT
BEGIN:VEVENT
DTSTART;TZID=America/Chicago:20241219T140000
DTEND;TZID=America/Chicago:20241219T144500
DTSTAMP:20260422T190002
CREATED:20241127T210749Z
LAST-MODIFIED:20241127T210749Z
UID:665853-1734616800-1734619500@www.wgil.com
SUMMARY:Home School Hub
DESCRIPTION:Home School Hub is a program for home schooled children. It focuses on art and science. This program is free with admission. \nDecember 19th: ART Yarn Hat Ornament \nMuseum closes promptly at 3:00pm.
URL:https://www.wgil.com/event/home-school-hub-19/
LOCATION:Discovery Depot\, 128 S Chambers St\, Galesburg\, IL\, 61401\, United States
CATEGORIES:Community Events
ATTACH;FMTTYPE=image/png:https://dehayf5mhw1h7.cloudfront.net/wp-content/uploads/sites/2036/2024/11/26133531/hsh-12-24.png
ORGANIZER;CN="Discovery%20Depot":MAILTO:director@discoverydepot.org
END:VEVENT
BEGIN:VEVENT
DTSTART;TZID=America/Chicago:20241220T173000
DTEND;TZID=America/Chicago:20241220T203000
DTSTAMP:20260422T190002
CREATED:20241209T202411Z
LAST-MODIFIED:20241209T202411Z
UID:666674-1734715800-1734726600@www.wgil.com
SUMMARY:Canton Area Chamber of Commerce's 3rd Annual Holiday Lightshow
DESCRIPTION:To experience the 3rd Annual Holiday Lightshow\, drive through Big Creek Park\, then make your way to the new rec center parking lot. Each lightshow lasts about 15 minutes\, with music provided. \nLightshows run from December 6th thru December 29th Friday\, Saturday and Sunday nights only.\nShow times are 5:30 – 8:30 pm inside Big Creek Park in Canton\, IL.
URL:https://www.wgil.com/event/canton-area-chamber-of-commerces-3rd-annual-holiday-lightshow/2024-12-20/
LOCATION:Big Creek Park\, 950 N. Main St.\, Canton\, IL\, 61520\, United States
CATEGORIES:Community Events
ATTACH;FMTTYPE=image/png:https://dehayf5mhw1h7.cloudfront.net/wp-content/uploads/sites/2036/2024/12/09142331/holiday-lightshow-flyer-2024.png
GEO:40.577535;-90.0431547
X-APPLE-STRUCTURED-LOCATION;VALUE=URI;X-ADDRESS=Big Creek Park 950 N. Main St. Canton IL 61520 United States;X-APPLE-RADIUS=500;X-TITLE=950 N. Main St.:geo:-90.0431547,40.577535
END:VEVENT
BEGIN:VEVENT
DTSTART;TZID=America/Chicago:20241220T190000
DTEND;TZID=America/Chicago:20241220T200000
DTSTAMP:20260422T190002
CREATED:20241111T221804Z
LAST-MODIFIED:20241111T221804Z
UID:664991-1734721200-1734724800@www.wgil.com
SUMMARY:Buchanan Community Chorus' "The Peace of Christmas"
DESCRIPTION:The Peace of Christmas will be presented at the First Lutheran Church of Galesburg on Friday\, December 20th at 7:00.
URL:https://www.wgil.com/event/buchanan-community-chorus-the-peace-of-christmas/
LOCATION:First Lutheran Church\, 364 E Water St\, Galesburg\, IL\, 61401\, United States
CATEGORIES:Community Events
END:VEVENT
BEGIN:VEVENT
DTSTART;TZID=America/Chicago:20241221T090000
DTEND;TZID=America/Chicago:20241221T110000
DTSTAMP:20260422T190002
CREATED:20241126T160020Z
LAST-MODIFIED:20241126T161127Z
UID:665830-1734771600-1734778800@www.wgil.com
SUMMARY:Galesburg Catholic Mom's Group
DESCRIPTION:Raising Catholic kids in today’s world can be challenging. The purpose of Galesburg Catholic Mom’s Group is to create connections through fellowship\, sharing of resources\, and supporting each other through the adventure of motherhood! Children are welcome. If you have questions\, please contact Tricia Feely.
URL:https://www.wgil.com/event/galesburg-catholic-moms-group-2/
LOCATION:Corpus Christi McAteer Center\, 273 S Prairie St\, Galesburg\, IL\, 61401\, United States
CATEGORIES:Community Events
END:VEVENT
BEGIN:VEVENT
DTSTART;TZID=America/Chicago:20241221T103000
DTEND;TZID=America/Chicago:20241221T130000
DTSTAMP:20260422T190002
CREATED:20241118T195921Z
LAST-MODIFIED:20241118T195941Z
UID:665317-1734777000-1734786000@www.wgil.com
SUMMARY:Visit with Santa and Mrs. Claus
DESCRIPTION:Come take a picture with Santa and Mrs. Claus.\nRemember to bring your list! \nFree with admission
URL:https://www.wgil.com/event/visit-with-santa-and-mrs-claus/
LOCATION:Discovery Depot\, 128 S Chambers St\, Galesburg\, IL\, 61401\, United States
CATEGORIES:Community Events
ATTACH;FMTTYPE=image/jpeg:https://dehayf5mhw1h7.cloudfront.net/wp-content/uploads/sites/2036/2024/11/15113738/visit-with-santa-12-21-2024-e1731959941638.jpg
ORGANIZER;CN="Discovery%20Depot":MAILTO:director@discoverydepot.org
END:VEVENT
BEGIN:VEVENT
DTSTART;TZID=America/Chicago:20241221T124500
DTEND;TZID=America/Chicago:20241221T124500
DTSTAMP:20260422T190002
CREATED:20220831T050559Z
LAST-MODIFIED:20220831T050559Z
UID:322430-1734785100-1734785100@www.wgil.com
SUMMARY:BINGO at the Galesburg VFW
DESCRIPTION:Come and have some fun at the Galesburg VFW with BINGO each Saturday. Doors open at 10:30a and BINGO starts at 12:45p.
URL:https://www.wgil.com/event/bingo-at-the-galesburg-vfw-2/2024-12-21/
LOCATION:Galesburg VFW Post 2257\, 1001 Michigan ave\, Galesburg\, IL\, 61401\, United States
CATEGORIES:Community Events
END:VEVENT
BEGIN:VEVENT
DTSTART;TZID=America/Chicago:20241221T140000
DTEND;TZID=America/Chicago:20241221T150000
DTSTAMP:20260422T190002
CREATED:20241206T225833Z
LAST-MODIFIED:20241206T225833Z
UID:666238-1734789600-1734793200@www.wgil.com
SUMMARY:TubaChristmas
DESCRIPTION:Local area tuba and euphonium players present a fun concert of Christmas music.
URL:https://www.wgil.com/event/tubachristmas-3/
LOCATION:Central Congregational Church\, 60 Public Square\, Galesburg\, IL\, 61401\, United States
CATEGORIES:Community Events
ATTACH;FMTTYPE=image/jpeg:https://dehayf5mhw1h7.cloudfront.net/wp-content/uploads/sites/2036/2024/12/06165810/408017279_740655641436135_1918163745203002526_n-e1733525902797.jpg
ORGANIZER;CN="Gloria%20Bailey":MAILTO:flutopia13@gmail.com
END:VEVENT
BEGIN:VEVENT
DTSTART;TZID=America/Chicago:20241221T173000
DTEND;TZID=America/Chicago:20241221T203000
DTSTAMP:20260422T190002
CREATED:20241209T202411Z
LAST-MODIFIED:20241209T202411Z
UID:666675-1734802200-1734813000@www.wgil.com
SUMMARY:Canton Area Chamber of Commerce's 3rd Annual Holiday Lightshow
DESCRIPTION:To experience the 3rd Annual Holiday Lightshow\, drive through Big Creek Park\, then make your way to the new rec center parking lot. Each lightshow lasts about 15 minutes\, with music provided. \nLightshows run from December 6th thru December 29th Friday\, Saturday and Sunday nights only.\nShow times are 5:30 – 8:30 pm inside Big Creek Park in Canton\, IL.
URL:https://www.wgil.com/event/canton-area-chamber-of-commerces-3rd-annual-holiday-lightshow/2024-12-21/
LOCATION:Big Creek Park\, 950 N. Main St.\, Canton\, IL\, 61520\, United States
CATEGORIES:Community Events
ATTACH;FMTTYPE=image/png:https://dehayf5mhw1h7.cloudfront.net/wp-content/uploads/sites/2036/2024/12/09142331/holiday-lightshow-flyer-2024.png
GEO:40.577535;-90.0431547
X-APPLE-STRUCTURED-LOCATION;VALUE=URI;X-ADDRESS=Big Creek Park 950 N. Main St. Canton IL 61520 United States;X-APPLE-RADIUS=500;X-TITLE=950 N. Main St.:geo:-90.0431547,40.577535
END:VEVENT
BEGIN:VEVENT
DTSTART;TZID=America/Chicago:20241221T173000
DTEND;TZID=America/Chicago:20241221T220000
DTSTAMP:20260422T190002
CREATED:20240822T191625Z
LAST-MODIFIED:20240822T191625Z
UID:659869-1734802200-1734818400@www.wgil.com
SUMMARY:Parents Night Out: Swim and Gym
DESCRIPTION:Date: December 21\, 2024\nTime: 5:30-10PM\nCost: $25 per participant by December 15\nAges: 5-12 years old\nLocation: Hawthorne Pool and Hawthorne Gym \nNeed to do some last minute Christmas shopping? This is the perfect place to drop off the kiddos for the evening and get those last minute gifts secured. The night will consist of swim time\, pizza\, movie and play in the gym! \nYour child will need swim suit\, dry clothes to change into\, tennis shoes and a water bottle! \nRegister at: https://app.amilia.com/store/en/city-of-galesburg-pr/shop/activities/5422723
URL:https://www.wgil.com/event/parents-night-out-swim-and-gym/
LOCATION:Hawthorne Pool\, 2331 Veterans Drive\, Galesburg\, IL\, 61401\, United States
CATEGORIES:Community Events
ATTACH;FMTTYPE=image/png:https://dehayf5mhw1h7.cloudfront.net/wp-content/uploads/sites/2036/2024/08/21152155/swim-and-gym-dec-2024-fb-e1724354168772.png
END:VEVENT
BEGIN:VEVENT
DTSTART;TZID=America/Chicago:20241221T183000
DTEND;TZID=America/Chicago:20241221T200000
DTSTAMP:20260422T190002
CREATED:20241028T200222Z
LAST-MODIFIED:20241028T200222Z
UID:663764-1734805800-1734811200@www.wgil.com
SUMMARY:Nature at Night: Winter Solstice Celebration
DESCRIPTION:Date: Saturday\, December 21\, 2024\nTime: 6:30-8PM\nCost: $5 per person or $15 per family\nLocation: Lakeside Nature Center \nThe Winter Solstice is Saturday\, Dec. 21! We will talk about the science behind the annual solstices\, take a walk through our luminary-lit woods\, enjoy some hot chocolate and s’mores around the yule log! All ages are invited to attend! \nRegister at: https://app.amilia.com/store/en/city-of-galesburg-pr/shop/activities/5282923
URL:https://www.wgil.com/event/nature-at-night-winter-solstice-celebration/
LOCATION:Lakeside Nature Center\, 1033 S Lake Storey Rd\, Galesburg\, IL\, 61401\, United States
CATEGORIES:Community Events
ATTACH;FMTTYPE=image/png:https://dehayf5mhw1h7.cloudfront.net/wp-content/uploads/sites/2036/2024/10/22144635/nature-at-night-122124-winter-solstice-facebook-post-e1730145725173.png
GEO:40.984045;-90.39031
X-APPLE-STRUCTURED-LOCATION;VALUE=URI;X-ADDRESS=Lakeside Nature Center 1033 S Lake Storey Rd Galesburg IL 61401 United States;X-APPLE-RADIUS=500;X-TITLE=1033 S Lake Storey Rd:geo:-90.39031,40.984045
END:VEVENT
BEGIN:VEVENT
DTSTART;TZID=America/Chicago:20241222T123000
DTEND;TZID=America/Chicago:20241222T140000
DTSTAMP:20260422T190002
CREATED:20241118T200024Z
LAST-MODIFIED:20241118T200024Z
UID:665320-1734870600-1734876000@www.wgil.com
SUMMARY:Kids Engineer: Candy Cane Sleds
DESCRIPTION:Come make a sled out of candy! \n$1 with admission.
URL:https://www.wgil.com/event/kids-engineer-candy-cane-sleds/
LOCATION:Discovery Depot\, 128 S Chambers St\, Galesburg\, IL\, 61401\, United States
CATEGORIES:Community Events
ATTACH;FMTTYPE=image/jpeg:https://dehayf5mhw1h7.cloudfront.net/wp-content/uploads/sites/2036/2024/11/15114259/kids-engineer-12-22-2024-e1731960015882.jpg
ORGANIZER;CN="Discovery%20Depot":MAILTO:director@discoverydepot.org
END:VEVENT
BEGIN:VEVENT
DTSTART;TZID=America/Chicago:20241222T173000
DTEND;TZID=America/Chicago:20241222T203000
DTSTAMP:20260422T190002
CREATED:20241209T202411Z
LAST-MODIFIED:20241209T202411Z
UID:666676-1734888600-1734899400@www.wgil.com
SUMMARY:Canton Area Chamber of Commerce's 3rd Annual Holiday Lightshow
DESCRIPTION:To experience the 3rd Annual Holiday Lightshow\, drive through Big Creek Park\, then make your way to the new rec center parking lot. Each lightshow lasts about 15 minutes\, with music provided. \nLightshows run from December 6th thru December 29th Friday\, Saturday and Sunday nights only.\nShow times are 5:30 – 8:30 pm inside Big Creek Park in Canton\, IL.
URL:https://www.wgil.com/event/canton-area-chamber-of-commerces-3rd-annual-holiday-lightshow/2024-12-22/
LOCATION:Big Creek Park\, 950 N. Main St.\, Canton\, IL\, 61520\, United States
CATEGORIES:Community Events
ATTACH;FMTTYPE=image/png:https://dehayf5mhw1h7.cloudfront.net/wp-content/uploads/sites/2036/2024/12/09142331/holiday-lightshow-flyer-2024.png
GEO:40.577535;-90.0431547
X-APPLE-STRUCTURED-LOCATION;VALUE=URI;X-ADDRESS=Big Creek Park 950 N. Main St. Canton IL 61520 United States;X-APPLE-RADIUS=500;X-TITLE=950 N. Main St.:geo:-90.0431547,40.577535
END:VEVENT
BEGIN:VEVENT
DTSTART;TZID=America/Chicago:20241223T100000
DTEND;TZID=America/Chicago:20241223T140000
DTSTAMP:20260422T190002
CREATED:20241118T200122Z
LAST-MODIFIED:20241118T200122Z
UID:665326-1734948000-1734962400@www.wgil.com
SUMMARY:Create Curled Trees
DESCRIPTION:Enjoy making fun curled-paper trees. \nFree with admission!
URL:https://www.wgil.com/event/create-curled-trees/
LOCATION:Discovery Depot\, 128 S Chambers St\, Galesburg\, IL\, 61401\, United States
CATEGORIES:Community Events
ATTACH;FMTTYPE=image/jpeg:https://dehayf5mhw1h7.cloudfront.net/wp-content/uploads/sites/2036/2024/11/15114637/12-23-2024-e1731960071156.jpg
ORGANIZER;CN="Discovery%20Depot":MAILTO:director@discoverydepot.org
END:VEVENT
BEGIN:VEVENT
DTSTART;TZID=America/Chicago:20241224T120000
DTEND;TZID=America/Chicago:20241224T153000
DTSTAMP:20260422T190002
CREATED:20241223T232843Z
LAST-MODIFIED:20241223T232843Z
UID:667237-1735041600-1735054200@www.wgil.com
SUMMARY:Free Toys for Kids at The Haven
DESCRIPTION:The Haven has plenty of free toys left to give out to the community!\nIf you need any last-minute gifts for the kids\, swing by 419 East Main Street! We’ll be open Christmas Eve from Noon to 3:30PM!\nThe selection may be limited\, but we’re stocked up on all of them!
URL:https://www.wgil.com/event/free-toys-for-kids-at-the-haven/
LOCATION:The Haven\, 419 East Main Street\, Galesburg\, 61401
CATEGORIES:Community Events
ATTACH;FMTTYPE=image/png:https://dehayf5mhw1h7.cloudfront.net/wp-content/uploads/sites/2036/2024/12/23164130/postermaker_23122024_1636532-e1734996511666.png
END:VEVENT
BEGIN:VEVENT
DTSTART;VALUE=DATE:20241225
DTEND;VALUE=DATE:20241226
DTSTAMP:20260422T190002
CREATED:20200912T172504Z
LAST-MODIFIED:20200912T172504Z
UID:322534-1735084800-1735171199@www.wgil.com
SUMMARY:Galesburg Veterans Van
DESCRIPTION:We start running to Iowa City VA Hospital on Wednesdays and Thursdays.  Please give us a weeks notice. 309-342-7735
URL:https://www.wgil.com/event/galesburg-veterans-van-2/2024-12-25/
LOCATION:IL
CATEGORIES:Community Events
ATTACH;FMTTYPE=image/jpeg:https://dehayf5mhw1h7.cloudfront.net/wp-content/uploads/sites/2036/2020/09/12172504/7D5E0CF3-3117-4BDA-80CF-17EE7A16E44C-e1599931346207.jpeg
ORGANIZER;CN="Galesburg%20Veterans%20Van":MAILTO:Galesburgveteransvan@gmail.com
END:VEVENT
END:VCALENDAR