BEGIN:VCALENDAR
VERSION:2.0
PRODID:-//WGIL 93.7 FM - 1400 AM - ECPv5.6.0//NONSGML v1.0//EN
CALSCALE:GREGORIAN
METHOD:PUBLISH
X-WR-CALNAME:WGIL 93.7 FM - 1400 AM
X-ORIGINAL-URL:https://www.wgil.com
X-WR-CALDESC:Events for WGIL 93.7 FM - 1400 AM
BEGIN:VTIMEZONE
TZID:America/Chicago
BEGIN:DAYLIGHT
TZOFFSETFROM:-0600
TZOFFSETTO:-0500
TZNAME:CDT
DTSTART:20240310T080000
END:DAYLIGHT
BEGIN:STANDARD
TZOFFSETFROM:-0500
TZOFFSETTO:-0600
TZNAME:CST
DTSTART:20241103T070000
END:STANDARD
BEGIN:DAYLIGHT
TZOFFSETFROM:-0600
TZOFFSETTO:-0500
TZNAME:CDT
DTSTART:20250309T080000
END:DAYLIGHT
BEGIN:STANDARD
TZOFFSETFROM:-0500
TZOFFSETTO:-0600
TZNAME:CST
DTSTART:20251102T070000
END:STANDARD
TZID:America/New_York
BEGIN:DAYLIGHT
TZOFFSETFROM:-0500
TZOFFSETTO:-0400
TZNAME:EDT
DTSTART:20240310T070000
END:DAYLIGHT
BEGIN:STANDARD
TZOFFSETFROM:-0400
TZOFFSETTO:-0500
TZNAME:EST
DTSTART:20241103T060000
END:STANDARD
BEGIN:DAYLIGHT
TZOFFSETFROM:-0500
TZOFFSETTO:-0400
TZNAME:EDT
DTSTART:20250309T070000
END:DAYLIGHT
BEGIN:STANDARD
TZOFFSETFROM:-0400
TZOFFSETTO:-0500
TZNAME:EST
DTSTART:20251102T060000
END:STANDARD
END:VTIMEZONE
BEGIN:VEVENT
DTSTART;TZID=America/Chicago:20241222T123000
DTEND;TZID=America/Chicago:20241222T140000
DTSTAMP:20260423T010037
CREATED:20241118T200024Z
LAST-MODIFIED:20241118T200024Z
UID:665320-1734870600-1734876000@www.wgil.com
SUMMARY:Kids Engineer: Candy Cane Sleds
DESCRIPTION:Come make a sled out of candy! \n$1 with admission.
URL:https://www.wgil.com/event/kids-engineer-candy-cane-sleds/
LOCATION:Discovery Depot\, 128 S Chambers St\, Galesburg\, IL\, 61401\, United States
CATEGORIES:Community Events
ATTACH;FMTTYPE=image/jpeg:https://dehayf5mhw1h7.cloudfront.net/wp-content/uploads/sites/2036/2024/11/15114259/kids-engineer-12-22-2024-e1731960015882.jpg
ORGANIZER;CN="Discovery%20Depot":MAILTO:director@discoverydepot.org
END:VEVENT
BEGIN:VEVENT
DTSTART;TZID=America/Chicago:20241222T173000
DTEND;TZID=America/Chicago:20241222T203000
DTSTAMP:20260423T010037
CREATED:20241209T202411Z
LAST-MODIFIED:20241209T202411Z
UID:666676-1734888600-1734899400@www.wgil.com
SUMMARY:Canton Area Chamber of Commerce's 3rd Annual Holiday Lightshow
DESCRIPTION:To experience the 3rd Annual Holiday Lightshow\, drive through Big Creek Park\, then make your way to the new rec center parking lot. Each lightshow lasts about 15 minutes\, with music provided. \nLightshows run from December 6th thru December 29th Friday\, Saturday and Sunday nights only.\nShow times are 5:30 – 8:30 pm inside Big Creek Park in Canton\, IL.
URL:https://www.wgil.com/event/canton-area-chamber-of-commerces-3rd-annual-holiday-lightshow/2024-12-22/
LOCATION:Big Creek Park\, 950 N. Main St.\, Canton\, IL\, 61520\, United States
CATEGORIES:Community Events
ATTACH;FMTTYPE=image/png:https://dehayf5mhw1h7.cloudfront.net/wp-content/uploads/sites/2036/2024/12/09142331/holiday-lightshow-flyer-2024.png
GEO:40.577535;-90.0431547
X-APPLE-STRUCTURED-LOCATION;VALUE=URI;X-ADDRESS=Big Creek Park 950 N. Main St. Canton IL 61520 United States;X-APPLE-RADIUS=500;X-TITLE=950 N. Main St.:geo:-90.0431547,40.577535
END:VEVENT
BEGIN:VEVENT
DTSTART;TZID=America/Chicago:20241223T100000
DTEND;TZID=America/Chicago:20241223T140000
DTSTAMP:20260423T010037
CREATED:20241118T200122Z
LAST-MODIFIED:20241118T200122Z
UID:665326-1734948000-1734962400@www.wgil.com
SUMMARY:Create Curled Trees
DESCRIPTION:Enjoy making fun curled-paper trees. \nFree with admission!
URL:https://www.wgil.com/event/create-curled-trees/
LOCATION:Discovery Depot\, 128 S Chambers St\, Galesburg\, IL\, 61401\, United States
CATEGORIES:Community Events
ATTACH;FMTTYPE=image/jpeg:https://dehayf5mhw1h7.cloudfront.net/wp-content/uploads/sites/2036/2024/11/15114637/12-23-2024-e1731960071156.jpg
ORGANIZER;CN="Discovery%20Depot":MAILTO:director@discoverydepot.org
END:VEVENT
BEGIN:VEVENT
DTSTART;TZID=America/Chicago:20241224T120000
DTEND;TZID=America/Chicago:20241224T153000
DTSTAMP:20260423T010037
CREATED:20241223T232843Z
LAST-MODIFIED:20241223T232843Z
UID:667237-1735041600-1735054200@www.wgil.com
SUMMARY:Free Toys for Kids at The Haven
DESCRIPTION:The Haven has plenty of free toys left to give out to the community!\nIf you need any last-minute gifts for the kids\, swing by 419 East Main Street! We’ll be open Christmas Eve from Noon to 3:30PM!\nThe selection may be limited\, but we’re stocked up on all of them!
URL:https://www.wgil.com/event/free-toys-for-kids-at-the-haven/
LOCATION:The Haven\, 419 East Main Street\, Galesburg\, 61401
CATEGORIES:Community Events
ATTACH;FMTTYPE=image/png:https://dehayf5mhw1h7.cloudfront.net/wp-content/uploads/sites/2036/2024/12/23164130/postermaker_23122024_1636532-e1734996511666.png
END:VEVENT
BEGIN:VEVENT
DTSTART;VALUE=DATE:20241225
DTEND;VALUE=DATE:20241226
DTSTAMP:20260423T010037
CREATED:20200912T172504Z
LAST-MODIFIED:20200912T172504Z
UID:322534-1735084800-1735171199@www.wgil.com
SUMMARY:Galesburg Veterans Van
DESCRIPTION:We start running to Iowa City VA Hospital on Wednesdays and Thursdays.  Please give us a weeks notice. 309-342-7735
URL:https://www.wgil.com/event/galesburg-veterans-van-2/2024-12-25/
LOCATION:IL
CATEGORIES:Community Events
ATTACH;FMTTYPE=image/jpeg:https://dehayf5mhw1h7.cloudfront.net/wp-content/uploads/sites/2036/2020/09/12172504/7D5E0CF3-3117-4BDA-80CF-17EE7A16E44C-e1599931346207.jpeg
ORGANIZER;CN="Galesburg%20Veterans%20Van":MAILTO:Galesburgveteransvan@gmail.com
END:VEVENT
BEGIN:VEVENT
DTSTART;TZID=America/Chicago:20241225T130000
DTEND;TZID=America/Chicago:20241225T140000
DTSTAMP:20260423T010037
CREATED:20210524T132602Z
LAST-MODIFIED:20210524T132602Z
UID:322533-1735131600-1735135200@www.wgil.com
SUMMARY:St. Vincent de Paul Food Pantry
DESCRIPTION:ST VINCENT DE PAUL WEEKLY FOOD DISTRIBUTION. Weekly (Wednesdays from 1PM toll 2 PM) grocery distribution for individuals and families in need. \nCurbside service is provided as well. \nNot required to call ahead\, but calling will speed up the process. \nWill be asked whether they need a milk voucher\, number of adults and children in family and about any food restrictions. \nNUMBER TO CALL: 815-200-4911.
URL:https://www.wgil.com/event/st-vincent-de-paul-food-pantry/2024-12-25/
LOCATION:Corpus Christi Church basement\, 273 South Prairie St\, Galesburg\, IL\, 61401\, United States
CATEGORIES:Community Events
ORGANIZER;CN="St%20Vincent%20de%20Paul%20Society":MAILTO:dallind@grics.net
END:VEVENT
BEGIN:VEVENT
DTSTART;TZID=America/New_York:20241225T183000
DTEND;TZID=America/New_York:20241225T200000
DTSTAMP:20260423T010037
CREATED:20200124T193917Z
LAST-MODIFIED:20230404T104802Z
UID:322532-1735151400-1735156800@www.wgil.com
SUMMARY:Chess Club
DESCRIPTION:A chess club for players of all levels will meet at 6:30 pm on Wednesday nights at the Henderson Town Hall. There is no cost to come play\, learn and make friends.
URL:https://www.wgil.com/event/chess-club/2024-12-25/
LOCATION:Henderson Town Hall\, 215 S Main Street\, HENDERSON\, IL\, 61439\, United States
CATEGORIES:Community Events
ORGANIZER;CN="Dale%20Hidden":MAILTO:dale_hidden@yahoo.com
END:VEVENT
BEGIN:VEVENT
DTSTART;VALUE=DATE:20241226
DTEND;VALUE=DATE:20241227
DTSTAMP:20260423T010037
CREATED:20200912T172504Z
LAST-MODIFIED:20200912T172504Z
UID:322535-1735171200-1735257599@www.wgil.com
SUMMARY:Galesburg Veterans Van
DESCRIPTION:We start running to Iowa City VA Hospital on Wednesdays and Thursdays.  Please give us a weeks notice. 309-342-7735
URL:https://www.wgil.com/event/galesburg-veterans-van-2/2024-12-26/
LOCATION:IL
CATEGORIES:Community Events
ATTACH;FMTTYPE=image/jpeg:https://dehayf5mhw1h7.cloudfront.net/wp-content/uploads/sites/2036/2020/09/12172504/7D5E0CF3-3117-4BDA-80CF-17EE7A16E44C-e1599931346207.jpeg
ORGANIZER;CN="Galesburg%20Veterans%20Van":MAILTO:Galesburgveteransvan@gmail.com
END:VEVENT
BEGIN:VEVENT
DTSTART;TZID=America/Chicago:20241226T183000
DTEND;TZID=America/Chicago:20241226T203000
DTSTAMP:20260423T010037
CREATED:20241127T210403Z
LAST-MODIFIED:20241127T210403Z
UID:665798-1735237800-1735245000@www.wgil.com
SUMMARY:Elf-tastic Make & Movie Night
DESCRIPTION:Date: Thursday\, December 26\, 2024\nTime: 6-8:30PM\nCost: $10 per person\, or $20 per family of 4 (additional family members over 4\, $5 per person)\nRegistration Ends: December 20\nLocation: Lake Storey Pavilion \nJoin us for a brand new family-friendly program! Open to all ages\, including adults\, we will be playing a popular elf-tastic movie while creating crafts and snacks that follow the movie scenes! \nWe know it’s the day after Christmas\, but we want to watch this 2003 classic one more time before we have to say “Bye Buddy\, hope you find your dad!” \nRegister at: https://app.amilia.com/store/en/city-of-galesburg-pr/shop/activities/5623745
URL:https://www.wgil.com/event/elf-tastic-make-movie-night/
LOCATION:Lake Storey Pavilion\, 1572 Machen Drive\, Galesburg\, IL\, 61401\, United States
CATEGORIES:Community Events
ATTACH;FMTTYPE=image/png:https://dehayf5mhw1h7.cloudfront.net/wp-content/uploads/sites/2036/2024/11/25161808/make-movie-elf-movie-2024-fb.png
END:VEVENT
BEGIN:VEVENT
DTSTART;TZID=America/Chicago:20241227T110000
DTEND;TZID=America/Chicago:20241227T130000
DTSTAMP:20260423T010037
CREATED:20241118T200212Z
LAST-MODIFIED:20241118T200212Z
UID:665329-1735297200-1735304400@www.wgil.com
SUMMARY:Kwanza Candles
DESCRIPTION:Enjoy making Kwanza Candles with us. \nFree with admission!
URL:https://www.wgil.com/event/kwanza-candles/
LOCATION:Discovery Depot\, 128 S Chambers St\, Galesburg\, IL\, 61401\, United States
CATEGORIES:Community Events
ATTACH;FMTTYPE=image/jpeg:https://dehayf5mhw1h7.cloudfront.net/wp-content/uploads/sites/2036/2024/11/15115031/kwanza-candles-12-27-2025-e1731960122287.jpg
ORGANIZER;CN="Discovery%20Depot":MAILTO:director@discoverydepot.org
END:VEVENT
BEGIN:VEVENT
DTSTART;TZID=America/Chicago:20241227T170000
DTEND;TZID=America/Chicago:20241227T170000
DTSTAMP:20260423T010037
CREATED:20241227T163043Z
LAST-MODIFIED:20241227T163043Z
UID:667336-1735318800-1735318800@www.wgil.com
SUMMARY:Live Music Night at The Oaks in Galesburg
DESCRIPTION:Come out for food starting at 5pm and then live music with the group\, “Pope Creek”\, starting at 7:00 Friday night 12/27 at The Oaks in Galesburg.
URL:https://www.wgil.com/event/live-music-night-at-the-oaks-in-galesburg/
LOCATION:OAKS Senior Center\, 176 Farnham\, Galesburg\, IL\, United States
CATEGORIES:Community Events
END:VEVENT
BEGIN:VEVENT
DTSTART;TZID=America/Chicago:20241227T173000
DTEND;TZID=America/Chicago:20241227T203000
DTSTAMP:20260423T010037
CREATED:20241209T202411Z
LAST-MODIFIED:20241209T202411Z
UID:666677-1735320600-1735331400@www.wgil.com
SUMMARY:Canton Area Chamber of Commerce's 3rd Annual Holiday Lightshow
DESCRIPTION:To experience the 3rd Annual Holiday Lightshow\, drive through Big Creek Park\, then make your way to the new rec center parking lot. Each lightshow lasts about 15 minutes\, with music provided. \nLightshows run from December 6th thru December 29th Friday\, Saturday and Sunday nights only.\nShow times are 5:30 – 8:30 pm inside Big Creek Park in Canton\, IL.
URL:https://www.wgil.com/event/canton-area-chamber-of-commerces-3rd-annual-holiday-lightshow/2024-12-27/
LOCATION:Big Creek Park\, 950 N. Main St.\, Canton\, IL\, 61520\, United States
CATEGORIES:Community Events
ATTACH;FMTTYPE=image/png:https://dehayf5mhw1h7.cloudfront.net/wp-content/uploads/sites/2036/2024/12/09142331/holiday-lightshow-flyer-2024.png
GEO:40.577535;-90.0431547
X-APPLE-STRUCTURED-LOCATION;VALUE=URI;X-ADDRESS=Big Creek Park 950 N. Main St. Canton IL 61520 United States;X-APPLE-RADIUS=500;X-TITLE=950 N. Main St.:geo:-90.0431547,40.577535
END:VEVENT
BEGIN:VEVENT
DTSTART;TZID=America/Chicago:20241228T103000
DTEND;TZID=America/Chicago:20241228T123000
DTSTAMP:20260423T010037
CREATED:20241118T201618Z
LAST-MODIFIED:20241118T201618Z
UID:665389-1735381800-1735389000@www.wgil.com
SUMMARY:Indoor Mobile Playground
DESCRIPTION:Date: Every 2nd and 4th Saturday\, December -March\nTime: 10:30AM-12:30PM\nCost: Ages 2-12\, $4; Under 2: Free\nLocation: Lakeside Recreation Facility \nIndoor mobile playground includes jumbo yard games\, playground toys\, sports equipment\, and more. Drop-ins welcome.
URL:https://www.wgil.com/event/indoor-mobile-playground-2/2024-12-28/
LOCATION:Lakeside Recreation Facility\, 1033 S. Lake Storey Rd\, Galesburg\, IL\, 61401\, United States
CATEGORIES:Community Events
ATTACH;FMTTYPE=image/png:https://dehayf5mhw1h7.cloudfront.net/wp-content/uploads/sites/2036/2024/11/18134516/indoor-mobile-playground-dec-mar-2425-fb-e1731960955690.png
END:VEVENT
BEGIN:VEVENT
DTSTART;TZID=America/Chicago:20241228T124500
DTEND;TZID=America/Chicago:20241228T124500
DTSTAMP:20260423T010037
CREATED:20220831T050559Z
LAST-MODIFIED:20220831T050559Z
UID:322697-1735389900-1735389900@www.wgil.com
SUMMARY:BINGO at the Galesburg VFW
DESCRIPTION:Come and have some fun at the Galesburg VFW with BINGO each Saturday. Doors open at 10:30a and BINGO starts at 12:45p.
URL:https://www.wgil.com/event/bingo-at-the-galesburg-vfw-2/2024-12-28/
LOCATION:Galesburg VFW Post 2257\, 1001 Michigan ave\, Galesburg\, IL\, 61401\, United States
CATEGORIES:Community Events
END:VEVENT
BEGIN:VEVENT
DTSTART;TZID=America/Chicago:20241228T173000
DTEND;TZID=America/Chicago:20241228T203000
DTSTAMP:20260423T010037
CREATED:20241209T202411Z
LAST-MODIFIED:20241209T202411Z
UID:666678-1735407000-1735417800@www.wgil.com
SUMMARY:Canton Area Chamber of Commerce's 3rd Annual Holiday Lightshow
DESCRIPTION:To experience the 3rd Annual Holiday Lightshow\, drive through Big Creek Park\, then make your way to the new rec center parking lot. Each lightshow lasts about 15 minutes\, with music provided. \nLightshows run from December 6th thru December 29th Friday\, Saturday and Sunday nights only.\nShow times are 5:30 – 8:30 pm inside Big Creek Park in Canton\, IL.
URL:https://www.wgil.com/event/canton-area-chamber-of-commerces-3rd-annual-holiday-lightshow/2024-12-28/
LOCATION:Big Creek Park\, 950 N. Main St.\, Canton\, IL\, 61520\, United States
CATEGORIES:Community Events
ATTACH;FMTTYPE=image/png:https://dehayf5mhw1h7.cloudfront.net/wp-content/uploads/sites/2036/2024/12/09142331/holiday-lightshow-flyer-2024.png
GEO:40.577535;-90.0431547
X-APPLE-STRUCTURED-LOCATION;VALUE=URI;X-ADDRESS=Big Creek Park 950 N. Main St. Canton IL 61520 United States;X-APPLE-RADIUS=500;X-TITLE=950 N. Main St.:geo:-90.0431547,40.577535
END:VEVENT
BEGIN:VEVENT
DTSTART;TZID=America/Chicago:20241231T103000
DTEND;TZID=America/Chicago:20241231T120000
DTSTAMP:20260423T010037
CREATED:20241219T204510Z
LAST-MODIFIED:20241219T204510Z
UID:667053-1735641000-1735646400@www.wgil.com
SUMMARY:Countdown To Noon
DESCRIPTION:Celebrate the New Year with Discovery Depot’s annual balloon drop! \nCrafts\, games\, and fun with a balloon drop at noon! \nTuesday\, December 31st\n10:30am – Noon \nMembers $5.00\nNon-members $8.00
URL:https://www.wgil.com/event/countdown-to-noon-3/
LOCATION:Discovery Depot\, 128 S Chambers St\, Galesburg\, IL\, 61401\, United States
CATEGORIES:Community Events
ATTACH;FMTTYPE=image/png:https://dehayf5mhw1h7.cloudfront.net/wp-content/uploads/sites/2036/2024/12/19125557/countdown-2024-e1734641093544.png
ORGANIZER;CN="Discovery%20Depot":MAILTO:director@discoverydepot.org
END:VEVENT
BEGIN:VEVENT
DTSTART;TZID=America/Chicago:20241231T170000
DTEND;TZID=America/Chicago:20241231T210000
DTSTAMP:20260423T010037
CREATED:20241227T222634Z
LAST-MODIFIED:20241227T222634Z
UID:667345-1735664400-1735678800@www.wgil.com
SUMMARY:Country Music at the Oaks Senior Center.
DESCRIPTION:Pope Creek appearing New Years Eve. Band starting at 7 till 9. Bring a snack or finger food to share 5-8. Non-alcoholic beverages available for purchase. $5.00 Cover charge.
URL:https://www.wgil.com/event/country-music-at-the-oaks-senior-center/
LOCATION:OAKS Senior Center\, 176 Farnham\, Galesburg\, IL\, United States
CATEGORIES:Community Events
END:VEVENT
BEGIN:VEVENT
DTSTART;VALUE=DATE:20250101
DTEND;VALUE=DATE:20250102
DTSTAMP:20260423T010037
CREATED:20200912T172504Z
LAST-MODIFIED:20200912T172504Z
UID:322796-1735689600-1735775999@www.wgil.com
SUMMARY:Galesburg Veterans Van
DESCRIPTION:We start running to Iowa City VA Hospital on Wednesdays and Thursdays.  Please give us a weeks notice. 309-342-7735
URL:https://www.wgil.com/event/galesburg-veterans-van-2/2025-01-01/
LOCATION:IL
CATEGORIES:Community Events
ATTACH;FMTTYPE=image/jpeg:https://dehayf5mhw1h7.cloudfront.net/wp-content/uploads/sites/2036/2020/09/12172504/7D5E0CF3-3117-4BDA-80CF-17EE7A16E44C-e1599931346207.jpeg
ORGANIZER;CN="Galesburg%20Veterans%20Van":MAILTO:Galesburgveteransvan@gmail.com
END:VEVENT
BEGIN:VEVENT
DTSTART;TZID=America/Chicago:20250101T130000
DTEND;TZID=America/Chicago:20250101T140000
DTSTAMP:20260423T010037
CREATED:20210524T132602Z
LAST-MODIFIED:20210524T132602Z
UID:322795-1735736400-1735740000@www.wgil.com
SUMMARY:St. Vincent de Paul Food Pantry
DESCRIPTION:ST VINCENT DE PAUL WEEKLY FOOD DISTRIBUTION. Weekly (Wednesdays from 1PM toll 2 PM) grocery distribution for individuals and families in need. \nCurbside service is provided as well. \nNot required to call ahead\, but calling will speed up the process. \nWill be asked whether they need a milk voucher\, number of adults and children in family and about any food restrictions. \nNUMBER TO CALL: 815-200-4911.
URL:https://www.wgil.com/event/st-vincent-de-paul-food-pantry/2025-01-01/
LOCATION:Corpus Christi Church basement\, 273 South Prairie St\, Galesburg\, IL\, 61401\, United States
CATEGORIES:Community Events
ORGANIZER;CN="St%20Vincent%20de%20Paul%20Society":MAILTO:dallind@grics.net
END:VEVENT
BEGIN:VEVENT
DTSTART;TZID=America/New_York:20250101T183000
DTEND;TZID=America/New_York:20250101T200000
DTSTAMP:20260423T010037
CREATED:20200124T193917Z
LAST-MODIFIED:20230404T104803Z
UID:322794-1735756200-1735761600@www.wgil.com
SUMMARY:Chess Club
DESCRIPTION:A chess club for players of all levels will meet at 6:30 pm on Wednesday nights at the Henderson Town Hall. There is no cost to come play\, learn and make friends.
URL:https://www.wgil.com/event/chess-club/2025-01-01/
LOCATION:Henderson Town Hall\, 215 S Main Street\, HENDERSON\, IL\, 61439\, United States
CATEGORIES:Community Events
ORGANIZER;CN="Dale%20Hidden":MAILTO:dale_hidden@yahoo.com
END:VEVENT
BEGIN:VEVENT
DTSTART;VALUE=DATE:20250102
DTEND;VALUE=DATE:20250103
DTSTAMP:20260423T010037
CREATED:20200912T172504Z
LAST-MODIFIED:20200912T172504Z
UID:322797-1735776000-1735862399@www.wgil.com
SUMMARY:Galesburg Veterans Van
DESCRIPTION:We start running to Iowa City VA Hospital on Wednesdays and Thursdays.  Please give us a weeks notice. 309-342-7735
URL:https://www.wgil.com/event/galesburg-veterans-van-2/2025-01-02/
LOCATION:IL
CATEGORIES:Community Events
ATTACH;FMTTYPE=image/jpeg:https://dehayf5mhw1h7.cloudfront.net/wp-content/uploads/sites/2036/2020/09/12172504/7D5E0CF3-3117-4BDA-80CF-17EE7A16E44C-e1599931346207.jpeg
ORGANIZER;CN="Galesburg%20Veterans%20Van":MAILTO:Galesburgveteransvan@gmail.com
END:VEVENT
BEGIN:VEVENT
DTSTART;TZID=America/Chicago:20250102T130000
DTEND;TZID=America/Chicago:20250102T143000
DTSTAMP:20260423T010037
CREATED:20241127T210510Z
LAST-MODIFIED:20241127T210510Z
UID:665801-1735822800-1735828200@www.wgil.com
SUMMARY:Ooey Gooey Science
DESCRIPTION:Date: January 2\, 2025\nTime: 1-2:30PM\nCost: $5 per person by December 30\nAges: 5-13 years old\nLocation: Lakeside Recreation Facility \nSchool Day off? Don’t sit around the house! Come to Lakeside Recreation Facility and have some fun! \nOoey Gooey Science! Join us for some sub-zero science fun! \nPlease note that this is not a drop-off program for ages 8 and under. \nRegister at: https://app.amilia.com/store/en/city-of-galesburg-pr/shop/activities/5624086
URL:https://www.wgil.com/event/ooey-gooey-science-2/
LOCATION:Lakeside Recreation Facility\, 1033 S. Lake Storey Rd\, Galesburg\, IL\, 61401\, United States
CATEGORIES:Community Events
ATTACH;FMTTYPE=image/png:https://dehayf5mhw1h7.cloudfront.net/wp-content/uploads/sites/2036/2024/11/25162103/ooey-gooey-science-2024-fb.png
END:VEVENT
BEGIN:VEVENT
DTSTART;TZID=America/Chicago:20250103T110000
DTEND;TZID=America/Chicago:20250103T133000
DTSTAMP:20260423T010037
CREATED:20241118T200311Z
LAST-MODIFIED:20241118T200311Z
UID:665333-1735902000-1735911000@www.wgil.com
SUMMARY:Science Saturday: Snowstorm in a Jar
DESCRIPTION:Enjoy making a jar snowstorm craft. \n$1 with admission.
URL:https://www.wgil.com/event/science-saturday-snowstorm-in-a-jar/
LOCATION:Discovery Depot\, 128 S Chambers St\, Galesburg\, IL\, 61401\, United States
CATEGORIES:Community Events
ATTACH;FMTTYPE=image/jpeg:https://dehayf5mhw1h7.cloudfront.net/wp-content/uploads/sites/2036/2024/11/15125940/snowstorm-in-a-jar-01-03-2025-e1731960179904.jpg
ORGANIZER;CN="Discovery%20Depot":MAILTO:director@discoverydepot.org
END:VEVENT
BEGIN:VEVENT
DTSTART;TZID=America/Chicago:20250104T124500
DTEND;TZID=America/Chicago:20250104T124500
DTSTAMP:20260423T010037
CREATED:20220831T050559Z
LAST-MODIFIED:20220831T050559Z
UID:322934-1735994700-1735994700@www.wgil.com
SUMMARY:BINGO at the Galesburg VFW
DESCRIPTION:Come and have some fun at the Galesburg VFW with BINGO each Saturday. Doors open at 10:30a and BINGO starts at 12:45p.
URL:https://www.wgil.com/event/bingo-at-the-galesburg-vfw-2/2025-01-04/
LOCATION:Galesburg VFW Post 2257\, 1001 Michigan ave\, Galesburg\, IL\, 61401\, United States
CATEGORIES:Community Events
END:VEVENT
BEGIN:VEVENT
DTSTART;TZID=America/Chicago:20250106T080000
DTEND;TZID=America/Chicago:20250117T210000
DTSTAMP:20260423T010037
CREATED:20250106T202839Z
LAST-MODIFIED:20250106T202839Z
UID:667689-1736150400-1737147600@www.wgil.com
SUMMARY:Give Back\, Galesburg Gold-Out Game T-Shirts
DESCRIPTION:Give Back\, Galesburg Gold-Out Game is Friday\, Jan. 31 vs. UTHS @ GHS. \nT-Shirts to support the event are on sale until Friday\, Jan. 17. Proceeds support the OSF Kleine Pediatric Wellness Center.
URL:https://www.wgil.com/event/give-back-galesburg-gold-out-game-t-shirts-3/
LOCATION:GHS Thiel Gymnasium\, 1135 W. Fremont St.\, Galesburg\, IL\, 61401\, United States
CATEGORIES:Community Events
ATTACH;FMTTYPE=image/jpeg:https://dehayf5mhw1h7.cloudfront.net/wp-content/uploads/sites/2036/2025/01/05155617/gold-out-t-shirts-2025-e1736195306392.jpg
ORGANIZER;CN="Give%20Back%2C%20Galesburg":MAILTO:givebackgalesburg@gmail.com
GEO:40.9635572;-90.3885207
X-APPLE-STRUCTURED-LOCATION;VALUE=URI;X-ADDRESS=GHS Thiel Gymnasium 1135 W. Fremont St. Galesburg IL 61401 United States;X-APPLE-RADIUS=500;X-TITLE=1135 W. Fremont St.:geo:-90.3885207,40.9635572
END:VEVENT
BEGIN:VEVENT
DTSTART;VALUE=DATE:20250108
DTEND;VALUE=DATE:20250109
DTSTAMP:20260423T010037
CREATED:20200912T172504Z
LAST-MODIFIED:20200912T172504Z
UID:323060-1736294400-1736380799@www.wgil.com
SUMMARY:Galesburg Veterans Van
DESCRIPTION:We start running to Iowa City VA Hospital on Wednesdays and Thursdays.  Please give us a weeks notice. 309-342-7735
URL:https://www.wgil.com/event/galesburg-veterans-van-2/2025-01-08/
LOCATION:IL
CATEGORIES:Community Events
ATTACH;FMTTYPE=image/jpeg:https://dehayf5mhw1h7.cloudfront.net/wp-content/uploads/sites/2036/2020/09/12172504/7D5E0CF3-3117-4BDA-80CF-17EE7A16E44C-e1599931346207.jpeg
ORGANIZER;CN="Galesburg%20Veterans%20Van":MAILTO:Galesburgveteransvan@gmail.com
END:VEVENT
BEGIN:VEVENT
DTSTART;TZID=America/Chicago:20250108T130000
DTEND;TZID=America/Chicago:20250108T140000
DTSTAMP:20260423T010037
CREATED:20210524T132602Z
LAST-MODIFIED:20210524T132602Z
UID:323059-1736341200-1736344800@www.wgil.com
SUMMARY:St. Vincent de Paul Food Pantry
DESCRIPTION:ST VINCENT DE PAUL WEEKLY FOOD DISTRIBUTION. Weekly (Wednesdays from 1PM toll 2 PM) grocery distribution for individuals and families in need. \nCurbside service is provided as well. \nNot required to call ahead\, but calling will speed up the process. \nWill be asked whether they need a milk voucher\, number of adults and children in family and about any food restrictions. \nNUMBER TO CALL: 815-200-4911.
URL:https://www.wgil.com/event/st-vincent-de-paul-food-pantry/2025-01-08/
LOCATION:Corpus Christi Church basement\, 273 South Prairie St\, Galesburg\, IL\, 61401\, United States
CATEGORIES:Community Events
ORGANIZER;CN="St%20Vincent%20de%20Paul%20Society":MAILTO:dallind@grics.net
END:VEVENT
BEGIN:VEVENT
DTSTART;TZID=America/New_York:20250108T183000
DTEND;TZID=America/New_York:20250108T200000
DTSTAMP:20260423T010037
CREATED:20200124T193917Z
LAST-MODIFIED:20230404T104804Z
UID:323058-1736361000-1736366400@www.wgil.com
SUMMARY:Chess Club
DESCRIPTION:A chess club for players of all levels will meet at 6:30 pm on Wednesday nights at the Henderson Town Hall. There is no cost to come play\, learn and make friends.
URL:https://www.wgil.com/event/chess-club/2025-01-08/
LOCATION:Henderson Town Hall\, 215 S Main Street\, HENDERSON\, IL\, 61439\, United States
CATEGORIES:Community Events
ORGANIZER;CN="Dale%20Hidden":MAILTO:dale_hidden@yahoo.com
END:VEVENT
BEGIN:VEVENT
DTSTART;VALUE=DATE:20250109
DTEND;VALUE=DATE:20250110
DTSTAMP:20260423T010037
CREATED:20200912T172504Z
LAST-MODIFIED:20200912T172504Z
UID:323061-1736380800-1736467199@www.wgil.com
SUMMARY:Galesburg Veterans Van
DESCRIPTION:We start running to Iowa City VA Hospital on Wednesdays and Thursdays.  Please give us a weeks notice. 309-342-7735
URL:https://www.wgil.com/event/galesburg-veterans-van-2/2025-01-09/
LOCATION:IL
CATEGORIES:Community Events
ATTACH;FMTTYPE=image/jpeg:https://dehayf5mhw1h7.cloudfront.net/wp-content/uploads/sites/2036/2020/09/12172504/7D5E0CF3-3117-4BDA-80CF-17EE7A16E44C-e1599931346207.jpeg
ORGANIZER;CN="Galesburg%20Veterans%20Van":MAILTO:Galesburgveteransvan@gmail.com
END:VEVENT
BEGIN:VEVENT
DTSTART;TZID=America/Chicago:20250109T130000
DTEND;TZID=America/Chicago:20250109T140000
DTSTAMP:20260423T010037
CREATED:20240207T190358Z
LAST-MODIFIED:20240207T190358Z
UID:648666-1736427600-1736431200@www.wgil.com
SUMMARY:First Lutheran Church Food Pantry
DESCRIPTION:First Lutheran Church Food Pantry\, 364 E. Water St.\, Galesburg.
URL:https://www.wgil.com/event/first-lutheran-church-food-pantry/2025-01-09/
LOCATION:First Lutheran Church\, 364 E. Water St.\, Galesburg\, IL\, 61401\, United States
CATEGORIES:Community Events
ATTACH;FMTTYPE=image/jpeg:https://dehayf5mhw1h7.cloudfront.net/wp-content/uploads/sites/2036/2020/05/27162250/first-lutheran-church-food-pantry.jpg
GEO:40.9495812;-90.3650888
X-APPLE-STRUCTURED-LOCATION;VALUE=URI;X-ADDRESS=First Lutheran Church 364 E. Water St. Galesburg IL 61401 United States;X-APPLE-RADIUS=500;X-TITLE=364 E. Water St.:geo:-90.3650888,40.9495812
END:VEVENT
END:VCALENDAR