BEGIN:VCALENDAR
VERSION:2.0
PRODID:-//WGIL 93.7 FM - 1400 AM - ECPv5.6.0//NONSGML v1.0//EN
CALSCALE:GREGORIAN
METHOD:PUBLISH
X-WR-CALNAME:WGIL 93.7 FM - 1400 AM
X-ORIGINAL-URL:https://www.wgil.com
X-WR-CALDESC:Events for WGIL 93.7 FM - 1400 AM
BEGIN:VTIMEZONE
TZID:America/Chicago
BEGIN:DAYLIGHT
TZOFFSETFROM:-0600
TZOFFSETTO:-0500
TZNAME:CDT
DTSTART:20240310T080000
END:DAYLIGHT
BEGIN:STANDARD
TZOFFSETFROM:-0500
TZOFFSETTO:-0600
TZNAME:CST
DTSTART:20241103T070000
END:STANDARD
END:VTIMEZONE
BEGIN:VEVENT
DTSTART;TZID=America/Chicago:20241228T173000
DTEND;TZID=America/Chicago:20241228T203000
DTSTAMP:20260422T225546
CREATED:20241209T202411Z
LAST-MODIFIED:20241209T202411Z
UID:666678-1735407000-1735417800@www.wgil.com
SUMMARY:Canton Area Chamber of Commerce's 3rd Annual Holiday Lightshow
DESCRIPTION:To experience the 3rd Annual Holiday Lightshow\, drive through Big Creek Park\, then make your way to the new rec center parking lot. Each lightshow lasts about 15 minutes\, with music provided. \nLightshows run from December 6th thru December 29th Friday\, Saturday and Sunday nights only.\nShow times are 5:30 – 8:30 pm inside Big Creek Park in Canton\, IL.
URL:https://www.wgil.com/event/canton-area-chamber-of-commerces-3rd-annual-holiday-lightshow/2024-12-28/
LOCATION:Big Creek Park\, 950 N. Main St.\, Canton\, IL\, 61520\, United States
CATEGORIES:Community Events
ATTACH;FMTTYPE=image/png:https://dehayf5mhw1h7.cloudfront.net/wp-content/uploads/sites/2036/2024/12/09142331/holiday-lightshow-flyer-2024.png
GEO:40.577535;-90.0431547
X-APPLE-STRUCTURED-LOCATION;VALUE=URI;X-ADDRESS=Big Creek Park 950 N. Main St. Canton IL 61520 United States;X-APPLE-RADIUS=500;X-TITLE=950 N. Main St.:geo:-90.0431547,40.577535
END:VEVENT
BEGIN:VEVENT
DTSTART;TZID=America/Chicago:20241227T173000
DTEND;TZID=America/Chicago:20241227T203000
DTSTAMP:20260422T225546
CREATED:20241209T202411Z
LAST-MODIFIED:20241209T202411Z
UID:666677-1735320600-1735331400@www.wgil.com
SUMMARY:Canton Area Chamber of Commerce's 3rd Annual Holiday Lightshow
DESCRIPTION:To experience the 3rd Annual Holiday Lightshow\, drive through Big Creek Park\, then make your way to the new rec center parking lot. Each lightshow lasts about 15 minutes\, with music provided. \nLightshows run from December 6th thru December 29th Friday\, Saturday and Sunday nights only.\nShow times are 5:30 – 8:30 pm inside Big Creek Park in Canton\, IL.
URL:https://www.wgil.com/event/canton-area-chamber-of-commerces-3rd-annual-holiday-lightshow/2024-12-27/
LOCATION:Big Creek Park\, 950 N. Main St.\, Canton\, IL\, 61520\, United States
CATEGORIES:Community Events
ATTACH;FMTTYPE=image/png:https://dehayf5mhw1h7.cloudfront.net/wp-content/uploads/sites/2036/2024/12/09142331/holiday-lightshow-flyer-2024.png
GEO:40.577535;-90.0431547
X-APPLE-STRUCTURED-LOCATION;VALUE=URI;X-ADDRESS=Big Creek Park 950 N. Main St. Canton IL 61520 United States;X-APPLE-RADIUS=500;X-TITLE=950 N. Main St.:geo:-90.0431547,40.577535
END:VEVENT
BEGIN:VEVENT
DTSTART;TZID=America/Chicago:20241222T173000
DTEND;TZID=America/Chicago:20241222T203000
DTSTAMP:20260422T225546
CREATED:20241209T202411Z
LAST-MODIFIED:20241209T202411Z
UID:666676-1734888600-1734899400@www.wgil.com
SUMMARY:Canton Area Chamber of Commerce's 3rd Annual Holiday Lightshow
DESCRIPTION:To experience the 3rd Annual Holiday Lightshow\, drive through Big Creek Park\, then make your way to the new rec center parking lot. Each lightshow lasts about 15 minutes\, with music provided. \nLightshows run from December 6th thru December 29th Friday\, Saturday and Sunday nights only.\nShow times are 5:30 – 8:30 pm inside Big Creek Park in Canton\, IL.
URL:https://www.wgil.com/event/canton-area-chamber-of-commerces-3rd-annual-holiday-lightshow/2024-12-22/
LOCATION:Big Creek Park\, 950 N. Main St.\, Canton\, IL\, 61520\, United States
CATEGORIES:Community Events
ATTACH;FMTTYPE=image/png:https://dehayf5mhw1h7.cloudfront.net/wp-content/uploads/sites/2036/2024/12/09142331/holiday-lightshow-flyer-2024.png
GEO:40.577535;-90.0431547
X-APPLE-STRUCTURED-LOCATION;VALUE=URI;X-ADDRESS=Big Creek Park 950 N. Main St. Canton IL 61520 United States;X-APPLE-RADIUS=500;X-TITLE=950 N. Main St.:geo:-90.0431547,40.577535
END:VEVENT
BEGIN:VEVENT
DTSTART;TZID=America/Chicago:20241221T173000
DTEND;TZID=America/Chicago:20241221T203000
DTSTAMP:20260422T225546
CREATED:20241209T202411Z
LAST-MODIFIED:20241209T202411Z
UID:666675-1734802200-1734813000@www.wgil.com
SUMMARY:Canton Area Chamber of Commerce's 3rd Annual Holiday Lightshow
DESCRIPTION:To experience the 3rd Annual Holiday Lightshow\, drive through Big Creek Park\, then make your way to the new rec center parking lot. Each lightshow lasts about 15 minutes\, with music provided. \nLightshows run from December 6th thru December 29th Friday\, Saturday and Sunday nights only.\nShow times are 5:30 – 8:30 pm inside Big Creek Park in Canton\, IL.
URL:https://www.wgil.com/event/canton-area-chamber-of-commerces-3rd-annual-holiday-lightshow/2024-12-21/
LOCATION:Big Creek Park\, 950 N. Main St.\, Canton\, IL\, 61520\, United States
CATEGORIES:Community Events
ATTACH;FMTTYPE=image/png:https://dehayf5mhw1h7.cloudfront.net/wp-content/uploads/sites/2036/2024/12/09142331/holiday-lightshow-flyer-2024.png
GEO:40.577535;-90.0431547
X-APPLE-STRUCTURED-LOCATION;VALUE=URI;X-ADDRESS=Big Creek Park 950 N. Main St. Canton IL 61520 United States;X-APPLE-RADIUS=500;X-TITLE=950 N. Main St.:geo:-90.0431547,40.577535
END:VEVENT
BEGIN:VEVENT
DTSTART;TZID=America/Chicago:20241220T173000
DTEND;TZID=America/Chicago:20241220T203000
DTSTAMP:20260422T225546
CREATED:20241209T202411Z
LAST-MODIFIED:20241209T202411Z
UID:666674-1734715800-1734726600@www.wgil.com
SUMMARY:Canton Area Chamber of Commerce's 3rd Annual Holiday Lightshow
DESCRIPTION:To experience the 3rd Annual Holiday Lightshow\, drive through Big Creek Park\, then make your way to the new rec center parking lot. Each lightshow lasts about 15 minutes\, with music provided. \nLightshows run from December 6th thru December 29th Friday\, Saturday and Sunday nights only.\nShow times are 5:30 – 8:30 pm inside Big Creek Park in Canton\, IL.
URL:https://www.wgil.com/event/canton-area-chamber-of-commerces-3rd-annual-holiday-lightshow/2024-12-20/
LOCATION:Big Creek Park\, 950 N. Main St.\, Canton\, IL\, 61520\, United States
CATEGORIES:Community Events
ATTACH;FMTTYPE=image/png:https://dehayf5mhw1h7.cloudfront.net/wp-content/uploads/sites/2036/2024/12/09142331/holiday-lightshow-flyer-2024.png
GEO:40.577535;-90.0431547
X-APPLE-STRUCTURED-LOCATION;VALUE=URI;X-ADDRESS=Big Creek Park 950 N. Main St. Canton IL 61520 United States;X-APPLE-RADIUS=500;X-TITLE=950 N. Main St.:geo:-90.0431547,40.577535
END:VEVENT
BEGIN:VEVENT
DTSTART;TZID=America/Chicago:20241215T173000
DTEND;TZID=America/Chicago:20241215T203000
DTSTAMP:20260422T225546
CREATED:20241209T202411Z
LAST-MODIFIED:20241209T202411Z
UID:666673-1734283800-1734294600@www.wgil.com
SUMMARY:Canton Area Chamber of Commerce's 3rd Annual Holiday Lightshow
DESCRIPTION:To experience the 3rd Annual Holiday Lightshow\, drive through Big Creek Park\, then make your way to the new rec center parking lot. Each lightshow lasts about 15 minutes\, with music provided. \nLightshows run from December 6th thru December 29th Friday\, Saturday and Sunday nights only.\nShow times are 5:30 – 8:30 pm inside Big Creek Park in Canton\, IL.
URL:https://www.wgil.com/event/canton-area-chamber-of-commerces-3rd-annual-holiday-lightshow/2024-12-15/
LOCATION:Big Creek Park\, 950 N. Main St.\, Canton\, IL\, 61520\, United States
CATEGORIES:Community Events
ATTACH;FMTTYPE=image/png:https://dehayf5mhw1h7.cloudfront.net/wp-content/uploads/sites/2036/2024/12/09142331/holiday-lightshow-flyer-2024.png
GEO:40.577535;-90.0431547
X-APPLE-STRUCTURED-LOCATION;VALUE=URI;X-ADDRESS=Big Creek Park 950 N. Main St. Canton IL 61520 United States;X-APPLE-RADIUS=500;X-TITLE=950 N. Main St.:geo:-90.0431547,40.577535
END:VEVENT
BEGIN:VEVENT
DTSTART;TZID=America/Chicago:20241214T173000
DTEND;TZID=America/Chicago:20241214T203000
DTSTAMP:20260422T225546
CREATED:20241209T202411Z
LAST-MODIFIED:20241209T202411Z
UID:666672-1734197400-1734208200@www.wgil.com
SUMMARY:Canton Area Chamber of Commerce's 3rd Annual Holiday Lightshow
DESCRIPTION:To experience the 3rd Annual Holiday Lightshow\, drive through Big Creek Park\, then make your way to the new rec center parking lot. Each lightshow lasts about 15 minutes\, with music provided. \nLightshows run from December 6th thru December 29th Friday\, Saturday and Sunday nights only.\nShow times are 5:30 – 8:30 pm inside Big Creek Park in Canton\, IL.
URL:https://www.wgil.com/event/canton-area-chamber-of-commerces-3rd-annual-holiday-lightshow/2024-12-14/
LOCATION:Big Creek Park\, 950 N. Main St.\, Canton\, IL\, 61520\, United States
CATEGORIES:Community Events
ATTACH;FMTTYPE=image/png:https://dehayf5mhw1h7.cloudfront.net/wp-content/uploads/sites/2036/2024/12/09142331/holiday-lightshow-flyer-2024.png
GEO:40.577535;-90.0431547
X-APPLE-STRUCTURED-LOCATION;VALUE=URI;X-ADDRESS=Big Creek Park 950 N. Main St. Canton IL 61520 United States;X-APPLE-RADIUS=500;X-TITLE=950 N. Main St.:geo:-90.0431547,40.577535
END:VEVENT
BEGIN:VEVENT
DTSTART;TZID=America/Chicago:20241213T173000
DTEND;TZID=America/Chicago:20241213T203000
DTSTAMP:20260422T225546
CREATED:20241209T202411Z
LAST-MODIFIED:20241209T202411Z
UID:666671-1734111000-1734121800@www.wgil.com
SUMMARY:Canton Area Chamber of Commerce's 3rd Annual Holiday Lightshow
DESCRIPTION:To experience the 3rd Annual Holiday Lightshow\, drive through Big Creek Park\, then make your way to the new rec center parking lot. Each lightshow lasts about 15 minutes\, with music provided. \nLightshows run from December 6th thru December 29th Friday\, Saturday and Sunday nights only.\nShow times are 5:30 – 8:30 pm inside Big Creek Park in Canton\, IL.
URL:https://www.wgil.com/event/canton-area-chamber-of-commerces-3rd-annual-holiday-lightshow/2024-12-13/
LOCATION:Big Creek Park\, 950 N. Main St.\, Canton\, IL\, 61520\, United States
CATEGORIES:Community Events
ATTACH;FMTTYPE=image/png:https://dehayf5mhw1h7.cloudfront.net/wp-content/uploads/sites/2036/2024/12/09142331/holiday-lightshow-flyer-2024.png
GEO:40.577535;-90.0431547
X-APPLE-STRUCTURED-LOCATION;VALUE=URI;X-ADDRESS=Big Creek Park 950 N. Main St. Canton IL 61520 United States;X-APPLE-RADIUS=500;X-TITLE=950 N. Main St.:geo:-90.0431547,40.577535
END:VEVENT
BEGIN:VEVENT
DTSTART;TZID=America/Chicago:20241208T173000
DTEND;TZID=America/Chicago:20241208T203000
DTSTAMP:20260422T225546
CREATED:20241209T202411Z
LAST-MODIFIED:20241209T202411Z
UID:666670-1733679000-1733689800@www.wgil.com
SUMMARY:Canton Area Chamber of Commerce's 3rd Annual Holiday Lightshow
DESCRIPTION:To experience the 3rd Annual Holiday Lightshow\, drive through Big Creek Park\, then make your way to the new rec center parking lot. Each lightshow lasts about 15 minutes\, with music provided. \nLightshows run from December 6th thru December 29th Friday\, Saturday and Sunday nights only.\nShow times are 5:30 – 8:30 pm inside Big Creek Park in Canton\, IL.
URL:https://www.wgil.com/event/canton-area-chamber-of-commerces-3rd-annual-holiday-lightshow/2024-12-08/
LOCATION:Big Creek Park\, 950 N. Main St.\, Canton\, IL\, 61520\, United States
CATEGORIES:Community Events
ATTACH;FMTTYPE=image/png:https://dehayf5mhw1h7.cloudfront.net/wp-content/uploads/sites/2036/2024/12/09142331/holiday-lightshow-flyer-2024.png
GEO:40.577535;-90.0431547
X-APPLE-STRUCTURED-LOCATION;VALUE=URI;X-ADDRESS=Big Creek Park 950 N. Main St. Canton IL 61520 United States;X-APPLE-RADIUS=500;X-TITLE=950 N. Main St.:geo:-90.0431547,40.577535
END:VEVENT
BEGIN:VEVENT
DTSTART;TZID=America/Chicago:20241207T173000
DTEND;TZID=America/Chicago:20241207T203000
DTSTAMP:20260422T225546
CREATED:20241209T202411Z
LAST-MODIFIED:20241209T202411Z
UID:666669-1733592600-1733603400@www.wgil.com
SUMMARY:Canton Area Chamber of Commerce's 3rd Annual Holiday Lightshow
DESCRIPTION:To experience the 3rd Annual Holiday Lightshow\, drive through Big Creek Park\, then make your way to the new rec center parking lot. Each lightshow lasts about 15 minutes\, with music provided. \nLightshows run from December 6th thru December 29th Friday\, Saturday and Sunday nights only.\nShow times are 5:30 – 8:30 pm inside Big Creek Park in Canton\, IL.
URL:https://www.wgil.com/event/canton-area-chamber-of-commerces-3rd-annual-holiday-lightshow/2024-12-07/
LOCATION:Big Creek Park\, 950 N. Main St.\, Canton\, IL\, 61520\, United States
CATEGORIES:Community Events
ATTACH;FMTTYPE=image/png:https://dehayf5mhw1h7.cloudfront.net/wp-content/uploads/sites/2036/2024/12/09142331/holiday-lightshow-flyer-2024.png
GEO:40.577535;-90.0431547
X-APPLE-STRUCTURED-LOCATION;VALUE=URI;X-ADDRESS=Big Creek Park 950 N. Main St. Canton IL 61520 United States;X-APPLE-RADIUS=500;X-TITLE=950 N. Main St.:geo:-90.0431547,40.577535
END:VEVENT
BEGIN:VEVENT
DTSTART;TZID=America/Chicago:20241206T173000
DTEND;TZID=America/Chicago:20241206T203000
DTSTAMP:20260422T225546
CREATED:20241209T202411Z
LAST-MODIFIED:20241209T202411Z
UID:666667-1733506200-1733517000@www.wgil.com
SUMMARY:Canton Area Chamber of Commerce's 3rd Annual Holiday Lightshow
DESCRIPTION:To experience the 3rd Annual Holiday Lightshow\, drive through Big Creek Park\, then make your way to the new rec center parking lot. Each lightshow lasts about 15 minutes\, with music provided. \nLightshows run from December 6th thru December 29th Friday\, Saturday and Sunday nights only.\nShow times are 5:30 – 8:30 pm inside Big Creek Park in Canton\, IL.
URL:https://www.wgil.com/event/canton-area-chamber-of-commerces-3rd-annual-holiday-lightshow/
LOCATION:Big Creek Park\, 950 N. Main St.\, Canton\, IL\, 61520\, United States
CATEGORIES:Community Events
ATTACH;FMTTYPE=image/png:https://dehayf5mhw1h7.cloudfront.net/wp-content/uploads/sites/2036/2024/12/09142331/holiday-lightshow-flyer-2024.png
GEO:40.577535;-90.0431547
X-APPLE-STRUCTURED-LOCATION;VALUE=URI;X-ADDRESS=Big Creek Park 950 N. Main St. Canton IL 61520 United States;X-APPLE-RADIUS=500;X-TITLE=950 N. Main St.:geo:-90.0431547,40.577535
END:VEVENT
END:VCALENDAR