BEGIN:VCALENDAR
VERSION:2.0
PRODID:-//WGIL 93.7 FM - 1400 AM - ECPv5.6.0//NONSGML v1.0//EN
CALSCALE:GREGORIAN
METHOD:PUBLISH
X-WR-CALNAME:WGIL 93.7 FM - 1400 AM
X-ORIGINAL-URL:https://www.wgil.com
X-WR-CALDESC:Events for WGIL 93.7 FM - 1400 AM
BEGIN:VTIMEZONE
TZID:America/Chicago
BEGIN:DAYLIGHT
TZOFFSETFROM:-0600
TZOFFSETTO:-0500
TZNAME:CDT
DTSTART:20240310T080000
END:DAYLIGHT
BEGIN:STANDARD
TZOFFSETFROM:-0500
TZOFFSETTO:-0600
TZNAME:CST
DTSTART:20241103T070000
END:STANDARD
END:VTIMEZONE
BEGIN:VEVENT
DTSTART;TZID=America/Chicago:20240711T130000
DTEND;TZID=America/Chicago:20240711T150000
DTSTAMP:20260425T104757
CREATED:20240528T174457Z
LAST-MODIFIED:20240528T174457Z
UID:654705-1720702800-1720710000@www.wgil.com
SUMMARY:Crazy Art Camp at Discovery Depot!
DESCRIPTION:July 9\,10\,11th 1:00-3:00pm\nAges 7-12 years\n$50 members/$55 non-members
URL:https://www.wgil.com/event/crazy-art-camp-at-discovery-depot/2024-07-11/
LOCATION:Discovery Depot\, 128 S Chambers St\, Galesburg\, IL\, 61401\, United States
CATEGORIES:Community Events
ATTACH;FMTTYPE=image/png:https://dehayf5mhw1h7.cloudfront.net/wp-content/uploads/sites/2036/2024/05/22125156/Crazy-Art-Camp-e1716918258627.png
ORGANIZER;CN="Discovery%20Depot":MAILTO:director@discoverydepot.org
END:VEVENT
BEGIN:VEVENT
DTSTART;TZID=America/Chicago:20240710T130000
DTEND;TZID=America/Chicago:20240710T150000
DTSTAMP:20260425T104757
CREATED:20240528T174456Z
LAST-MODIFIED:20240528T174456Z
UID:654704-1720616400-1720623600@www.wgil.com
SUMMARY:Crazy Art Camp at Discovery Depot!
DESCRIPTION:July 9\,10\,11th 1:00-3:00pm\nAges 7-12 years\n$50 members/$55 non-members
URL:https://www.wgil.com/event/crazy-art-camp-at-discovery-depot/2024-07-10/
LOCATION:Discovery Depot\, 128 S Chambers St\, Galesburg\, IL\, 61401\, United States
CATEGORIES:Community Events
ATTACH;FMTTYPE=image/png:https://dehayf5mhw1h7.cloudfront.net/wp-content/uploads/sites/2036/2024/05/22125156/Crazy-Art-Camp-e1716918258627.png
ORGANIZER;CN="Discovery%20Depot":MAILTO:director@discoverydepot.org
END:VEVENT
BEGIN:VEVENT
DTSTART;TZID=America/Chicago:20240709T130000
DTEND;TZID=America/Chicago:20240709T150000
DTSTAMP:20260425T104757
CREATED:20240528T174455Z
LAST-MODIFIED:20240528T174455Z
UID:654702-1720530000-1720537200@www.wgil.com
SUMMARY:Crazy Art Camp at Discovery Depot!
DESCRIPTION:July 9\,10\,11th 1:00-3:00pm\nAges 7-12 years\n$50 members/$55 non-members
URL:https://www.wgil.com/event/crazy-art-camp-at-discovery-depot/
LOCATION:Discovery Depot\, 128 S Chambers St\, Galesburg\, IL\, 61401\, United States
CATEGORIES:Community Events
ATTACH;FMTTYPE=image/png:https://dehayf5mhw1h7.cloudfront.net/wp-content/uploads/sites/2036/2024/05/22125156/Crazy-Art-Camp-e1716918258627.png
ORGANIZER;CN="Discovery%20Depot":MAILTO:director@discoverydepot.org
END:VEVENT
END:VCALENDAR