BEGIN:VCALENDAR
VERSION:2.0
PRODID:-//WGIL 93.7 FM - 1400 AM - ECPv5.6.0//NONSGML v1.0//EN
CALSCALE:GREGORIAN
METHOD:PUBLISH
X-WR-CALNAME:WGIL 93.7 FM - 1400 AM
X-ORIGINAL-URL:https://www.wgil.com
X-WR-CALDESC:Events for WGIL 93.7 FM - 1400 AM
BEGIN:VTIMEZONE
TZID:America/Chicago
BEGIN:DAYLIGHT
TZOFFSETFROM:-0600
TZOFFSETTO:-0500
TZNAME:CDT
DTSTART:20260308T080000
END:DAYLIGHT
BEGIN:STANDARD
TZOFFSETFROM:-0500
TZOFFSETTO:-0600
TZNAME:CST
DTSTART:20261101T070000
END:STANDARD
TZID:America/New_York
BEGIN:DAYLIGHT
TZOFFSETFROM:-0500
TZOFFSETTO:-0400
TZNAME:EDT
DTSTART:20260308T070000
END:DAYLIGHT
BEGIN:STANDARD
TZOFFSETFROM:-0400
TZOFFSETTO:-0500
TZNAME:EST
DTSTART:20261101T060000
END:STANDARD
END:VTIMEZONE
BEGIN:VEVENT
DTSTART;TZID=America/Chicago:20260324T150000
DTEND;TZID=America/Chicago:20260324T160000
DTSTAMP:20260424T163934
CREATED:20260227T223840Z
LAST-MODIFIED:20260227T223840Z
UID:695415-1774364400-1774368000@www.wgil.com
SUMMARY:Conflict Resolution: Bridging the Communication Divide
DESCRIPTION:Conflict Resolution: Bridging the Communication Divide\nMarch 24 | 3–4 p.m.\nGalesburg Campus – G Building – G108A \nDevelop the skills to manage tension\, foster understanding\, and transform conflict into productive dialogue. \nFree: Open to the community
URL:https://www.wgil.com/event/conflict-resolution-bridging-the-communication-divide/
LOCATION:Sandburg College\, 2400 Tom L. Wilson Blvd.\, Galesburg\, IL\, 61401\, United States
CATEGORIES:Community Events
ATTACH;FMTTYPE=image/png:https://dehayf5mhw1h7.cloudfront.net/wp-content/uploads/sites/2036/2026/02/27094614/copy-of-communication-career-development-series-1-e1772231910641.png
END:VEVENT
BEGIN:VEVENT
DTSTART;TZID=America/Chicago:20260324T160000
DTEND;TZID=America/Chicago:20260324T170000
DTSTAMP:20260424T163934
CREATED:20260107T225808Z
LAST-MODIFIED:20260107T225808Z
UID:692157-1774368000-1774371600@www.wgil.com
SUMMARY:Masterpiece Makerspace
DESCRIPTION:Join us each month to recreate an art masterpiece! Open to kids in grades K-4. Children age 8 and under must be accompanied by an adult. Advance registration required. Please register at the Children’s Desk or by calling 309-343-6118.
URL:https://www.wgil.com/event/masterpiece-makerspace-2/2026-03-24/
LOCATION:Galesburg Public Library\, 264 W. Main Street\, Galesburg\, IL\, 61401\, United States
CATEGORIES:Community Events
ATTACH;FMTTYPE=image/png:https://dehayf5mhw1h7.cloudfront.net/wp-content/uploads/sites/2036/2026/01/06182931/masterpiece-makerspace-postcard-spring-2026-e1767826334924.png
ORGANIZER;CN="Galesburg%20Public%20Library":MAILTO:children@galesburglibrary.org
END:VEVENT
BEGIN:VEVENT
DTSTART;TZID=America/Chicago:20260324T183000
DTEND;TZID=America/Chicago:20260324T193000
DTSTAMP:20260424T163934
CREATED:20260107T224104Z
LAST-MODIFIED:20260107T224104Z
UID:692135-1774377000-1774380600@www.wgil.com
SUMMARY:Cuenta Cuentos: Bilingual Storytime
DESCRIPTION:Let’s read\, sing\, and play together in English and Spanish. For kids ages 6 and under with an adult.
URL:https://www.wgil.com/event/cuenta-cuentos-bilingual-storytime-2/2026-03-24/
LOCATION:Galesburg Public Library\, 264 W. Main Street\, Galesburg\, IL\, 61401\, United States
CATEGORIES:Community Events
ATTACH;FMTTYPE=image/png:https://dehayf5mhw1h7.cloudfront.net/wp-content/uploads/sites/2036/2026/01/06181952/bilingual-storytime-postcard-spring-e1767825610758.png
ORGANIZER;CN="Galesburg%20Public%20Library":MAILTO:children@galesburglibrary.org
END:VEVENT
BEGIN:VEVENT
DTSTART;VALUE=DATE:20260325
DTEND;VALUE=DATE:20260326
DTSTAMP:20260424T163934
CREATED:20200912T172504Z
LAST-MODIFIED:20200912T172504Z
UID:651478-1774396800-1774483199@www.wgil.com
SUMMARY:Galesburg Veterans Van
DESCRIPTION:We start running to Iowa City VA Hospital on Wednesdays and Thursdays.  Please give us a weeks notice. 309-342-7735
URL:https://www.wgil.com/event/galesburg-veterans-van-2/2026-03-25/
LOCATION:IL
CATEGORIES:Community Events
ATTACH;FMTTYPE=image/jpeg:https://dehayf5mhw1h7.cloudfront.net/wp-content/uploads/sites/2036/2020/09/12172504/7D5E0CF3-3117-4BDA-80CF-17EE7A16E44C-e1599931346207.jpeg
ORGANIZER;CN="Galesburg%20Veterans%20Van":MAILTO:Galesburgveteransvan@gmail.com
END:VEVENT
BEGIN:VEVENT
DTSTART;TZID=America/Chicago:20260325T091500
DTEND;TZID=America/Chicago:20260325T100000
DTSTAMP:20260424T163934
CREATED:20260107T225011Z
LAST-MODIFIED:20260107T225011Z
UID:692125-1774430100-1774432800@www.wgil.com
SUMMARY:Baby Bounce
DESCRIPTION:Stories\, songs\, sign language\, and bounces for kids ages 0-18 months old and their caregivers. No registration required.
URL:https://www.wgil.com/event/baby-bounce-3/2026-03-25/
LOCATION:Galesburg Public Library\, 264 W. Main Street\, Galesburg\, IL\, 61401\, United States
CATEGORIES:Community Events
ATTACH;FMTTYPE=image/png:https://dehayf5mhw1h7.cloudfront.net/wp-content/uploads/sites/2036/2026/01/06181519/baby-bounce-spring-postcard-e1767826193462.png
ORGANIZER;CN="Galesburg%20Public%20Library":MAILTO:children@galesburglibrary.org
END:VEVENT
BEGIN:VEVENT
DTSTART;TZID=America/Chicago:20260325T093000
DTEND;TZID=America/Chicago:20260325T110000
DTSTAMP:20260424T163934
CREATED:20260123T223225Z
LAST-MODIFIED:20260212T221328Z
UID:693150-1774431000-1774436400@www.wgil.com
SUMMARY:2026 Community Women's Lenten Series
DESCRIPTION:2026 Women’s Lenten Series: “God in the Ordinary” being held at 9:30am on Wednesday mornings for the six weeks of Lent February 18 through March 25 at First Christian Church\, 301 N. Broad St.\, Galesburg. Various speakers from the community. All women of the community are invited.
URL:https://www.wgil.com/event/2026-community-womens-lenten-series/2026-03-25/
LOCATION:First Christian Church of Galesburg\, 301 N. Broad St.\, Galesburg\, 61401
CATEGORIES:Community Events
ATTACH;FMTTYPE=image/jpeg:https://dehayf5mhw1h7.cloudfront.net/wp-content/uploads/sites/2036/2026/01/23101348/2026-lenten-series-flyer-for-publicity.jpg
END:VEVENT
BEGIN:VEVENT
DTSTART;TZID=America/Chicago:20260325T130000
DTEND;TZID=America/Chicago:20260325T140000
DTSTAMP:20260424T163934
CREATED:20210524T132602Z
LAST-MODIFIED:20210524T132602Z
UID:651480-1774443600-1774447200@www.wgil.com
SUMMARY:St. Vincent de Paul Food Pantry
DESCRIPTION:ST VINCENT DE PAUL WEEKLY FOOD DISTRIBUTION. Weekly (Wednesdays from 1PM toll 2 PM) grocery distribution for individuals and families in need. \nCurbside service is provided as well. \nNot required to call ahead\, but calling will speed up the process. \nWill be asked whether they need a milk voucher\, number of adults and children in family and about any food restrictions. \nNUMBER TO CALL: 815-200-4911.
URL:https://www.wgil.com/event/st-vincent-de-paul-food-pantry/2026-03-25/
LOCATION:Corpus Christi Church basement\, 273 South Prairie St\, Galesburg\, IL\, 61401\, United States
CATEGORIES:Community Events
ORGANIZER;CN="St%20Vincent%20de%20Paul%20Society":MAILTO:dallind@grics.net
END:VEVENT
BEGIN:VEVENT
DTSTART;TZID=America/New_York:20260325T183000
DTEND;TZID=America/New_York:20260325T200000
DTSTAMP:20260424T163934
CREATED:20200124T193917Z
LAST-MODIFIED:20200124T193917Z
UID:651477-1774463400-1774468800@www.wgil.com
SUMMARY:Chess Club
DESCRIPTION:A chess club for players of all levels will meet at 6:30 pm on Wednesday nights at the Henderson Town Hall. There is no cost to come play\, learn and make friends.
URL:https://www.wgil.com/event/chess-club/2026-03-25/
LOCATION:Henderson Town Hall\, 215 S Main Street\, HENDERSON\, IL\, 61439\, United States
CATEGORIES:Community Events
ORGANIZER;CN="Dale%20Hidden":MAILTO:dale_hidden@yahoo.com
END:VEVENT
BEGIN:VEVENT
DTSTART;VALUE=DATE:20260326
DTEND;VALUE=DATE:20260327
DTSTAMP:20260424T163934
CREATED:20200912T172504Z
LAST-MODIFIED:20200912T172504Z
UID:651479-1774483200-1774569599@www.wgil.com
SUMMARY:Galesburg Veterans Van
DESCRIPTION:We start running to Iowa City VA Hospital on Wednesdays and Thursdays.  Please give us a weeks notice. 309-342-7735
URL:https://www.wgil.com/event/galesburg-veterans-van-2/2026-03-26/
LOCATION:IL
CATEGORIES:Community Events
ATTACH;FMTTYPE=image/jpeg:https://dehayf5mhw1h7.cloudfront.net/wp-content/uploads/sites/2036/2020/09/12172504/7D5E0CF3-3117-4BDA-80CF-17EE7A16E44C-e1599931346207.jpeg
ORGANIZER;CN="Galesburg%20Veterans%20Van":MAILTO:Galesburgveteransvan@gmail.com
END:VEVENT
BEGIN:VEVENT
DTSTART;TZID=America/Chicago:20260326T160000
DTEND;TZID=America/Chicago:20260326T180000
DTSTAMP:20260424T163934
CREATED:20260220T225756Z
LAST-MODIFIED:20260220T225756Z
UID:694981-1774540800-1774548000@www.wgil.com
SUMMARY:Thrifty Thursday!
DESCRIPTION:Thrifty Thursday\nJoin us for an evening of reduced admission! 4:00 p.m. – 6:00 p.m. $6.50 for admission/members are free. Advanced tickets required.
URL:https://www.wgil.com/event/thrifty-thursday-28/
LOCATION:Discovery Depot\, 128 S Chambers St\, Galesburg\, IL\, 61401\, United States
CATEGORIES:Community Events
ATTACH;FMTTYPE=image/png:https://dehayf5mhw1h7.cloudfront.net/wp-content/uploads/sites/2036/2026/02/19140348/march-26-thrifty-thursday-e1771628268934.png
ORGANIZER;CN="Discovery%20Depot":MAILTO:director@discoverydepot.org
END:VEVENT
BEGIN:VEVENT
DTSTART;TZID=America/Chicago:20260326T160000
DTEND;TZID=America/Chicago:20260326T180000
DTSTAMP:20260424T163934
CREATED:20260309T195700Z
LAST-MODIFIED:20260309T195700Z
UID:695868-1774540800-1774548000@www.wgil.com
SUMMARY:Knox County Nursing Home Easter Egg Hunt
DESCRIPTION:It’s time for the Annual Easter Egg Hunt at Knox County Nursing Home. Hundreds of treat filled eggs for three age groups: 0-3 yrs\, 4-7 yrs\, and 8-12 yrs. Basket prizes for those that find the golden eggs. Grand prize drawings for each age group also. March 26th @ 4pm. Lemon Lounge will have sweet drinks available for purchase. The Easter Bunny will be making his rounds and available for photos.
URL:https://www.wgil.com/event/knox-county-nursing-home-easter-egg-hunt/
LOCATION:Knox County Nursing Home\, United States
CATEGORIES:Community Events
ATTACH;FMTTYPE=image/png:https://dehayf5mhw1h7.cloudfront.net/wp-content/uploads/sites/2036/2026/03/07080033/screenshot_20260307-074855-e1773086208329.png
END:VEVENT
BEGIN:VEVENT
DTSTART;TZID=America/Chicago:20260326T180000
DTEND;TZID=America/Chicago:20260326T190000
DTSTAMP:20260424T163934
CREATED:20260107T230902Z
LAST-MODIFIED:20260107T230902Z
UID:692267-1774548000-1774551600@www.wgil.com
SUMMARY:Tween Time
DESCRIPTION:Calling all tweens in grades 4-6! Join us twice a month for fun crafts\, games\, or building challenges. We will focus on a different topic or activity each session. Advance registration is required.
URL:https://www.wgil.com/event/tween-time/2026-03-26/
LOCATION:Galesburg Public Library\, 264 W. Main Street\, Galesburg\, IL\, 61401\, United States
CATEGORIES:Community Events
ATTACH;FMTTYPE=image/png:https://dehayf5mhw1h7.cloudfront.net/wp-content/uploads/sites/2036/2026/01/07170833/tween-time-spring-2026-postcard_erou-e1767827327440.png
ORGANIZER;CN="Galesburg%20Public%20Library":MAILTO:children@galesburglibrary.org
END:VEVENT
BEGIN:VEVENT
DTSTART;TZID=America/Chicago:20260326T190000
DTEND;TZID=America/Chicago:20260326T220000
DTSTAMP:20260424T163934
CREATED:20251208T230417Z
LAST-MODIFIED:20251208T230417Z
UID:690837-1774551600-1774562400@www.wgil.com
SUMMARY:Jazz Night
DESCRIPTION:Join in a Galesburg tradition that is 30+ years strong\, now at a brand new venue! \nCome hear the Knox Cherry Street Combo on Thursday’s from 7-10 pm at Smokin’ Willies BBQ. This is a free event and all ages are welcome. Full bar and the best barbeque around!
URL:https://www.wgil.com/event/jazz-night-9/2026-03-26/
LOCATION:Smokin' Willies BBQ\, 161 N Cherry St\, Galesburg\, 61401
CATEGORIES:Community Events
ATTACH;FMTTYPE=image/png:https://dehayf5mhw1h7.cloudfront.net/wp-content/uploads/sites/2036/2025/12/05162558/2025-jazz-night-social_email-e1765235028565.png
ORGANIZER;CN="Knox%20College%20Music%20Department":MAILTO:music@knox.edu
END:VEVENT
BEGIN:VEVENT
DTSTART;TZID=America/Chicago:20260328T070000
DTEND;TZID=America/Chicago:20260328T100000
DTSTAMP:20260424T163934
CREATED:20260326T214028Z
LAST-MODIFIED:20260327T055522Z
UID:697459-1774681200-1774692000@www.wgil.com
SUMMARY:London Mills Fire Department Breakfast
DESCRIPTION:Come join us for Pancakes and Sausage\, Biscuits and Gravy\, Bacon. Orange Juice\, Apple Juice\, water and coffee will be served as well. \nAll proceeds will go towards to the Lucas Device fund for the purchase of a Lucas Device to help better service the community.
URL:https://www.wgil.com/event/london-mills-fire-department-breakfast/
LOCATION:London Mills Fire Department\, 103 E. Main St.\, London Mills\, 61544\, United States
CATEGORIES:Community Events
ATTACH;FMTTYPE=image/jpeg:https://dehayf5mhw1h7.cloudfront.net/wp-content/uploads/sites/2036/2026/03/26163958/483887780_1075255641307564_8861048489542727968_n.jpg
END:VEVENT
BEGIN:VEVENT
DTSTART;TZID=America/Chicago:20260328T083000
DTEND;TZID=America/Chicago:20260328T143000
DTSTAMP:20260424T163934
CREATED:20260203T224823Z
LAST-MODIFIED:20260203T224823Z
UID:693582-1774686600-1774708200@www.wgil.com
SUMMARY:28th Annual Gardener's Day
DESCRIPTION:Gardener’s Day is a one-day conference designed for gardeners of all experience levels\, featuring engaging educational sessions and practical take-home ideas. Browse vendor displays\, connect with fellow garden enthusiasts\, and enjoy lunch included with registration. Seating is limited\, so early registration is encouraged. \nRegistration begins February 10\, 2026\, at go.illinois.edu/GardenersDay2026 \nQuestions? Call the McDonough County Extension Office at (309) 837-3939
URL:https://www.wgil.com/event/28th-annual-gardeners-day/
LOCATION:Spoon River College Macomb Community Outreach Center\, 2500 E. Jackson St\, Macomb\, IL\, 61455\, United States
CATEGORIES:Community Events
ATTACH;FMTTYPE=image/png:https://dehayf5mhw1h7.cloudfront.net/wp-content/uploads/sites/2036/2026/02/02092017/gd-2026-2.png
ORGANIZER;CN="University%20of%20Illinois%20Extension%20and%20McDonough%20County%20Master%20Gardeners":MAILTO:uie-hkmw@illinois.edu
END:VEVENT
BEGIN:VEVENT
DTSTART;TZID=America/Chicago:20260328T090000
DTEND;TZID=America/Chicago:20260328T103000
DTSTAMP:20260424T163934
CREATED:20260211T223526Z
LAST-MODIFIED:20260211T223526Z
UID:694406-1774688400-1774693800@www.wgil.com
SUMMARY:Egg Extravaganza
DESCRIPTION:Join us for a morning of fun at Discovery Depot! Egg walk\, bubbles\, photos\, crafts\, and more! \nThis event is $5 members/$10 non-members
URL:https://www.wgil.com/event/egg-extravaganza-2/
LOCATION:Discovery Depot\, 128 S Chambers St\, Galesburg\, IL\, 61401\, United States
CATEGORIES:Community Events
ATTACH;FMTTYPE=image/jpeg:https://dehayf5mhw1h7.cloudfront.net/wp-content/uploads/sites/2036/2026/02/11134406/eggextrava-26-e1770849316553.jpg
ORGANIZER;CN="Discovery%20Depot":MAILTO:director@discoverydepot.org
END:VEVENT
BEGIN:VEVENT
DTSTART;TZID=America/Chicago:20260328T100000
DTEND;TZID=America/Chicago:20260328T110000
DTSTAMP:20260424T163934
CREATED:20260206T231155Z
LAST-MODIFIED:20260206T231155Z
UID:693785-1774692000-1774695600@www.wgil.com
SUMMARY:Easter Egg Hunt
DESCRIPTION:FREE EASTER EGG HUNT \n10 A.M. ON MARCH 28TH \nAT ALLURE OF GALESBURG\n1145 FRANK ST \nGOLDEN EGG PRIZES
URL:https://www.wgil.com/event/easter-egg-hunt-8/
LOCATION:Allure of Galesburg\, 1145 Frank St\, Galesburg\, IL\, 61401\, United States
CATEGORIES:Community Events
ATTACH;FMTTYPE=image/jpeg:https://dehayf5mhw1h7.cloudfront.net/wp-content/uploads/sites/2036/2026/02/05210050/editable-easter-egg-hunt-flyer-printable-made-with-postermywall-e1770419500999.jpg
END:VEVENT
BEGIN:VEVENT
DTSTART;TZID=America/Chicago:20260328T110000
DTEND;TZID=America/Chicago:20260328T120000
DTSTAMP:20260424T163934
CREATED:20260302T205120Z
LAST-MODIFIED:20260302T205120Z
UID:695565-1774695600-1774699200@www.wgil.com
SUMMARY:Once Upon a Piano: Animal Stories in Sound
DESCRIPTION:Join pianist Dr. Solee Lee-Clark and violinist Dr. Alyssa Mathias\, for a delightful morning of musical storytelling about animals from around the world. This concert is free and open to all ages.
URL:https://www.wgil.com/event/once-upon-a-piano-animal-stories-in-sound/
LOCATION:Galesburg Public Library\, 264 W. Main Street\, Galesburg\, IL\, 61401\, United States
CATEGORIES:Community Events
ATTACH;FMTTYPE=image/png:https://dehayf5mhw1h7.cloudfront.net/wp-content/uploads/sites/2036/2026/03/02145055/once-upon-a-piano-animal-stories-in-sound-postcard-spring-2026-1_5zvh-e1772484669199.png
END:VEVENT
BEGIN:VEVENT
DTSTART;TZID=America/Chicago:20260328T110000
DTEND;TZID=America/Chicago:20260328T133000
DTSTAMP:20260424T163934
CREATED:20260310T211153Z
LAST-MODIFIED:20260310T211153Z
UID:696153-1774695600-1774704600@www.wgil.com
SUMMARY:O.A.K.S Senior Center Fundraiser
DESCRIPTION:Ham and Beans with cornbread\, pie and a beverage. Freewill donation. Take out available. 309-343-0435.
URL:https://www.wgil.com/event/o-a-k-s-senior-center-fundraiser-6/
LOCATION:OAKS Senior Center\, 176 Farnham\, Galesburg\, IL\, United States
CATEGORIES:Community Events
ATTACH;FMTTYPE=image/jpeg:https://dehayf5mhw1h7.cloudfront.net/wp-content/uploads/sites/2036/2026/03/10152445/17731741629197920231575007879034-e1773177102943.jpg
END:VEVENT
BEGIN:VEVENT
DTSTART;TZID=America/Chicago:20260328T110000
DTEND;TZID=America/Chicago:20260328T133000
DTSTAMP:20260424T163934
CREATED:20260319T203410Z
LAST-MODIFIED:20260319T203410Z
UID:696973-1774695600-1774704600@www.wgil.com
SUMMARY:The Oaks Ham\, Bean\, & Cornbread Fundraiser
DESCRIPTION:Saturday\, March 28th\n11:00am – 1:30pm\nMeal consists of Ham\, Bean\, & Cornbread plus pie and drink\nCost – Free Will Donation\nCarryout available\nEvent Location: The Oaks Senior Center\, 176 N. Farnham St.\, Galesburg\, IL 61601\nPhone: 309-342-7001
URL:https://www.wgil.com/event/the-oaks-ham-bean-cornbread-fundraiser/
LOCATION:OAKS Senior Center\, 176 Farnham\, Galesburg\, IL\, United States
CATEGORIES:Community Events
END:VEVENT
BEGIN:VEVENT
DTSTART;TZID=America/Chicago:20260328T124500
DTEND;TZID=America/Chicago:20260328T124500
DTSTAMP:20260424T163934
CREATED:20220831T050559Z
LAST-MODIFIED:20220831T050559Z
UID:651615-1774701900-1774701900@www.wgil.com
SUMMARY:BINGO at the Galesburg VFW
DESCRIPTION:Come and have some fun at the Galesburg VFW with BINGO each Saturday. Doors open at 10:30a and BINGO starts at 12:45p.
URL:https://www.wgil.com/event/bingo-at-the-galesburg-vfw-2/2026-03-28/
LOCATION:Galesburg VFW Post 2257\, 1001 Michigan ave\, Galesburg\, IL\, 61401\, United States
CATEGORIES:Community Events
END:VEVENT
BEGIN:VEVENT
DTSTART;TZID=America/Chicago:20260328T160000
DTEND;TZID=America/Chicago:20260328T190000
DTSTAMP:20260424T163934
CREATED:20260324T213118Z
LAST-MODIFIED:20260324T213118Z
UID:697273-1774713600-1774724400@www.wgil.com
SUMMARY:Maquon Fire Dept. Chili Supper
DESCRIPTION:Join us for a fun night from 4 to 7pm with the members of the Maquon Fire Dept. We are having our annual Chili and Cornbread supper.\nEat in or Carry Out with local delivery. Meal price $10 for Chili\, cornbread and drink. Kids meal price $5 for Hot dog\, cornbread and drink. Individual items sold separately.
URL:https://www.wgil.com/event/maquon-fire-dept-chili-supper-2/
LOCATION:Maquon Fire Department\, 405 Main St\, Maquon\, IL\, 61458\, United States
CATEGORIES:Community Events
ATTACH;FMTTYPE=image/png:https://dehayf5mhw1h7.cloudfront.net/wp-content/uploads/sites/2036/2026/03/24013500/image0-e1774387870264.png
END:VEVENT
BEGIN:VEVENT
DTSTART;TZID=America/Chicago:20260328T190000
DTEND;TZID=America/Chicago:20260328T223000
DTSTAMP:20260424T163934
CREATED:20260306T222209Z
LAST-MODIFIED:20260306T222209Z
UID:695766-1774724400-1774737000@www.wgil.com
SUMMARY:Music Trivia Night
DESCRIPTION:To benefit Costa Athletics \nSaturday March 28th \nDoors open at 5:40pm; Trivia starts at 7pm \n$120 per table of 10 includes mulligans and doubler \n$20 for extra set of mulligans and doubler \nBake sale\, 50/50\, Heads or Tails game and balloon pop \nFood available for purchase \nHosted by J&J Entertainment
URL:https://www.wgil.com/event/music-trivia-night-5/
LOCATION:Galesburg Knights of Columbus Hall\, 1556 E Fremont St\, Galesburg\, IL\, 61401\, United States
CATEGORIES:Community Events
ATTACH;FMTTYPE=image/jpeg:https://dehayf5mhw1h7.cloudfront.net/wp-content/uploads/sites/2036/2026/03/04214409/img_9433-e1772835713625.jpeg
END:VEVENT
BEGIN:VEVENT
DTSTART;TZID=America/Chicago:20260329T130000
DTEND;TZID=America/Chicago:20260329T140000
DTSTAMP:20260424T163934
CREATED:20260206T231248Z
LAST-MODIFIED:20260206T231248Z
UID:693837-1774789200-1774792800@www.wgil.com
SUMMARY:Community Easter Egg Hunt
DESCRIPTION:Date: Sunday\, March 29\, 2026\nTime: 1-2PM\nCost: Free\nAges: 2-11 years old\nLocation: Lakeside Recreation Facility\, outside lawn \nOur event is a family friendly afternoon with egg hunts divided up by age groups! The hunt will feature 10\,000 candy filled eggs\, and a series of grand prizes\, with the Easter Bunny on site for photographs! \nThe City of Galesburg Parks and Recreation’s Easter Egg Hunt is sponsored by Hy-Vee\, 105.3 KFM\, and many other local businesses. \nThe mobile playground will be there from 12-2PM\, and Hy-Vee will be offering a grilled lunch special from 12-2PM! \nGo to https://app.amilia.com/store/en/city-of-galesburg-pr/shop/activities/6515084 for more details.
URL:https://www.wgil.com/event/community-easter-egg-hunt/
LOCATION:Lakeside Recreation Facility\, 1033 S. Lake Storey Rd\, Galesburg\, IL\, 61401\, United States
CATEGORIES:Community Events
ATTACH;FMTTYPE=image/png:https://dehayf5mhw1h7.cloudfront.net/wp-content/uploads/sites/2036/2026/02/06160106/easter-egg-hunt-2026-full-size-flyer-1-e1770419557310.png
END:VEVENT
BEGIN:VEVENT
DTSTART;TZID=America/Chicago:20260329T150000
DTEND;TZID=America/Chicago:20260329T160000
DTSTAMP:20260424T163934
CREATED:20260227T224026Z
LAST-MODIFIED:20260227T224026Z
UID:695431-1774796400-1774800000@www.wgil.com
SUMMARY:3rd Annual Knox Music Department Faculty Showcase
DESCRIPTION:The Knox College Music Department presents the third annual Faculty Showcase\, featuring a varied program of solo and ensemble performances by Knox music faculty. \nFeaturing:\nKhasma Piano Duo\, Jim Curless\, Tyler Demaree\, Jill Marasa\, Madeline Wood\, Mason Boore\, Justin Haynes\, Semenya McCord\, Rocío Jiménez\, Andy Crawford\, Janell Johnson\, Steve Jackson\, and Lucy Rieke. \nFree and open to the public. \nSunday\, March 29\, 2026 at 3:00 PM\nKresge Recital Hall\, Knox College
URL:https://www.wgil.com/event/3rd-annual-knox-music-department-faculty-showcase/
LOCATION:Kresge Recital Hall\, 2 East South St.\, Galesburg\, 61401
CATEGORIES:Community Events
ATTACH;FMTTYPE=image/jpeg:https://dehayf5mhw1h7.cloudfront.net/wp-content/uploads/sites/2036/2026/02/27130127/facultyshowcase-e1772232014745.jpg
END:VEVENT
BEGIN:VEVENT
DTSTART;TZID=America/Chicago:20260330T100000
DTEND;TZID=America/Chicago:20260330T103000
DTSTAMP:20260424T163934
CREATED:20260107T224951Z
LAST-MODIFIED:20260107T224951Z
UID:692199-1774864800-1774866600@www.wgil.com
SUMMARY:Toddler Storytime
DESCRIPTION:Stories\, rhymes\, songs\, and movement for toddlers ages 18-36 months and their caregivers. No registration required.
URL:https://www.wgil.com/event/toddler-storytime-5/2026-03-30/
LOCATION:Galesburg Public Library\, 264 W. Main Street\, Galesburg\, IL\, 61401\, United States
CATEGORIES:Community Events
ATTACH;FMTTYPE=image/png:https://dehayf5mhw1h7.cloudfront.net/wp-content/uploads/sites/2036/2026/01/06181313/toddler-storytime-spring-postcard-e1767826159783.png
ORGANIZER;CN="Galesburg%20Public%20Library":MAILTO:children@galesburglibrary.org
END:VEVENT
BEGIN:VEVENT
DTSTART;VALUE=DATE:20260401
DTEND;VALUE=DATE:20260402
DTSTAMP:20260424T163934
CREATED:20200912T172504Z
LAST-MODIFIED:20200912T172504Z
UID:651783-1775001600-1775087999@www.wgil.com
SUMMARY:Galesburg Veterans Van
DESCRIPTION:We start running to Iowa City VA Hospital on Wednesdays and Thursdays.  Please give us a weeks notice. 309-342-7735
URL:https://www.wgil.com/event/galesburg-veterans-van-2/2026-04-01/
LOCATION:IL
CATEGORIES:Community Events
ATTACH;FMTTYPE=image/jpeg:https://dehayf5mhw1h7.cloudfront.net/wp-content/uploads/sites/2036/2020/09/12172504/7D5E0CF3-3117-4BDA-80CF-17EE7A16E44C-e1599931346207.jpeg
ORGANIZER;CN="Galesburg%20Veterans%20Van":MAILTO:Galesburgveteransvan@gmail.com
END:VEVENT
BEGIN:VEVENT
DTSTART;TZID=America/Chicago:20260401T091500
DTEND;TZID=America/Chicago:20260401T100000
DTSTAMP:20260424T163934
CREATED:20260107T225024Z
LAST-MODIFIED:20260107T225024Z
UID:692203-1775034900-1775037600@www.wgil.com
SUMMARY:Baby Bounce
DESCRIPTION:Stories\, songs\, sign language\, and bounces for kids ages 0-18 months old and their caregivers. No registration required.
URL:https://www.wgil.com/event/baby-bounce-3/2026-04-01/
LOCATION:Galesburg Public Library\, 264 W. Main Street\, Galesburg\, IL\, 61401\, United States
CATEGORIES:Community Events
ATTACH;FMTTYPE=image/png:https://dehayf5mhw1h7.cloudfront.net/wp-content/uploads/sites/2036/2026/01/06181519/baby-bounce-spring-postcard-e1767826193462.png
ORGANIZER;CN="Galesburg%20Public%20Library":MAILTO:children@galesburglibrary.org
END:VEVENT
BEGIN:VEVENT
DTSTART;TZID=America/Chicago:20260401T130000
DTEND;TZID=America/Chicago:20260401T140000
DTSTAMP:20260424T163934
CREATED:20210524T132602Z
LAST-MODIFIED:20210524T132602Z
UID:651785-1775048400-1775052000@www.wgil.com
SUMMARY:St. Vincent de Paul Food Pantry
DESCRIPTION:ST VINCENT DE PAUL WEEKLY FOOD DISTRIBUTION. Weekly (Wednesdays from 1PM toll 2 PM) grocery distribution for individuals and families in need. \nCurbside service is provided as well. \nNot required to call ahead\, but calling will speed up the process. \nWill be asked whether they need a milk voucher\, number of adults and children in family and about any food restrictions. \nNUMBER TO CALL: 815-200-4911.
URL:https://www.wgil.com/event/st-vincent-de-paul-food-pantry/2026-04-01/
LOCATION:Corpus Christi Church basement\, 273 South Prairie St\, Galesburg\, IL\, 61401\, United States
CATEGORIES:Community Events
ORGANIZER;CN="St%20Vincent%20de%20Paul%20Society":MAILTO:dallind@grics.net
END:VEVENT
BEGIN:VEVENT
DTSTART;TZID=America/Chicago:20260401T130000
DTEND;TZID=America/Chicago:20260401T150000
DTSTAMP:20260424T163934
CREATED:20260324T213151Z
LAST-MODIFIED:20260324T213151Z
UID:697294-1775048400-1775055600@www.wgil.com
SUMMARY:Spring Break Shenanigans: Windchimes Art!
DESCRIPTION:Stop by and create a set of windchimes in our Art Studio! \n$1.00 with admission
URL:https://www.wgil.com/event/spring-break-shenanigans-windchimes-art-2/
LOCATION:Discovery Depot\, 128 S Chambers St\, Galesburg\, IL\, 61401\, United States
CATEGORIES:Community Events
ATTACH;FMTTYPE=image/jpeg:https://dehayf5mhw1h7.cloudfront.net/wp-content/uploads/sites/2036/2026/03/24085640/april-1_windchimes-e1774387900280.jpg
END:VEVENT
END:VCALENDAR