BEGIN:VCALENDAR
VERSION:2.0
PRODID:-//WGIL 93.7 FM - 1400 AM - ECPv5.6.0//NONSGML v1.0//EN
CALSCALE:GREGORIAN
METHOD:PUBLISH
X-WR-CALNAME:WGIL 93.7 FM - 1400 AM
X-ORIGINAL-URL:https://www.wgil.com
X-WR-CALDESC:Events for WGIL 93.7 FM - 1400 AM
BEGIN:VTIMEZONE
TZID:America/Chicago
BEGIN:DAYLIGHT
TZOFFSETFROM:-0600
TZOFFSETTO:-0500
TZNAME:CDT
DTSTART:20260308T080000
END:DAYLIGHT
BEGIN:STANDARD
TZOFFSETFROM:-0500
TZOFFSETTO:-0600
TZNAME:CST
DTSTART:20261101T070000
END:STANDARD
TZID:America/New_York
BEGIN:DAYLIGHT
TZOFFSETFROM:-0500
TZOFFSETTO:-0400
TZNAME:EDT
DTSTART:20260308T070000
END:DAYLIGHT
BEGIN:STANDARD
TZOFFSETFROM:-0400
TZOFFSETTO:-0500
TZNAME:EST
DTSTART:20261101T060000
END:STANDARD
END:VTIMEZONE
BEGIN:VEVENT
DTSTART;TZID=America/Chicago:20260414T170000
DTEND;TZID=America/Chicago:20260414T190000
DTSTAMP:20260424T230729
CREATED:20260223T211716Z
LAST-MODIFIED:20260223T211716Z
UID:695149-1776186000-1776193200@www.wgil.com
SUMMARY:Parent Cafe - Playing Together\, Staying Connected
DESCRIPTION:Connect\, Share\, and learn from other parents and caregivers in a safe and supportive environment. Join us in our virtual cafe to discuss challenges\, celebrate successes\, and develop strategies for keeping families strong. \nThis event is being co-hosted by Birth to Five Illinois Regions 26 and 33.
URL:https://www.wgil.com/event/parent-cafe-playing-together-staying-connected/
LOCATION:Virtual Event
CATEGORIES:Community Events
ATTACH;FMTTYPE=image/png:https://dehayf5mhw1h7.cloudfront.net/wp-content/uploads/sites/2036/2026/02/23115112/region-26-and-33-parent-cafe-flyer-2-e1771881424249.png
ORGANIZER;CN="Birth%20to%20Five%20ILLINOIS":MAILTO:jwalters@birthtofive.com
END:VEVENT
BEGIN:VEVENT
DTSTART;TZID=America/Chicago:20260414T173000
DTEND;TZID=America/Chicago:20260414T190000
DTSTAMP:20260424T230729
CREATED:20260319T202325Z
LAST-MODIFIED:20260319T202325Z
UID:696944-1776187800-1776193200@www.wgil.com
SUMMARY:Toddler Plus Tuesday
DESCRIPTION:This program is for toddlers plus their families and is offered after hours. This program is in collaboration with ROE #33 educators. Special developmental activities will be available each month. Reduced admission rate is $6.50. Members are free.
URL:https://www.wgil.com/event/toddler-plus-tuesday-34/
LOCATION:Discovery Depot\, 128 S Chambers St\, Galesburg\, IL\, 61401\, United States
CATEGORIES:Community Events
ATTACH;FMTTYPE=image/png:https://dehayf5mhw1h7.cloudfront.net/wp-content/uploads/sites/2036/2026/03/18120253/toddler-plus-april-14-e1773951690525.png
END:VEVENT
BEGIN:VEVENT
DTSTART;TZID=America/Chicago:20260414T183000
DTEND;TZID=America/Chicago:20260414T193000
DTSTAMP:20260424T230729
CREATED:20260107T224104Z
LAST-MODIFIED:20260107T224104Z
UID:692136-1776191400-1776195000@www.wgil.com
SUMMARY:Cuenta Cuentos: Bilingual Storytime
DESCRIPTION:Let’s read\, sing\, and play together in English and Spanish. For kids ages 6 and under with an adult.
URL:https://www.wgil.com/event/cuenta-cuentos-bilingual-storytime-2/2026-04-14/
LOCATION:Galesburg Public Library\, 264 W. Main Street\, Galesburg\, IL\, 61401\, United States
CATEGORIES:Community Events
ATTACH;FMTTYPE=image/png:https://dehayf5mhw1h7.cloudfront.net/wp-content/uploads/sites/2036/2026/01/06181952/bilingual-storytime-postcard-spring-e1767825610758.png
ORGANIZER;CN="Galesburg%20Public%20Library":MAILTO:children@galesburglibrary.org
END:VEVENT
BEGIN:VEVENT
DTSTART;TZID=America/Chicago:20260414T190000
DTEND;TZID=America/Chicago:20260414T220000
DTSTAMP:20260424T230729
CREATED:20260325T211838Z
LAST-MODIFIED:20260325T211838Z
UID:697365-1776193200-1776204000@www.wgil.com
SUMMARY:Knox Rocks
DESCRIPTION:Don’t Miss Knox Rocks!\nCome out and enjoy an awesome night of live music featuring Knox bands:\nLove MCQ · St. Crescent · Midwest Acolyte · The Synthesis · Continental Riff\n📅 Tuesday\, April 14th\n🕖 7:00 PM\n📍 Smokin’ Willies BBQ — 161 N Cherry St (just one block north of Main Street)\nFree and Open to the Public!
URL:https://www.wgil.com/event/knox-rocks-9/
LOCATION:Smokin' Willies BBQ\, 161 N Cherry St\, Galesburg\, 61401
CATEGORIES:Community Events
ATTACH;FMTTYPE=image/jpeg:https://dehayf5mhw1h7.cloudfront.net/wp-content/uploads/sites/2036/2026/03/25074525/knoxrocksspring-e1774473509825.jpg
END:VEVENT
BEGIN:VEVENT
DTSTART;VALUE=DATE:20260415
DTEND;VALUE=DATE:20260416
DTSTAMP:20260424T230729
CREATED:20200912T172504Z
LAST-MODIFIED:20200912T172504Z
UID:652563-1776211200-1776297599@www.wgil.com
SUMMARY:Galesburg Veterans Van
DESCRIPTION:We start running to Iowa City VA Hospital on Wednesdays and Thursdays.  Please give us a weeks notice. 309-342-7735
URL:https://www.wgil.com/event/galesburg-veterans-van-2/2026-04-15/
LOCATION:IL
CATEGORIES:Community Events
ATTACH;FMTTYPE=image/jpeg:https://dehayf5mhw1h7.cloudfront.net/wp-content/uploads/sites/2036/2020/09/12172504/7D5E0CF3-3117-4BDA-80CF-17EE7A16E44C-e1599931346207.jpeg
ORGANIZER;CN="Galesburg%20Veterans%20Van":MAILTO:Galesburgveteransvan@gmail.com
END:VEVENT
BEGIN:VEVENT
DTSTART;TZID=America/Chicago:20260415T091500
DTEND;TZID=America/Chicago:20260415T100000
DTSTAMP:20260424T230729
CREATED:20260107T225025Z
LAST-MODIFIED:20260107T225025Z
UID:692206-1776244500-1776247200@www.wgil.com
SUMMARY:Baby Bounce
DESCRIPTION:Stories\, songs\, sign language\, and bounces for kids ages 0-18 months old and their caregivers. No registration required.
URL:https://www.wgil.com/event/baby-bounce-3/2026-04-15/
LOCATION:Galesburg Public Library\, 264 W. Main Street\, Galesburg\, IL\, 61401\, United States
CATEGORIES:Community Events
ATTACH;FMTTYPE=image/png:https://dehayf5mhw1h7.cloudfront.net/wp-content/uploads/sites/2036/2026/01/06181519/baby-bounce-spring-postcard-e1767826193462.png
ORGANIZER;CN="Galesburg%20Public%20Library":MAILTO:children@galesburglibrary.org
END:VEVENT
BEGIN:VEVENT
DTSTART;TZID=America/Chicago:20260415T130000
DTEND;TZID=America/Chicago:20260415T140000
DTSTAMP:20260424T230729
CREATED:20210524T132602Z
LAST-MODIFIED:20210524T132602Z
UID:652565-1776258000-1776261600@www.wgil.com
SUMMARY:St. Vincent de Paul Food Pantry
DESCRIPTION:ST VINCENT DE PAUL WEEKLY FOOD DISTRIBUTION. Weekly (Wednesdays from 1PM toll 2 PM) grocery distribution for individuals and families in need. \nCurbside service is provided as well. \nNot required to call ahead\, but calling will speed up the process. \nWill be asked whether they need a milk voucher\, number of adults and children in family and about any food restrictions. \nNUMBER TO CALL: 815-200-4911.
URL:https://www.wgil.com/event/st-vincent-de-paul-food-pantry/2026-04-15/
LOCATION:Corpus Christi Church basement\, 273 South Prairie St\, Galesburg\, IL\, 61401\, United States
CATEGORIES:Community Events
ORGANIZER;CN="St%20Vincent%20de%20Paul%20Society":MAILTO:dallind@grics.net
END:VEVENT
BEGIN:VEVENT
DTSTART;TZID=America/Chicago:20260415T173000
DTEND;TZID=America/Chicago:20260415T183000
DTSTAMP:20260424T230729
CREATED:20240207T185829Z
LAST-MODIFIED:20240207T185829Z
UID:652561-1776274200-1776277800@www.wgil.com
SUMMARY:First Lutheran Church Food Pantry
DESCRIPTION:First Lutheran Church Food Pantry\, 364 E. Water St.\, Galesburg.
URL:https://www.wgil.com/event/first-lutheran-church-food-pantry-2/2026-04-15/
LOCATION:First Lutheran Church\, 364 E. Water St.\, Galesburg\, IL\, 61401\, United States
CATEGORIES:Community Events
ATTACH;FMTTYPE=image/jpeg:https://dehayf5mhw1h7.cloudfront.net/wp-content/uploads/sites/2036/2020/05/27162250/first-lutheran-church-food-pantry.jpg
GEO:40.9495812;-90.3650888
X-APPLE-STRUCTURED-LOCATION;VALUE=URI;X-ADDRESS=First Lutheran Church 364 E. Water St. Galesburg IL 61401 United States;X-APPLE-RADIUS=500;X-TITLE=364 E. Water St.:geo:-90.3650888,40.9495812
END:VEVENT
BEGIN:VEVENT
DTSTART;TZID=America/New_York:20260415T183000
DTEND;TZID=America/New_York:20260415T200000
DTSTAMP:20260424T230729
CREATED:20200124T193917Z
LAST-MODIFIED:20200124T193917Z
UID:652562-1776277800-1776283200@www.wgil.com
SUMMARY:Chess Club
DESCRIPTION:A chess club for players of all levels will meet at 6:30 pm on Wednesday nights at the Henderson Town Hall. There is no cost to come play\, learn and make friends.
URL:https://www.wgil.com/event/chess-club/2026-04-15/
LOCATION:Henderson Town Hall\, 215 S Main Street\, HENDERSON\, IL\, 61439\, United States
CATEGORIES:Community Events
ORGANIZER;CN="Dale%20Hidden":MAILTO:dale_hidden@yahoo.com
END:VEVENT
BEGIN:VEVENT
DTSTART;TZID=America/New_York:20260416T000000
DTEND;TZID=America/New_York:20260416T235959
DTSTAMP:20260424T230729
CREATED:20200912T172504Z
LAST-MODIFIED:20200912T172504Z
UID:652564-1776297600-1776383999@www.wgil.com
SUMMARY:Galesburg Veterans Van
DESCRIPTION:We start running to Iowa City VA Hospital on Wednesdays and Thursdays.  Please give us a weeks notice. 309-342-7735
URL:https://www.wgil.com/event/galesburg-veterans-van-2/2026-04-16/
LOCATION:IL
CATEGORIES:Community Events
ATTACH;FMTTYPE=image/jpeg:https://dehayf5mhw1h7.cloudfront.net/wp-content/uploads/sites/2036/2020/09/12172504/7D5E0CF3-3117-4BDA-80CF-17EE7A16E44C-e1599931346207.jpeg
ORGANIZER;CN="Galesburg%20Veterans%20Van":MAILTO:Galesburgveteransvan@gmail.com
END:VEVENT
BEGIN:VEVENT
DTSTART;TZID=America/Chicago:20260416T160000
DTEND;TZID=America/Chicago:20260416T170000
DTSTAMP:20260424T230729
CREATED:20260114T221020Z
LAST-MODIFIED:20260114T221020Z
UID:692625-1776355200-1776358800@www.wgil.com
SUMMARY:Pageturners Book Club for Kids
DESCRIPTION:Come talk about fun novels with other readers your age. For independent readers in grades 4-6. Enjoy talking about novels with other readers your age\, playing games\, and more. Kids’ book club meets on the third Thursday of each month from September through April. Registration required.
URL:https://www.wgil.com/event/pageturners-book-club-for-kids-2/2026-04-16/
LOCATION:Galesburg Public Library\, 264 W. Main Street\, Galesburg\, IL\, 61401\, United States
CATEGORIES:Community Events
ATTACH;FMTTYPE=image/png:https://dehayf5mhw1h7.cloudfront.net/wp-content/uploads/sites/2036/2026/01/14160930/pageturners-general_6y8h-e1768428584538.png
ORGANIZER;CN="Galesburg%20Public%20Library":MAILTO:children@galesburglibrary.org
END:VEVENT
BEGIN:VEVENT
DTSTART;TZID=America/Chicago:20260416T170000
DTEND;TZID=America/Chicago:20260416T180000
DTSTAMP:20260424T230729
CREATED:20260312T203936Z
LAST-MODIFIED:20260312T203936Z
UID:696282-1776358800-1776362400@www.wgil.com
SUMMARY:Spring Wildflower Walk
DESCRIPTION:Date: Thursday\, April 16\, 2026\nTime: 5:00 – 6:00 PM\nCost: Free\nLocation: Lakeside Nature Center \nJoin us for a casual walk through the woods around Lakeside Nature Center with a Staff Naturalist! During this free\, family-friendly event\, we will take the time to enjoy the changes Spring brings\, and see if we can spot any wildflowers! \nAdult supervision required for ages 14 and under. No registration needed.
URL:https://www.wgil.com/event/spring-wildflower-walk/
LOCATION:Lakeside Nature Center\, 1033 S Lake Storey Rd\, Galesburg\, IL\, 61401\, United States
CATEGORIES:Community Events
ATTACH;FMTTYPE=image/png:https://dehayf5mhw1h7.cloudfront.net/wp-content/uploads/sites/2036/2026/03/11160050/spring-wildflower-walk-4-2026-e1773347954947.png
GEO:40.984045;-90.39031
X-APPLE-STRUCTURED-LOCATION;VALUE=URI;X-ADDRESS=Lakeside Nature Center 1033 S Lake Storey Rd Galesburg IL 61401 United States;X-APPLE-RADIUS=500;X-TITLE=1033 S Lake Storey Rd:geo:-90.39031,40.984045
END:VEVENT
BEGIN:VEVENT
DTSTART;TZID=America/Chicago:20260416T180000
DTEND;TZID=America/Chicago:20260416T200000
DTSTAMP:20260424T230729
CREATED:20260324T211720Z
LAST-MODIFIED:20260324T211720Z
UID:697259-1776362400-1776369600@www.wgil.com
SUMMARY:Craft Night Out: Kinusaiga - Faux Quilting
DESCRIPTION:Date: Thursday\, April 16\, 2026\nTime: 6:00 – 8:00 PM\nCost: $15 by April 12\nSuggested Ages: 12+ with adult assistance\nLocation: Lake Storey Pavilion \nThis month\, create a one of a kind piece in the Japanese art form of Kinusaiga\, a no-sew fabric collage which looks like faux quilting! All supplies and crafting tools provided. \nRegister at: https://app.amilia.com/store/en/city-of-galesburg-pr/shop/activities/6839986
URL:https://www.wgil.com/event/craft-night-out-kinusaiga-faux-quilting/
LOCATION:Lake Storey Pavilion\, 1572 Machen Drive\, Galesburg\, IL\, 61401\, United States
CATEGORIES:Community Events
ATTACH;FMTTYPE=image/png:https://dehayf5mhw1h7.cloudfront.net/wp-content/uploads/sites/2036/2026/03/23162656/craft-night-out-april-2026-e1774387030456.png
END:VEVENT
BEGIN:VEVENT
DTSTART;TZID=America/Chicago:20260416T190000
DTEND;TZID=America/Chicago:20260416T220000
DTSTAMP:20260424T230729
CREATED:20251208T230418Z
LAST-MODIFIED:20251208T230418Z
UID:690840-1776366000-1776376800@www.wgil.com
SUMMARY:Jazz Night
DESCRIPTION:Join in a Galesburg tradition that is 30+ years strong\, now at a brand new venue! \nCome hear the Knox Cherry Street Combo on Thursday’s from 7-10 pm at Smokin’ Willies BBQ. This is a free event and all ages are welcome. Full bar and the best barbeque around!
URL:https://www.wgil.com/event/jazz-night-9/2026-04-16/
LOCATION:Smokin' Willies BBQ\, 161 N Cherry St\, Galesburg\, 61401
CATEGORIES:Community Events
ATTACH;FMTTYPE=image/png:https://dehayf5mhw1h7.cloudfront.net/wp-content/uploads/sites/2036/2025/12/05162558/2025-jazz-night-social_email-e1765235028565.png
ORGANIZER;CN="Knox%20College%20Music%20Department":MAILTO:music@knox.edu
END:VEVENT
BEGIN:VEVENT
DTSTART;VALUE=DATE:20260417
DTEND;VALUE=DATE:20260427
DTSTAMP:20260424T230729
CREATED:20260410T180236Z
LAST-MODIFIED:20260410T180401Z
UID:698248-1776384000-1777247999@www.wgil.com
SUMMARY:Farce of Nature — Prairie Players Civic Theatre
DESCRIPTION:  \nPrairie Players Civic Theatre presents “Farce of Nature\,” a comedy by Jones Hope Wooten\, directed by Mary Ellen Milem. Check PrairiePlayers.com for show times. Tickets available at PrairiePlayers.com or by calling 309-343-7728. \n 
URL:https://www.wgil.com/event/farce-of-nature-prairie-players-civic-theatre/
LOCATION:Prairie Players Civic Theatre\, 160 South Seminary Street\, Galesburg\, IL\, 61401\, United States
CATEGORIES:Community Events
ATTACH;FMTTYPE=image/jpeg:https://dehayf5mhw1h7.cloudfront.net/wp-content/uploads/sites/2036/2026/04/10130045/20260410_112457-copy.jpg
END:VEVENT
BEGIN:VEVENT
DTSTART;TZID=America/Chicago:20260417T170000
DTEND;TZID=America/Chicago:20260417T190000
DTSTAMP:20260424T230729
CREATED:20260416T213900Z
LAST-MODIFIED:20260416T214737Z
UID:698501-1776445200-1776452400@www.wgil.com
SUMMARY:Knoxville American Legion Fish Fry Dinner
DESCRIPTION:Join your family and friends at the Knoxville Legion for an amazing fish or chicken dinner. \nFried catfish dinner $13.00\nFried Walleye dinner $13.00\nChicken Strip dinner $11.00\nChoice of Baked Potato or Fries\nChoice of Baked Beans or Cloe Slaw\nDinner Roll \nServing from 5:00 PM to 7:00 PM Dine In or Carry Out
URL:https://www.wgil.com/event/knoxville-american-legion-fish-fry-dinner/2026-04-17/
LOCATION:Knoxville American Legion\, Knoxville\, IL\, 61448\, United States
CATEGORIES:Community Events
ATTACH;FMTTYPE=image/png:https://dehayf5mhw1h7.cloudfront.net/wp-content/uploads/sites/2036/2026/04/16074744/fish-e1776375527646.png
END:VEVENT
BEGIN:VEVENT
DTSTART;TZID=America/Chicago:20260417T173000
DTEND;TZID=America/Chicago:20260417T210000
DTSTAMP:20260424T230729
CREATED:20260324T212942Z
LAST-MODIFIED:20260324T212942Z
UID:697266-1776447000-1776459600@www.wgil.com
SUMMARY:Savor the Story - An Evening of Film\, Food & Community
DESCRIPTION:Join the Galesburg Public Library Foundation for Savor the Story\, a unique evening inspired by the film Julie & Julia. Guests will enjoy themed bites\, community connection\, and a shared love of storytelling. \nThis event kicks off the Foundation’s annual campaign supporting the Community Read and Summer Reading programs. \nTickets: $50 per person | $350 table of 8\nReserve your spot on our website.
URL:https://www.wgil.com/event/savor-the-story-an-evening-of-film-food-community/
LOCATION:Galesburg Public Library\, 264 W. Main Street\, Galesburg\, IL\, 61401\, United States
CATEGORIES:Community Events
ATTACH;FMTTYPE=image/png:https://dehayf5mhw1h7.cloudfront.net/wp-content/uploads/sites/2036/2026/03/23210846/savor-the-story.png
END:VEVENT
BEGIN:VEVENT
DTSTART;TZID=America/Chicago:20260418T090000
DTEND;TZID=America/Chicago:20260418T160000
DTSTAMP:20260424T230729
CREATED:20260410T181534Z
LAST-MODIFIED:20260410T181534Z
UID:698252-1776502800-1776528000@www.wgil.com
SUMMARY:Field Trip to Bishop Hill: Monoprint Workshop with Katrina Morrison
DESCRIPTION:Join the Buchanan Center for the Arts on a trip to Bishop Hill for a monoprint workshop with artist Katrina Morrison. Meet at the BCA\, 64 Public Square\, Monmouth\, at 9 a.m. and board the bus to Bishop Hill. Participants will make their own monoprints in the Dairy Building\, explore the historic village\, view the art invitational\, and visit the Colony Store. Class is intended for adults. BCA members $35\, non-members $50. Scholarships available. To reserve a spot\, call 309-734-3033.
URL:https://www.wgil.com/event/field-trip-to-bishop-hill-monoprint-workshop-with-katrina-morrison/
LOCATION:IL
CATEGORIES:Community Events
ATTACH;FMTTYPE=image/jpeg:https://dehayf5mhw1h7.cloudfront.net/wp-content/uploads/sites/2036/2026/04/10131018/20260410_112521-copy.jpg
END:VEVENT
BEGIN:VEVENT
DTSTART;TZID=America/Chicago:20260418T123000
DTEND;TZID=America/Chicago:20260418T143000
DTSTAMP:20260424T230729
CREATED:20260325T213051Z
LAST-MODIFIED:20260325T213051Z
UID:697373-1776515400-1776522600@www.wgil.com
SUMMARY:Puppet Artistry
DESCRIPTION:Design your very own puppet in our Art Studio! This is free with admission.
URL:https://www.wgil.com/event/puppet-artistry/
LOCATION:Discovery Depot\, 128 S Chambers St\, Galesburg\, IL\, 61401\, United States
CATEGORIES:Community Events
ATTACH;FMTTYPE=image/jpeg:https://dehayf5mhw1h7.cloudfront.net/wp-content/uploads/sites/2036/2026/03/25092627/april18_puppets-e1774473559186.jpg
END:VEVENT
BEGIN:VEVENT
DTSTART;TZID=America/Chicago:20260418T124500
DTEND;TZID=America/Chicago:20260418T124500
DTSTAMP:20260424T230729
CREATED:20220831T050559Z
LAST-MODIFIED:20220831T050559Z
UID:652881-1776516300-1776516300@www.wgil.com
SUMMARY:BINGO at the Galesburg VFW
DESCRIPTION:Come and have some fun at the Galesburg VFW with BINGO each Saturday. Doors open at 10:30a and BINGO starts at 12:45p.
URL:https://www.wgil.com/event/bingo-at-the-galesburg-vfw-2/2026-04-18/
LOCATION:Galesburg VFW Post 2257\, 1001 Michigan ave\, Galesburg\, IL\, 61401\, United States
CATEGORIES:Community Events
END:VEVENT
BEGIN:VEVENT
DTSTART;TZID=America/Chicago:20260418T163000
DTEND;TZID=America/Chicago:20260418T183000
DTSTAMP:20260424T230729
CREATED:20260323T192842Z
LAST-MODIFIED:20260323T192842Z
UID:697187-1776529800-1776537000@www.wgil.com
SUMMARY:Swedish Meatball Supper
DESCRIPTION:Rio Presbyterian Church is hosting its annual Swedish Meatball Supper on Saturday\, April 18th from 4:30pm-6:30pm. Free will donation. Dine in or carry-out by calling 309-972-2596. An elevator lift is available at the church.
URL:https://www.wgil.com/event/swedish-meatball-supper-2/
LOCATION:Rio Presbyterian Church\, 210 East Center Ave\, Rio\, IL\, 61472\, United States
CATEGORIES:Community Events
ATTACH;FMTTYPE=image/png:https://dehayf5mhw1h7.cloudfront.net/wp-content/uploads/sites/2036/2026/03/21203822/rio-church-swedish-meatball-dinner-2026-e1774294109782.png
END:VEVENT
BEGIN:VEVENT
DTSTART;TZID=America/Chicago:20260418T180000
DTEND;TZID=America/Chicago:20260418T220000
DTSTAMP:20260424T230729
CREATED:20260413T204850Z
LAST-MODIFIED:20260413T204850Z
UID:698336-1776535200-1776549600@www.wgil.com
SUMMARY:Trivia Night supporting  Cameron Fireworks
DESCRIPTION:Join us at the Abingdon American Legion for a trivia night supporting Cameron Fireworks. There will be a Sloppy Joe meal\, free will donation bake sale\, silent auction items \, a 50/50 raffle\, and a wine pull.
URL:https://www.wgil.com/event/trivia-night-supporting-cameron-fireworks/
LOCATION:Abingdon American Legion\, Abingdon\, IL\, 61410\, United States
CATEGORIES:Community Events
ATTACH;FMTTYPE=image/jpeg:https://dehayf5mhw1h7.cloudfront.net/wp-content/uploads/sites/2036/2026/04/13074553/screenshot_20260331_185917_messages-e1776113316514.jpg
END:VEVENT
BEGIN:VEVENT
DTSTART;TZID=America/Chicago:20260418T183000
DTEND;TZID=America/Chicago:20260418T223000
DTSTAMP:20260424T230729
CREATED:20260319T204517Z
LAST-MODIFIED:20260319T204517Z
UID:696988-1776537000-1776551400@www.wgil.com
SUMMARY:Choral Dynamics - Name That Tune & Artist Trivia
DESCRIPTION:Name that Tune & Artist Trivia\, 50/50\, Silent Themed Gift Basic Auction and food!!\nApril 18th. 6:30pm. Doors open 5pm. Knights of Columbus Hall. Register – choraldynamics@gmail.com\, $15 per person. Max 10 people per table. See flyer. Join the fun at our annual fund raiser in preparation for our 50th anniversary spring show – Raising Spirits with Song.
URL:https://www.wgil.com/event/choral-dynamics-name-that-tune-artist-trivia/
LOCATION:Galesburg Knights of Columbus Hall\, 1556 E Fremont St\, Galesburg\, IL\, 61401\, United States
CATEGORIES:Community Events
ATTACH;FMTTYPE=image/jpeg:https://dehayf5mhw1h7.cloudfront.net/wp-content/uploads/sites/2036/2026/03/18215610/fb_img_1773877944792-e1773953062561.jpg
ORGANIZER;CN="Choral%20Dynamics":MAILTO:choraldynamics@gmail.com
END:VEVENT
BEGIN:VEVENT
DTSTART;TZID=America/Chicago:20260419T123000
DTEND;TZID=America/Chicago:20260419T143000
DTSTAMP:20260424T230729
CREATED:20260325T213143Z
LAST-MODIFIED:20260325T213143Z
UID:697380-1776601800-1776609000@www.wgil.com
SUMMARY:3D Sand Painting
DESCRIPTION:Stop by our Art Studio to paint with sand! This activity is free with admission.
URL:https://www.wgil.com/event/3d-sand-painting/
LOCATION:Discovery Depot\, 128 S Chambers St\, Galesburg\, IL\, 61401\, United States
CATEGORIES:Community Events
ATTACH;FMTTYPE=image/jpeg:https://dehayf5mhw1h7.cloudfront.net/wp-content/uploads/sites/2036/2026/03/25094009/april19_sand-e1774474291143.jpg
END:VEVENT
BEGIN:VEVENT
DTSTART;TZID=America/Chicago:20260420T100000
DTEND;TZID=America/Chicago:20260420T103000
DTSTAMP:20260424T230729
CREATED:20260107T224952Z
LAST-MODIFIED:20260107T224952Z
UID:692202-1776679200-1776681000@www.wgil.com
SUMMARY:Toddler Storytime
DESCRIPTION:Stories\, rhymes\, songs\, and movement for toddlers ages 18-36 months and their caregivers. No registration required.
URL:https://www.wgil.com/event/toddler-storytime-5/2026-04-20/
LOCATION:Galesburg Public Library\, 264 W. Main Street\, Galesburg\, IL\, 61401\, United States
CATEGORIES:Community Events
ATTACH;FMTTYPE=image/png:https://dehayf5mhw1h7.cloudfront.net/wp-content/uploads/sites/2036/2026/01/06181313/toddler-storytime-spring-postcard-e1767826159783.png
ORGANIZER;CN="Galesburg%20Public%20Library":MAILTO:children@galesburglibrary.org
END:VEVENT
BEGIN:VEVENT
DTSTART;TZID=America/Chicago:20260420T170000
DTEND;TZID=America/Chicago:20260420T210000
DTSTAMP:20260424T230729
CREATED:20260416T214553Z
LAST-MODIFIED:20260420T174035Z
UID:698540-1776704400-1776718800@www.wgil.com
SUMMARY:Bingo Night at the Knoxville Legion
DESCRIPTION:Join us for a night of Bingo at the Knoxville American Legion. \nDoors open at 5:00 PM\nBingo from 6:00 PM to 9:00 PM
URL:https://www.wgil.com/event/bingo-night-at-the-knoxville-legion/
LOCATION:Knoxville American Legion\, Knoxville\, IL\, 61448\, United States
CATEGORIES:Community Events
ATTACH;FMTTYPE=image/jpeg:https://dehayf5mhw1h7.cloudfront.net/wp-content/uploads/sites/2036/2026/04/16080041/bingo.jpg
END:VEVENT
BEGIN:VEVENT
DTSTART;TZID=America/Chicago:20260421T120000
DTEND;TZID=America/Chicago:20260421T130000
DTSTAMP:20260424T230729
CREATED:20260415T211035Z
LAST-MODIFIED:20260415T211035Z
UID:698435-1776772800-1776776400@www.wgil.com
SUMMARY:Spring Success Series with Sandburg
DESCRIPTION:Join Tracy Engstrom for free career development workshops\, open to the community! Register here. \nPower Up Your LinkedIn Profile – April 21\nLearn how to craft a standout LinkedIn presence that showcases your skills\, builds your network\, and attracts opportunities. \nResume 911 – May 12\nBring your resume and get quick\, expert tips to rescue your resume and make it shine! \nInterview Bootcamp – May 19\nGet interview ready with strategies\, mock questions\, and expert guidance to help you make a lasting impression and land the job.
URL:https://www.wgil.com/event/spring-success-series-with-sandburg/
LOCATION:Carl Sandburg College\, 2400 Tom L. Wilson Blvd.\, Galesburg\, IL\, 61401\, United States
CATEGORIES:Community Events
ATTACH;FMTTYPE=image/jpeg:https://dehayf5mhw1h7.cloudfront.net/wp-content/uploads/sites/2036/2026/04/15161012/1776203836923.jpg
GEO:40.9803273;-90.4072559
X-APPLE-STRUCTURED-LOCATION;VALUE=URI;X-ADDRESS=Carl Sandburg College 2400 Tom L. Wilson Blvd. Galesburg IL 61401 United States;X-APPLE-RADIUS=500;X-TITLE=2400 Tom L. Wilson Blvd.:geo:-90.4072559,40.9803273
END:VEVENT
BEGIN:VEVENT
DTSTART;TZID=America/Chicago:20260421T160000
DTEND;TZID=America/Chicago:20260421T170000
DTSTAMP:20260424T230729
CREATED:20260107T224553Z
LAST-MODIFIED:20260107T224553Z
UID:692143-1776787200-1776790800@www.wgil.com
SUMMARY:Pokémon Club for Kids
DESCRIPTION:Hey Pokémon trainers! Come journey on over to the Children’s Library for Pokémon Club. Join us to play the card game\, trade cards\, or both! For kids in grades K-6. All children under 8 years of age must be accompanied by an adult.
URL:https://www.wgil.com/event/pokemon-club-for-kids-2/2026-04-21/
LOCATION:Galesburg Public Library\, 264 W. Main Street\, Galesburg\, IL\, 61401\, United States
CATEGORIES:Community Events
ATTACH;FMTTYPE=image/png:https://dehayf5mhw1h7.cloudfront.net/wp-content/uploads/sites/2036/2026/01/06182254/pokemon-club-postcard-spring-2026-e1767825695215.png
ORGANIZER;CN="Galesburg%20Public%20Library":MAILTO:children@galesburglibrary.org
END:VEVENT
BEGIN:VEVENT
DTSTART;TZID=America/Chicago:20260421T180000
DTEND;TZID=America/Chicago:20260421T200000
DTSTAMP:20260424T230729
CREATED:20260210T230734Z
LAST-MODIFIED:20260210T230734Z
UID:694219-1776794400-1776801600@www.wgil.com
SUMMARY:Make It Macrame
DESCRIPTION:Date: Tuesday\, April 21\, 2026\nTime: 6-8PM\nCost: $22 by April 14\nLocation: Lake Storey Pavilion \nOur April project is a Tree of Life hoop wall hanging!\nThis project looks fancy but uses mostly one knot throughout\, so beginners welcome! Suggested ages 10+.\nAll supplies provided\, including pre-cut white cording\, pattern and metal hoop. \nRegister at: https://app.amilia.com/store/en/city-of-galesburg-pr/shop/activities/6500158
URL:https://www.wgil.com/event/make-it-macrame-3/
LOCATION:Lake Storey Pavilion\, 1572 Machen Drive\, Galesburg\, IL\, 61462\, United States
CATEGORIES:Community Events
ATTACH;FMTTYPE=image/png:https://dehayf5mhw1h7.cloudfront.net/wp-content/uploads/sites/2036/2026/02/10155021/macrame-tree-of-life-4-2026-fb-e1770764780205.png
END:VEVENT
BEGIN:VEVENT
DTSTART;VALUE=DATE:20260422
DTEND;VALUE=DATE:20260423
DTSTAMP:20260424T230729
CREATED:20200912T172504Z
LAST-MODIFIED:20200912T172504Z
UID:653028-1776816000-1776902399@www.wgil.com
SUMMARY:Galesburg Veterans Van
DESCRIPTION:We start running to Iowa City VA Hospital on Wednesdays and Thursdays.  Please give us a weeks notice. 309-342-7735
URL:https://www.wgil.com/event/galesburg-veterans-van-2/2026-04-22/
LOCATION:IL
CATEGORIES:Community Events
ATTACH;FMTTYPE=image/jpeg:https://dehayf5mhw1h7.cloudfront.net/wp-content/uploads/sites/2036/2020/09/12172504/7D5E0CF3-3117-4BDA-80CF-17EE7A16E44C-e1599931346207.jpeg
ORGANIZER;CN="Galesburg%20Veterans%20Van":MAILTO:Galesburgveteransvan@gmail.com
END:VEVENT
END:VCALENDAR