BEGIN:VCALENDAR
VERSION:2.0
PRODID:-//WGIL 93.7 FM - 1400 AM - ECPv5.6.0//NONSGML v1.0//EN
CALSCALE:GREGORIAN
METHOD:PUBLISH
X-WR-CALNAME:WGIL 93.7 FM - 1400 AM
X-ORIGINAL-URL:https://www.wgil.com
X-WR-CALDESC:Events for WGIL 93.7 FM - 1400 AM
BEGIN:VTIMEZONE
TZID:America/Chicago
BEGIN:DAYLIGHT
TZOFFSETFROM:-0600
TZOFFSETTO:-0500
TZNAME:CDT
DTSTART:20260308T080000
END:DAYLIGHT
BEGIN:STANDARD
TZOFFSETFROM:-0500
TZOFFSETTO:-0600
TZNAME:CST
DTSTART:20261101T070000
END:STANDARD
TZID:America/New_York
BEGIN:DAYLIGHT
TZOFFSETFROM:-0500
TZOFFSETTO:-0400
TZNAME:EDT
DTSTART:20260308T070000
END:DAYLIGHT
BEGIN:STANDARD
TZOFFSETFROM:-0400
TZOFFSETTO:-0500
TZNAME:EST
DTSTART:20261101T060000
END:STANDARD
END:VTIMEZONE
BEGIN:VEVENT
DTSTART;TZID=America/Chicago:20260106T103000
DTEND;TZID=America/Chicago:20260106T113000
DTSTAMP:20260425T062755
CREATED:20251222T221547Z
LAST-MODIFIED:20251222T221547Z
UID:691388-1767695400-1767699000@www.wgil.com
SUMMARY:Engine & Caboose
DESCRIPTION:Tuesdays and Wednesdays from 10:30 to 11:30\nBook will be read at 10:30am.\nEngine and Caboose is a weekly preschool program for children ages 2 to 5 years old. It promotes early literacy\, fine motor and math skills. FREE with paid admission.
URL:https://www.wgil.com/event/engine-caboose-37/2026-01-06/
LOCATION:Discovery Depot\, 128 S Chambers St\, Galesburg\, IL\, 61401\, United States
CATEGORIES:Community Events
ATTACH;FMTTYPE=image/png:https://dehayf5mhw1h7.cloudfront.net/wp-content/uploads/sites/2036/2025/12/20103058/jan-6-2026-engine-caboose-1-e1766441722160.png
ORGANIZER;CN="Discovery%20Depot":MAILTO:director@discoverydepot.org
END:VEVENT
BEGIN:VEVENT
DTSTART;VALUE=DATE:20260107
DTEND;VALUE=DATE:20260108
DTSTAMP:20260425T062755
CREATED:20200912T172504Z
LAST-MODIFIED:20200912T172504Z
UID:646958-1767744000-1767830399@www.wgil.com
SUMMARY:Galesburg Veterans Van
DESCRIPTION:We start running to Iowa City VA Hospital on Wednesdays and Thursdays.  Please give us a weeks notice. 309-342-7735
URL:https://www.wgil.com/event/galesburg-veterans-van-2/2026-01-07/
LOCATION:IL
CATEGORIES:Community Events
ATTACH;FMTTYPE=image/jpeg:https://dehayf5mhw1h7.cloudfront.net/wp-content/uploads/sites/2036/2020/09/12172504/7D5E0CF3-3117-4BDA-80CF-17EE7A16E44C-e1599931346207.jpeg
ORGANIZER;CN="Galesburg%20Veterans%20Van":MAILTO:Galesburgveteransvan@gmail.com
END:VEVENT
BEGIN:VEVENT
DTSTART;TZID=America/Chicago:20260107T103000
DTEND;TZID=America/Chicago:20260107T113000
DTSTAMP:20260425T062755
CREATED:20251222T221548Z
LAST-MODIFIED:20251222T221548Z
UID:691390-1767781800-1767785400@www.wgil.com
SUMMARY:Engine & Caboose
DESCRIPTION:Tuesdays and Wednesdays from 10:30 to 11:30\nBook will be read at 10:30am.\nEngine and Caboose is a weekly preschool program for children ages 2 to 5 years old. It promotes early literacy\, fine motor and math skills. FREE with paid admission.
URL:https://www.wgil.com/event/engine-caboose-37/2026-01-07/
LOCATION:Discovery Depot\, 128 S Chambers St\, Galesburg\, IL\, 61401\, United States
CATEGORIES:Community Events
ATTACH;FMTTYPE=image/png:https://dehayf5mhw1h7.cloudfront.net/wp-content/uploads/sites/2036/2025/12/20103058/jan-6-2026-engine-caboose-1-e1766441722160.png
ORGANIZER;CN="Discovery%20Depot":MAILTO:director@discoverydepot.org
END:VEVENT
BEGIN:VEVENT
DTSTART;TZID=America/Chicago:20260107T130000
DTEND;TZID=America/Chicago:20260107T140000
DTSTAMP:20260425T062755
CREATED:20210524T132602Z
LAST-MODIFIED:20210524T132602Z
UID:646960-1767790800-1767794400@www.wgil.com
SUMMARY:St. Vincent de Paul Food Pantry
DESCRIPTION:ST VINCENT DE PAUL WEEKLY FOOD DISTRIBUTION. Weekly (Wednesdays from 1PM toll 2 PM) grocery distribution for individuals and families in need. \nCurbside service is provided as well. \nNot required to call ahead\, but calling will speed up the process. \nWill be asked whether they need a milk voucher\, number of adults and children in family and about any food restrictions. \nNUMBER TO CALL: 815-200-4911.
URL:https://www.wgil.com/event/st-vincent-de-paul-food-pantry/2026-01-07/
LOCATION:Corpus Christi Church basement\, 273 South Prairie St\, Galesburg\, IL\, 61401\, United States
CATEGORIES:Community Events
ORGANIZER;CN="St%20Vincent%20de%20Paul%20Society":MAILTO:dallind@grics.net
END:VEVENT
BEGIN:VEVENT
DTSTART;TZID=America/New_York:20260107T183000
DTEND;TZID=America/New_York:20260107T200000
DTSTAMP:20260425T062755
CREATED:20200124T193917Z
LAST-MODIFIED:20200124T193917Z
UID:646957-1767810600-1767816000@www.wgil.com
SUMMARY:Chess Club
DESCRIPTION:A chess club for players of all levels will meet at 6:30 pm on Wednesday nights at the Henderson Town Hall. There is no cost to come play\, learn and make friends.
URL:https://www.wgil.com/event/chess-club/2026-01-07/
LOCATION:Henderson Town Hall\, 215 S Main Street\, HENDERSON\, IL\, 61439\, United States
CATEGORIES:Community Events
ORGANIZER;CN="Dale%20Hidden":MAILTO:dale_hidden@yahoo.com
END:VEVENT
BEGIN:VEVENT
DTSTART;VALUE=DATE:20260108
DTEND;VALUE=DATE:20260109
DTSTAMP:20260425T062755
CREATED:20200912T172504Z
LAST-MODIFIED:20200912T172504Z
UID:646959-1767830400-1767916799@www.wgil.com
SUMMARY:Galesburg Veterans Van
DESCRIPTION:We start running to Iowa City VA Hospital on Wednesdays and Thursdays.  Please give us a weeks notice. 309-342-7735
URL:https://www.wgil.com/event/galesburg-veterans-van-2/2026-01-08/
LOCATION:IL
CATEGORIES:Community Events
ATTACH;FMTTYPE=image/jpeg:https://dehayf5mhw1h7.cloudfront.net/wp-content/uploads/sites/2036/2020/09/12172504/7D5E0CF3-3117-4BDA-80CF-17EE7A16E44C-e1599931346207.jpeg
ORGANIZER;CN="Galesburg%20Veterans%20Van":MAILTO:Galesburgveteransvan@gmail.com
END:VEVENT
BEGIN:VEVENT
DTSTART;TZID=America/Chicago:20260108T130000
DTEND;TZID=America/Chicago:20260108T140000
DTSTAMP:20260425T062755
CREATED:20240207T184146Z
LAST-MODIFIED:20240207T190420Z
UID:648690-1767877200-1767880800@www.wgil.com
SUMMARY:First Lutheran Church Food Pantry
DESCRIPTION:First Lutheran Church Food Pantry\, 364 E. Water St.\, Galesburg.
URL:https://www.wgil.com/event/first-lutheran-church-food-pantry/2026-01-08/
LOCATION:First Lutheran Church\, 364 E. Water St.\, Galesburg\, IL\, 61401\, United States
CATEGORIES:Community Events
ATTACH;FMTTYPE=image/jpeg:https://dehayf5mhw1h7.cloudfront.net/wp-content/uploads/sites/2036/2020/05/27162250/first-lutheran-church-food-pantry.jpg
GEO:40.9495812;-90.3650888
X-APPLE-STRUCTURED-LOCATION;VALUE=URI;X-ADDRESS=First Lutheran Church 364 E. Water St. Galesburg IL 61401 United States;X-APPLE-RADIUS=500;X-TITLE=364 E. Water St.:geo:-90.3650888,40.9495812
END:VEVENT
BEGIN:VEVENT
DTSTART;TZID=America/Chicago:20260108T160000
DTEND;TZID=America/Chicago:20260108T170000
DTSTAMP:20260425T062755
CREATED:20260107T224623Z
LAST-MODIFIED:20260107T224623Z
UID:692146-1767888000-1767891600@www.wgil.com
SUMMARY:Lego Mania
DESCRIPTION:Come build with LEGO blocks to your heart’s content. For kids of all ages with an adult.
URL:https://www.wgil.com/event/lego-mania-7/2026-01-08/
LOCATION:Galesburg Public Library\, 264 W. Main Street\, Galesburg\, IL\, 61401\, United States
CATEGORIES:Community Events
ATTACH;FMTTYPE=image/png:https://dehayf5mhw1h7.cloudfront.net/wp-content/uploads/sites/2036/2026/01/06182526/lego-mania-postcard-2-e1767825967623.png
ORGANIZER;CN="Galesburg%20Public%20Library":MAILTO:children@galesburglibrary.org
END:VEVENT
BEGIN:VEVENT
DTSTART;TZID=America/Chicago:20260108T180000
DTEND;TZID=America/Chicago:20260108T190000
DTSTAMP:20260425T062755
CREATED:20260107T230902Z
LAST-MODIFIED:20260107T230902Z
UID:692261-1767895200-1767898800@www.wgil.com
SUMMARY:Tween Time
DESCRIPTION:Calling all tweens in grades 4-6! Join us twice a month for fun crafts\, games\, or building challenges. We will focus on a different topic or activity each session. Advance registration is required.
URL:https://www.wgil.com/event/tween-time/
LOCATION:Galesburg Public Library\, 264 W. Main Street\, Galesburg\, IL\, 61401\, United States
CATEGORIES:Community Events
ATTACH;FMTTYPE=image/png:https://dehayf5mhw1h7.cloudfront.net/wp-content/uploads/sites/2036/2026/01/07170833/tween-time-spring-2026-postcard_erou-e1767827327440.png
ORGANIZER;CN="Galesburg%20Public%20Library":MAILTO:children@galesburglibrary.org
END:VEVENT
BEGIN:VEVENT
DTSTART;TZID=America/Chicago:20260108T190000
DTEND;TZID=America/Chicago:20260108T220000
DTSTAMP:20260425T062755
CREATED:20251208T230400Z
LAST-MODIFIED:20251208T230400Z
UID:690458-1767898800-1767909600@www.wgil.com
SUMMARY:Jazz Night
DESCRIPTION:Join in a Galesburg tradition that is 30+ years strong\, now at a brand new venue! \nCome hear the Knox Cherry Street Combo on Thursday’s from 7-10 pm at Smokin’ Willies BBQ. This is a free event and all ages are welcome. Full bar and the best barbeque around!
URL:https://www.wgil.com/event/jazz-night-9/2026-01-08/
LOCATION:Smokin' Willies BBQ\, 161 N Cherry St\, Galesburg\, 61401
CATEGORIES:Community Events
ATTACH;FMTTYPE=image/png:https://dehayf5mhw1h7.cloudfront.net/wp-content/uploads/sites/2036/2025/12/05162558/2025-jazz-night-social_email-e1765235028565.png
ORGANIZER;CN="Knox%20College%20Music%20Department":MAILTO:music@knox.edu
END:VEVENT
BEGIN:VEVENT
DTSTART;TZID=America/Chicago:20260110T103000
DTEND;TZID=America/Chicago:20260110T123000
DTSTAMP:20260425T062755
CREATED:20251022T220536Z
LAST-MODIFIED:20251022T220536Z
UID:688063-1768041000-1768048200@www.wgil.com
SUMMARY:Indoor Mobile Playground
DESCRIPTION:Dates: December 13 & 27\, 2025. January 10 & 24\, 2026. February 14 & 28\, 2026. March 14\, 2026.\nTime: 10:30AM-12:30PM\nCost: $5 daily admission for ages 3-12; ages 2 and under are free\nLocation: Lakeside Recreation Facility \nWe will set up a variety of toys and activities to challenge and entertain your kiddos (and adults)! Who doesn’t love a good game of giant frisbee or jumbo Connect 4? Each week we will feature a large game (inflatable game or obstacle course) or fun guests/special activities! \nPre-registration encouraged\, but drop-ins allowed\, as space permits. Please register each person individually. All ages are welcome. Children age 6 & under must be directly supervised. Adults can stay in the play court area or walk around the tennis courts while their children play if direct supervision is not required. Adults must stay in the facility while minors are playing. \n*Certain dates may be cancelled\, depending on facility bookings and holidays. \nRegister at: https://app.amilia.com/store/en/city-of-galesburg-pr/shop/programs/122415?subCategoryIds=6297334
URL:https://www.wgil.com/event/indoor-mobile-playground-3/2026-01-10/
LOCATION:Lakeside Recreation Facility\, 1033 S. Lake Storey Rd\, Galesburg\, IL\, 61401\, United States
CATEGORIES:Community Events
ATTACH;FMTTYPE=image/png:https://dehayf5mhw1h7.cloudfront.net/wp-content/uploads/sites/2036/2025/10/22143247/mobile-playground-indoor-25-26-fb.png
END:VEVENT
BEGIN:VEVENT
DTSTART;TZID=America/Chicago:20260110T124500
DTEND;TZID=America/Chicago:20260110T124500
DTSTAMP:20260425T062755
CREATED:20220831T050559Z
LAST-MODIFIED:20220831T050559Z
UID:647150-1768049100-1768049100@www.wgil.com
SUMMARY:BINGO at the Galesburg VFW
DESCRIPTION:Come and have some fun at the Galesburg VFW with BINGO each Saturday. Doors open at 10:30a and BINGO starts at 12:45p.
URL:https://www.wgil.com/event/bingo-at-the-galesburg-vfw-2/2026-01-10/
LOCATION:Galesburg VFW Post 2257\, 1001 Michigan ave\, Galesburg\, IL\, 61401\, United States
CATEGORIES:Community Events
END:VEVENT
BEGIN:VEVENT
DTSTART;TZID=America/Chicago:20260111T110000
DTEND;TZID=America/Chicago:20260111T140000
DTSTAMP:20260425T062755
CREATED:20260107T231451Z
LAST-MODIFIED:20260107T231451Z
UID:692271-1768129200-1768140000@www.wgil.com
SUMMARY:Knox County Wedding Expo
DESCRIPTION: You’re Officially Off the Market! Join Our Annual Wedding Expo! \n\nGet ready to celebrate your journey to “I do” at our spectacular Annual Wedding Expo: Off the Market! Whether you just got engaged or are counting down the days\, this is your exclusive chance to find everything you need to plan the wedding of your dreams—all under one roof.\n\nWhat to Expect:\n Premier Vendors: Meet the area’s top wedding professionals—from photographers and florists to venues and designers—ready to make your vision a reality.\n Inspiration Galore: See the latest trends\, breathtaking displays\, and stunning fashion shows to spark your creativity.\n Exclusive Deals & Prizes: Many vendors will be offering special “Expo Only” discounts\, and you’ll have chances to win amazing giveaways!\n Tastings & Fun: Enjoy samples\, refreshments\, and an exciting\, celebratory atmosphere with other couples.\n\nStop scrolling\, start planning! You’ve found your person\, now let us help you find your perfect vendors.
URL:https://www.wgil.com/event/knox-county-wedding-expo/
LOCATION:The Vault at Reserve Artisan Ales\, 185 S. Kellogg Street\, Galesburg\, IL\, 61401\, United States
CATEGORIES:Community Events
ATTACH;FMTTYPE=image/jpeg:https://dehayf5mhw1h7.cloudfront.net/wp-content/uploads/sites/2036/2026/01/07171412/585528598_1268938025253498_5315682634373461977_n-e1767827663729.jpg
ORGANIZER;CN="Knox%20County%20Weddings":MAILTO:info.knoxcountyweddings@gmail.com
END:VEVENT
BEGIN:VEVENT
DTSTART;TZID=America/Chicago:20260112T100000
DTEND;TZID=America/Chicago:20260112T103000
DTSTAMP:20260425T062755
CREATED:20260107T224931Z
LAST-MODIFIED:20260107T224931Z
UID:692098-1768212000-1768213800@www.wgil.com
SUMMARY:Toddler Storytime
DESCRIPTION:Stories\, rhymes\, songs\, and movement for toddlers ages 18-36 months and their caregivers. No registration required.
URL:https://www.wgil.com/event/toddler-storytime-5/2026-01-12/
LOCATION:Galesburg Public Library\, 264 W. Main Street\, Galesburg\, IL\, 61401\, United States
CATEGORIES:Community Events
ATTACH;FMTTYPE=image/png:https://dehayf5mhw1h7.cloudfront.net/wp-content/uploads/sites/2036/2026/01/06181313/toddler-storytime-spring-postcard-e1767826159783.png
ORGANIZER;CN="Galesburg%20Public%20Library":MAILTO:children@galesburglibrary.org
END:VEVENT
BEGIN:VEVENT
DTSTART;TZID=America/Chicago:20260113T103000
DTEND;TZID=America/Chicago:20260113T113000
DTSTAMP:20260425T062755
CREATED:20251222T221549Z
LAST-MODIFIED:20251222T221549Z
UID:691391-1768300200-1768303800@www.wgil.com
SUMMARY:Engine & Caboose
DESCRIPTION:Tuesdays and Wednesdays from 10:30 to 11:30\nBook will be read at 10:30am.\nEngine and Caboose is a weekly preschool program for children ages 2 to 5 years old. It promotes early literacy\, fine motor and math skills. FREE with paid admission.
URL:https://www.wgil.com/event/engine-caboose-37/2026-01-13/
LOCATION:Discovery Depot\, 128 S Chambers St\, Galesburg\, IL\, 61401\, United States
CATEGORIES:Community Events
ATTACH;FMTTYPE=image/png:https://dehayf5mhw1h7.cloudfront.net/wp-content/uploads/sites/2036/2025/12/20103058/jan-6-2026-engine-caboose-1-e1766441722160.png
ORGANIZER;CN="Discovery%20Depot":MAILTO:director@discoverydepot.org
END:VEVENT
BEGIN:VEVENT
DTSTART;TZID=America/Chicago:20260113T183000
DTEND;TZID=America/Chicago:20260113T193000
DTSTAMP:20260425T062755
CREATED:20260107T224059Z
LAST-MODIFIED:20260107T224059Z
UID:692129-1768329000-1768332600@www.wgil.com
SUMMARY:Cuenta Cuentos: Bilingual Storytime
DESCRIPTION:Let’s read\, sing\, and play together in English and Spanish. For kids ages 6 and under with an adult.
URL:https://www.wgil.com/event/cuenta-cuentos-bilingual-storytime-2/2026-01-13/
LOCATION:Galesburg Public Library\, 264 W. Main Street\, Galesburg\, IL\, 61401\, United States
CATEGORIES:Community Events
ATTACH;FMTTYPE=image/png:https://dehayf5mhw1h7.cloudfront.net/wp-content/uploads/sites/2036/2026/01/06181952/bilingual-storytime-postcard-spring-e1767825610758.png
ORGANIZER;CN="Galesburg%20Public%20Library":MAILTO:children@galesburglibrary.org
END:VEVENT
BEGIN:VEVENT
DTSTART;VALUE=DATE:20260114
DTEND;VALUE=DATE:20260115
DTSTAMP:20260425T062755
CREATED:20200912T172504Z
LAST-MODIFIED:20200912T172504Z
UID:647274-1768348800-1768435199@www.wgil.com
SUMMARY:Galesburg Veterans Van
DESCRIPTION:We start running to Iowa City VA Hospital on Wednesdays and Thursdays.  Please give us a weeks notice. 309-342-7735
URL:https://www.wgil.com/event/galesburg-veterans-van-2/2026-01-14/
LOCATION:IL
CATEGORIES:Community Events
ATTACH;FMTTYPE=image/jpeg:https://dehayf5mhw1h7.cloudfront.net/wp-content/uploads/sites/2036/2020/09/12172504/7D5E0CF3-3117-4BDA-80CF-17EE7A16E44C-e1599931346207.jpeg
ORGANIZER;CN="Galesburg%20Veterans%20Van":MAILTO:Galesburgveteransvan@gmail.com
END:VEVENT
BEGIN:VEVENT
DTSTART;TZID=America/Chicago:20260114T091500
DTEND;TZID=America/Chicago:20260114T100000
DTSTAMP:20260425T062755
CREATED:20260107T225004Z
LAST-MODIFIED:20260107T225004Z
UID:692112-1768382100-1768384800@www.wgil.com
SUMMARY:Baby Bounce
DESCRIPTION:Stories\, songs\, sign language\, and bounces for kids ages 0-18 months old and their caregivers. No registration required.
URL:https://www.wgil.com/event/baby-bounce-3/2026-01-14/
LOCATION:Galesburg Public Library\, 264 W. Main Street\, Galesburg\, IL\, 61401\, United States
CATEGORIES:Community Events
ATTACH;FMTTYPE=image/png:https://dehayf5mhw1h7.cloudfront.net/wp-content/uploads/sites/2036/2026/01/06181519/baby-bounce-spring-postcard-e1767826193462.png
ORGANIZER;CN="Galesburg%20Public%20Library":MAILTO:children@galesburglibrary.org
END:VEVENT
BEGIN:VEVENT
DTSTART;TZID=America/Chicago:20260114T103000
DTEND;TZID=America/Chicago:20260114T113000
DTSTAMP:20260425T062755
CREATED:20251222T221549Z
LAST-MODIFIED:20251222T221549Z
UID:691392-1768386600-1768390200@www.wgil.com
SUMMARY:Engine & Caboose
DESCRIPTION:Tuesdays and Wednesdays from 10:30 to 11:30\nBook will be read at 10:30am.\nEngine and Caboose is a weekly preschool program for children ages 2 to 5 years old. It promotes early literacy\, fine motor and math skills. FREE with paid admission.
URL:https://www.wgil.com/event/engine-caboose-37/2026-01-14/
LOCATION:Discovery Depot\, 128 S Chambers St\, Galesburg\, IL\, 61401\, United States
CATEGORIES:Community Events
ATTACH;FMTTYPE=image/png:https://dehayf5mhw1h7.cloudfront.net/wp-content/uploads/sites/2036/2025/12/20103058/jan-6-2026-engine-caboose-1-e1766441722160.png
ORGANIZER;CN="Discovery%20Depot":MAILTO:director@discoverydepot.org
END:VEVENT
BEGIN:VEVENT
DTSTART;TZID=America/Chicago:20260114T130000
DTEND;TZID=America/Chicago:20260114T140000
DTSTAMP:20260425T062755
CREATED:20210524T132602Z
LAST-MODIFIED:20210524T132602Z
UID:647276-1768395600-1768399200@www.wgil.com
SUMMARY:St. Vincent de Paul Food Pantry
DESCRIPTION:ST VINCENT DE PAUL WEEKLY FOOD DISTRIBUTION. Weekly (Wednesdays from 1PM toll 2 PM) grocery distribution for individuals and families in need. \nCurbside service is provided as well. \nNot required to call ahead\, but calling will speed up the process. \nWill be asked whether they need a milk voucher\, number of adults and children in family and about any food restrictions. \nNUMBER TO CALL: 815-200-4911.
URL:https://www.wgil.com/event/st-vincent-de-paul-food-pantry/2026-01-14/
LOCATION:Corpus Christi Church basement\, 273 South Prairie St\, Galesburg\, IL\, 61401\, United States
CATEGORIES:Community Events
ORGANIZER;CN="St%20Vincent%20de%20Paul%20Society":MAILTO:dallind@grics.net
END:VEVENT
BEGIN:VEVENT
DTSTART;TZID=America/New_York:20260114T183000
DTEND;TZID=America/New_York:20260114T200000
DTSTAMP:20260425T062755
CREATED:20200124T193917Z
LAST-MODIFIED:20200124T193917Z
UID:647273-1768415400-1768420800@www.wgil.com
SUMMARY:Chess Club
DESCRIPTION:A chess club for players of all levels will meet at 6:30 pm on Wednesday nights at the Henderson Town Hall. There is no cost to come play\, learn and make friends.
URL:https://www.wgil.com/event/chess-club/2026-01-14/
LOCATION:Henderson Town Hall\, 215 S Main Street\, HENDERSON\, IL\, 61439\, United States
CATEGORIES:Community Events
ORGANIZER;CN="Dale%20Hidden":MAILTO:dale_hidden@yahoo.com
END:VEVENT
BEGIN:VEVENT
DTSTART;VALUE=DATE:20260115
DTEND;VALUE=DATE:20260116
DTSTAMP:20260425T062755
CREATED:20200912T172504Z
LAST-MODIFIED:20200912T172504Z
UID:647275-1768435200-1768521599@www.wgil.com
SUMMARY:Galesburg Veterans Van
DESCRIPTION:We start running to Iowa City VA Hospital on Wednesdays and Thursdays.  Please give us a weeks notice. 309-342-7735
URL:https://www.wgil.com/event/galesburg-veterans-van-2/2026-01-15/
LOCATION:IL
CATEGORIES:Community Events
ATTACH;FMTTYPE=image/jpeg:https://dehayf5mhw1h7.cloudfront.net/wp-content/uploads/sites/2036/2020/09/12172504/7D5E0CF3-3117-4BDA-80CF-17EE7A16E44C-e1599931346207.jpeg
ORGANIZER;CN="Galesburg%20Veterans%20Van":MAILTO:Galesburgveteransvan@gmail.com
END:VEVENT
BEGIN:VEVENT
DTSTART;TZID=America/Chicago:20260115T090000
DTEND;TZID=America/Chicago:20260115T110000
DTSTAMP:20260425T062755
CREATED:20260112T235510Z
LAST-MODIFIED:20260112T235510Z
UID:692300-1768467600-1768474800@www.wgil.com
SUMMARY:Financial Foundations: Your Blueprint to Thrive
DESCRIPTION:Join us for Financial Foundations: Your Blueprint to Thrive on Thursday\, Jan. 15 from 9–11 a.m. at Sandburg’s Galesburg campus (SDC Conference Room 106). \nLed by Laun Dunn\, financial advisor at Thrivent\, this free workshop (breakfast included!) will share practical strategies to manage expenses\, reduce debt\, grow savings\, and plan for life’s unexpected moments.
URL:https://www.wgil.com/event/financial-foundations-your-blueprint-to-thrive/
LOCATION:Carl Sandburg College\, 2400 Tom L. Wilson Blvd.\, Galesburg\, IL\, 61401\, United States
CATEGORIES:Community Events
ATTACH;FMTTYPE=image/png:https://dehayf5mhw1h7.cloudfront.net/wp-content/uploads/sites/2036/2026/01/08103953/financial-foundations-workshop-e1768262099795.png
END:VEVENT
BEGIN:VEVENT
DTSTART;TZID=America/Chicago:20260115T160000
DTEND;TZID=America/Chicago:20260115T170000
DTSTAMP:20260425T062755
CREATED:20260114T221020Z
LAST-MODIFIED:20260114T221020Z
UID:692621-1768492800-1768496400@www.wgil.com
SUMMARY:Pageturners Book Club for Kids
DESCRIPTION:Come talk about fun novels with other readers your age. For independent readers in grades 4-6. Enjoy talking about novels with other readers your age\, playing games\, and more. Kids’ book club meets on the third Thursday of each month from September through April. Registration required.
URL:https://www.wgil.com/event/pageturners-book-club-for-kids-2/
LOCATION:Galesburg Public Library\, 264 W. Main Street\, Galesburg\, IL\, 61401\, United States
CATEGORIES:Community Events
ATTACH;FMTTYPE=image/png:https://dehayf5mhw1h7.cloudfront.net/wp-content/uploads/sites/2036/2026/01/14160930/pageturners-general_6y8h-e1768428584538.png
ORGANIZER;CN="Galesburg%20Public%20Library":MAILTO:children@galesburglibrary.org
END:VEVENT
BEGIN:VEVENT
DTSTART;TZID=America/Chicago:20260115T190000
DTEND;TZID=America/Chicago:20260115T220000
DTSTAMP:20260425T062755
CREATED:20251208T230401Z
LAST-MODIFIED:20251208T230401Z
UID:690459-1768503600-1768514400@www.wgil.com
SUMMARY:Jazz Night
DESCRIPTION:Join in a Galesburg tradition that is 30+ years strong\, now at a brand new venue! \nCome hear the Knox Cherry Street Combo on Thursday’s from 7-10 pm at Smokin’ Willies BBQ. This is a free event and all ages are welcome. Full bar and the best barbeque around!
URL:https://www.wgil.com/event/jazz-night-9/2026-01-15/
LOCATION:Smokin' Willies BBQ\, 161 N Cherry St\, Galesburg\, 61401
CATEGORIES:Community Events
ATTACH;FMTTYPE=image/png:https://dehayf5mhw1h7.cloudfront.net/wp-content/uploads/sites/2036/2025/12/05162558/2025-jazz-night-social_email-e1765235028565.png
ORGANIZER;CN="Knox%20College%20Music%20Department":MAILTO:music@knox.edu
END:VEVENT
BEGIN:VEVENT
DTSTART;TZID=America/Chicago:20260117T100000
DTEND;TZID=America/Chicago:20260117T150000
DTSTAMP:20260425T062755
CREATED:20260113T230007Z
LAST-MODIFIED:20260113T230007Z
UID:692549-1768644000-1768662000@www.wgil.com
SUMMARY:Farewell Open House
DESCRIPTION:Join the Illinois Midland Model Railroad Club for a Farewell Open House\, with your last chance to see their layout of model trains. Started at the Sandburg Mall\, the club relocated to Alexis in 2017. Join us at the Western Illinois Field House in Alexis on January 17th from 10am-3pm. \nFor more information\, contact Ron Hatch at 309-335-3755.
URL:https://www.wgil.com/event/farewell-open-house/
LOCATION:Western Illinois Fieldhouse\, Alexis\, IL\, United States
CATEGORIES:Community Events
ATTACH;FMTTYPE=image/jpeg:https://dehayf5mhw1h7.cloudfront.net/wp-content/uploads/sites/2036/2026/01/13165944/611370547_1293133852855553_7462684977977691601_n-e1768345197274.jpg
END:VEVENT
BEGIN:VEVENT
DTSTART;TZID=America/Chicago:20260117T124500
DTEND;TZID=America/Chicago:20260117T124500
DTSTAMP:20260425T062755
CREATED:20220831T050559Z
LAST-MODIFIED:20220831T050559Z
UID:647533-1768653900-1768653900@www.wgil.com
SUMMARY:BINGO at the Galesburg VFW
DESCRIPTION:Come and have some fun at the Galesburg VFW with BINGO each Saturday. Doors open at 10:30a and BINGO starts at 12:45p.
URL:https://www.wgil.com/event/bingo-at-the-galesburg-vfw-2/2026-01-17/
LOCATION:Galesburg VFW Post 2257\, 1001 Michigan ave\, Galesburg\, IL\, 61401\, United States
CATEGORIES:Community Events
END:VEVENT
BEGIN:VEVENT
DTSTART;TZID=America/Chicago:20260119T073000
DTEND;TZID=America/Chicago:20260119T073000
DTSTAMP:20260425T062755
CREATED:20260114T221441Z
LAST-MODIFIED:20260114T221441Z
UID:692627-1768807800-1768807800@www.wgil.com
SUMMARY:MLK Community Breakfast
DESCRIPTION:Please join us as we come together to celebrate Dr. MLK Jr.’s legacy. \n*Please enter on Tompkins St.
URL:https://www.wgil.com/event/mlk-community-breakfast/
LOCATION:The Ascent Church\, 169 S Cherry St\, Galesburg\, IL\, 61401\, United States
CATEGORIES:Community Events
ATTACH;FMTTYPE=image/jpeg:https://dehayf5mhw1h7.cloudfront.net/wp-content/uploads/sites/2036/2026/01/14161415/615438269_1270643815109518_4858573371534691798_n_bl3p.jpg
ORGANIZER;CN="Galesburg%20NAACP":MAILTO:naacpgalesburg@gmail.com
END:VEVENT
BEGIN:VEVENT
DTSTART;TZID=America/Chicago:20260119T100000
DTEND;TZID=America/Chicago:20260119T103000
DTSTAMP:20260425T062755
CREATED:20260107T224932Z
LAST-MODIFIED:20260107T224932Z
UID:692101-1768816800-1768818600@www.wgil.com
SUMMARY:Toddler Storytime
DESCRIPTION:Stories\, rhymes\, songs\, and movement for toddlers ages 18-36 months and their caregivers. No registration required.
URL:https://www.wgil.com/event/toddler-storytime-5/2026-01-19/
LOCATION:Galesburg Public Library\, 264 W. Main Street\, Galesburg\, IL\, 61401\, United States
CATEGORIES:Community Events
ATTACH;FMTTYPE=image/png:https://dehayf5mhw1h7.cloudfront.net/wp-content/uploads/sites/2036/2026/01/06181313/toddler-storytime-spring-postcard-e1767826159783.png
ORGANIZER;CN="Galesburg%20Public%20Library":MAILTO:children@galesburglibrary.org
END:VEVENT
BEGIN:VEVENT
DTSTART;TZID=America/Chicago:20260119T110000
DTEND;TZID=America/Chicago:20260119T120000
DTSTAMP:20260425T062755
CREATED:20260114T221828Z
LAST-MODIFIED:20260114T221828Z
UID:692631-1768820400-1768824000@www.wgil.com
SUMMARY:Knox College's Martin Luther King\, Jr. Day Convocation
DESCRIPTION:Knox College is excited to welcome the community to its 2026 Martin Luther King\, Jr. Day Convocation with keynote speaker Melvin Rogers\, who is the Edna and Richard Salomon Distinguished Professor of Political Science at Brown University. \nKnox is also hosting additional Martin Luther King\, Jr Day events at the Galesburg Public Library and on Knox’s campus! \nAll events are free and open to the public\, and Knox College warmly invites the community to join in on honoring Dr. King’s legacy.
URL:https://www.wgil.com/event/knox-colleges-martin-luther-king-jr-day-convocation/
LOCATION:Ford Center for the Fine Arts on the Knox College Campus\, Galesburg\, IL\, 61401\, United States
CATEGORIES:Community Events
ATTACH;FMTTYPE=image/jpeg:https://dehayf5mhw1h7.cloudfront.net/wp-content/uploads/sites/2036/2026/01/14161803/screenshot-2026-01-12-at-5_pnim-2.jpg
ORGANIZER;CN="Knox%20College":MAILTO:nbernius@knox.edu
GEO:40.9478158;-90.3712395
END:VEVENT
END:VCALENDAR