BEGIN:VCALENDAR
VERSION:2.0
PRODID:-//WGIL 93.7 FM - 1400 AM - ECPv5.6.0//NONSGML v1.0//EN
CALSCALE:GREGORIAN
METHOD:PUBLISH
X-WR-CALNAME:WGIL 93.7 FM - 1400 AM
X-ORIGINAL-URL:https://www.wgil.com
X-WR-CALDESC:Events for WGIL 93.7 FM - 1400 AM
BEGIN:VTIMEZONE
TZID:America/New_York
BEGIN:DAYLIGHT
TZOFFSETFROM:-0500
TZOFFSETTO:-0400
TZNAME:EDT
DTSTART:20260308T070000
END:DAYLIGHT
BEGIN:STANDARD
TZOFFSETFROM:-0400
TZOFFSETTO:-0500
TZNAME:EST
DTSTART:20261101T060000
END:STANDARD
TZID:America/Chicago
BEGIN:DAYLIGHT
TZOFFSETFROM:-0600
TZOFFSETTO:-0500
TZNAME:CDT
DTSTART:20260308T080000
END:DAYLIGHT
BEGIN:STANDARD
TZOFFSETFROM:-0500
TZOFFSETTO:-0600
TZNAME:CST
DTSTART:20261101T070000
END:STANDARD
END:VTIMEZONE
BEGIN:VEVENT
DTSTART;VALUE=DATE:20260128
DTEND;VALUE=DATE:20260129
DTSTAMP:20260425T102431
CREATED:20200912T172504Z
LAST-MODIFIED:20200912T172504Z
UID:648100-1769558400-1769644799@www.wgil.com
SUMMARY:Galesburg Veterans Van
DESCRIPTION:We start running to Iowa City VA Hospital on Wednesdays and Thursdays.  Please give us a weeks notice. 309-342-7735
URL:https://www.wgil.com/event/galesburg-veterans-van-2/2026-01-28/
LOCATION:IL
CATEGORIES:Community Events
ATTACH;FMTTYPE=image/jpeg:https://dehayf5mhw1h7.cloudfront.net/wp-content/uploads/sites/2036/2020/09/12172504/7D5E0CF3-3117-4BDA-80CF-17EE7A16E44C-e1599931346207.jpeg
ORGANIZER;CN="Galesburg%20Veterans%20Van":MAILTO:Galesburgveteransvan@gmail.com
END:VEVENT
BEGIN:VEVENT
DTSTART;TZID=America/Chicago:20260128T091500
DTEND;TZID=America/Chicago:20260128T100000
DTSTAMP:20260425T102431
CREATED:20260107T225005Z
LAST-MODIFIED:20260107T225005Z
UID:692117-1769591700-1769594400@www.wgil.com
SUMMARY:Baby Bounce
DESCRIPTION:Stories\, songs\, sign language\, and bounces for kids ages 0-18 months old and their caregivers. No registration required.
URL:https://www.wgil.com/event/baby-bounce-3/2026-01-28/
LOCATION:Galesburg Public Library\, 264 W. Main Street\, Galesburg\, IL\, 61401\, United States
CATEGORIES:Community Events
ATTACH;FMTTYPE=image/png:https://dehayf5mhw1h7.cloudfront.net/wp-content/uploads/sites/2036/2026/01/06181519/baby-bounce-spring-postcard-e1767826193462.png
ORGANIZER;CN="Galesburg%20Public%20Library":MAILTO:children@galesburglibrary.org
END:VEVENT
BEGIN:VEVENT
DTSTART;TZID=America/Chicago:20260128T093000
DTEND;TZID=America/Chicago:20260128T110000
DTSTAMP:20260425T102431
CREATED:20260127T224547Z
LAST-MODIFIED:20260127T224547Z
UID:693222-1769592600-1769598000@www.wgil.com
SUMMARY:Welcome Newcomers of Galesburg
DESCRIPTION:Welcome NewComers of Galesburg will meet at 9:30 a.m. on Wednesday\, January 28th\, at First United Methodist Church (Kellogg and Ferris).\nOur guest speaker is Trinette Olin\, author of the children’s book “The Bicentennial Year and the Forgotten Name\,” which tells the story of a fifth grader and her grandmother who exchange letters to help each other overcome fears.\nJoin us to connect with fellow new and current residents for fun\, learning\, and friendship. Guests are welcome. The Club offers members opportunities to build friendships through various activities and participate in community charitable organizations.\nFor details\, call or text Vickie Dowers at 309-335-3377.
URL:https://www.wgil.com/event/welcome-newcomers-of-galesburg-2/
LOCATION:First United Methodist Church\, 120 North Kellogg Street\, Galesburg\, IL\, 61401\, United States
CATEGORIES:Community Events
ATTACH;FMTTYPE=image/jpeg:https://dehayf5mhw1h7.cloudfront.net/wp-content/uploads/sites/2036/2024/11/07211226/welcome-newcomer-facebook-pineapples-e1731096692196.jpg
GEO:40.9488107;-90.3662995
X-APPLE-STRUCTURED-LOCATION;VALUE=URI;X-ADDRESS=First United Methodist Church 120 North Kellogg Street Galesburg IL 61401 United States;X-APPLE-RADIUS=500;X-TITLE=120 North Kellogg Street:geo:-90.3662995,40.9488107
END:VEVENT
BEGIN:VEVENT
DTSTART;TZID=America/Chicago:20260128T103000
DTEND;TZID=America/Chicago:20260128T113000
DTSTAMP:20260425T102431
CREATED:20251222T221556Z
LAST-MODIFIED:20251222T221556Z
UID:691396-1769596200-1769599800@www.wgil.com
SUMMARY:Engine & Caboose
DESCRIPTION:Tuesdays and Wednesdays from 10:30 to 11:30\nBook will be read at 10:30am.\nEngine and Caboose is a weekly preschool program for children ages 2 to 5 years old. It promotes early literacy\, fine motor and math skills. FREE with paid admission.
URL:https://www.wgil.com/event/engine-caboose-37/2026-01-28/
LOCATION:Discovery Depot\, 128 S Chambers St\, Galesburg\, IL\, 61401\, United States
CATEGORIES:Community Events
ATTACH;FMTTYPE=image/png:https://dehayf5mhw1h7.cloudfront.net/wp-content/uploads/sites/2036/2025/12/20103058/jan-6-2026-engine-caboose-1-e1766441722160.png
ORGANIZER;CN="Discovery%20Depot":MAILTO:director@discoverydepot.org
END:VEVENT
BEGIN:VEVENT
DTSTART;TZID=America/Chicago:20260128T103000
DTEND;TZID=America/Chicago:20260128T113000
DTSTAMP:20260425T102431
CREATED:20260128T222223Z
LAST-MODIFIED:20260128T222223Z
UID:693380-1769596200-1769599800@www.wgil.com
SUMMARY:Engine & Caboose
DESCRIPTION:Tuesdays and Wednesdays from 10:30 to 11:30\nBook will be read at 10:30am.\nEngine and Caboose is a weekly preschool program for children ages 2 to 5 years old. It promotes early literacy\, fine motor and math skills. FREE with paid admission.
URL:https://www.wgil.com/event/engine-caboose-38/
LOCATION:Discovery Depot\, 128 S Chambers St\, Galesburg\, IL\, 61401\, United States
CATEGORIES:Community Events
ATTACH;FMTTYPE=image/png:https://dehayf5mhw1h7.cloudfront.net/wp-content/uploads/sites/2036/2026/01/28113132/engine-caboose-feb-26-e1769638930598.png
ORGANIZER;CN="Discovery%20Depot":MAILTO:director@discoverydepot.org
END:VEVENT
BEGIN:VEVENT
DTSTART;TZID=America/Chicago:20260128T130000
DTEND;TZID=America/Chicago:20260128T140000
DTSTAMP:20260425T102431
CREATED:20210524T132602Z
LAST-MODIFIED:20210524T132602Z
UID:648102-1769605200-1769608800@www.wgil.com
SUMMARY:St. Vincent de Paul Food Pantry
DESCRIPTION:ST VINCENT DE PAUL WEEKLY FOOD DISTRIBUTION. Weekly (Wednesdays from 1PM toll 2 PM) grocery distribution for individuals and families in need. \nCurbside service is provided as well. \nNot required to call ahead\, but calling will speed up the process. \nWill be asked whether they need a milk voucher\, number of adults and children in family and about any food restrictions. \nNUMBER TO CALL: 815-200-4911.
URL:https://www.wgil.com/event/st-vincent-de-paul-food-pantry/2026-01-28/
LOCATION:Corpus Christi Church basement\, 273 South Prairie St\, Galesburg\, IL\, 61401\, United States
CATEGORIES:Community Events
ORGANIZER;CN="St%20Vincent%20de%20Paul%20Society":MAILTO:dallind@grics.net
END:VEVENT
BEGIN:VEVENT
DTSTART;TZID=America/New_York:20260128T183000
DTEND;TZID=America/New_York:20260128T200000
DTSTAMP:20260425T102431
CREATED:20200124T193917Z
LAST-MODIFIED:20200124T193917Z
UID:648099-1769625000-1769630400@www.wgil.com
SUMMARY:Chess Club
DESCRIPTION:A chess club for players of all levels will meet at 6:30 pm on Wednesday nights at the Henderson Town Hall. There is no cost to come play\, learn and make friends.
URL:https://www.wgil.com/event/chess-club/2026-01-28/
LOCATION:Henderson Town Hall\, 215 S Main Street\, HENDERSON\, IL\, 61439\, United States
CATEGORIES:Community Events
ORGANIZER;CN="Dale%20Hidden":MAILTO:dale_hidden@yahoo.com
END:VEVENT
BEGIN:VEVENT
DTSTART;VALUE=DATE:20260129
DTEND;VALUE=DATE:20260130
DTSTAMP:20260425T102431
CREATED:20200912T172504Z
LAST-MODIFIED:20200912T172504Z
UID:648101-1769644800-1769731199@www.wgil.com
SUMMARY:Galesburg Veterans Van
DESCRIPTION:We start running to Iowa City VA Hospital on Wednesdays and Thursdays.  Please give us a weeks notice. 309-342-7735
URL:https://www.wgil.com/event/galesburg-veterans-van-2/2026-01-29/
LOCATION:IL
CATEGORIES:Community Events
ATTACH;FMTTYPE=image/jpeg:https://dehayf5mhw1h7.cloudfront.net/wp-content/uploads/sites/2036/2020/09/12172504/7D5E0CF3-3117-4BDA-80CF-17EE7A16E44C-e1599931346207.jpeg
ORGANIZER;CN="Galesburg%20Veterans%20Van":MAILTO:Galesburgveteransvan@gmail.com
END:VEVENT
BEGIN:VEVENT
DTSTART;TZID=America/Chicago:20260129T160000
DTEND;TZID=America/Chicago:20260129T180000
DTSTAMP:20260425T102431
CREATED:20251223T235008Z
LAST-MODIFIED:20251223T235008Z
UID:691506-1769702400-1769709600@www.wgil.com
SUMMARY:Thrifty Thursday!
DESCRIPTION:Thrifty Thursday\nJoin us for an evening of reduced admission! 4:00 p.m. – 6:00 p.m. $6.50 for admission/members are free. Advanced tickets required.
URL:https://www.wgil.com/event/thrifty-thursday-26/
LOCATION:Discovery Depot\, 128 S Chambers St\, Galesburg\, IL\, 61401\, United States
CATEGORIES:Community Events
ATTACH;FMTTYPE=image/png:https://dehayf5mhw1h7.cloudfront.net/wp-content/uploads/sites/2036/2025/12/23122843/jan-29-2026-thrifty-thursday-e1766533766613.png
ORGANIZER;CN="Discovery%20Depot":MAILTO:director@discoverydepot.org
END:VEVENT
BEGIN:VEVENT
DTSTART;TZID=America/Chicago:20260129T190000
DTEND;TZID=America/Chicago:20260129T220000
DTSTAMP:20260425T102431
CREATED:20251208T230402Z
LAST-MODIFIED:20251208T230402Z
UID:690461-1769713200-1769724000@www.wgil.com
SUMMARY:Jazz Night
DESCRIPTION:Join in a Galesburg tradition that is 30+ years strong\, now at a brand new venue! \nCome hear the Knox Cherry Street Combo on Thursday’s from 7-10 pm at Smokin’ Willies BBQ. This is a free event and all ages are welcome. Full bar and the best barbeque around!
URL:https://www.wgil.com/event/jazz-night-9/2026-01-29/
LOCATION:Smokin' Willies BBQ\, 161 N Cherry St\, Galesburg\, 61401
CATEGORIES:Community Events
ATTACH;FMTTYPE=image/png:https://dehayf5mhw1h7.cloudfront.net/wp-content/uploads/sites/2036/2025/12/05162558/2025-jazz-night-social_email-e1765235028565.png
ORGANIZER;CN="Knox%20College%20Music%20Department":MAILTO:music@knox.edu
END:VEVENT
BEGIN:VEVENT
DTSTART;TZID=America/Chicago:20260130T140000
DTEND;TZID=America/Chicago:20260130T160000
DTSTAMP:20260425T102431
CREATED:20260112T235424Z
LAST-MODIFIED:20260112T235424Z
UID:692293-1769781600-1769788800@www.wgil.com
SUMMARY:Cookie Bake Off
DESCRIPTION:Cookie Bake Off at Knox County Nursing Home. Sponsored by Knox County Nursing Home\, Caring Senior Service & Traditions Health. Enter your famous cookies to be judged by local celebrity judges. There will also be a people’s choice category. To enter\, call Nikki at 309-289-2338. Public is welcome. Taste test each entry for only $1.00 each. Hot cocoa with all the best toppings will also be available for $1.00/cup. All proceeds will benefit The Walk to End Alzheimer’s!
URL:https://www.wgil.com/event/cookie-bake-off/
LOCATION:800 n. Market Knoxville\, IL\, 800 n. Market st.\, Knoxville\, IL\, 61448\, United States
CATEGORIES:Community Events
ATTACH;FMTTYPE=image/jpeg:https://dehayf5mhw1h7.cloudfront.net/wp-content/uploads/sites/2036/2026/01/08091956/cookie-bake-off-e1768262049608.jpg
END:VEVENT
BEGIN:VEVENT
DTSTART;TZID=America/Chicago:20260130T190000
DTEND;TZID=America/Chicago:20260130T210000
DTSTAMP:20260425T102431
CREATED:20260112T235656Z
LAST-MODIFIED:20260112T235656Z
UID:692367-1769799600-1769806800@www.wgil.com
SUMMARY:Line Dance Lessons
DESCRIPTION:Beginning Jan 23-Feb 28. Friday nights at the VFW in Bushnell\, Il at 181 E Hail St.\nCost is $5 per person per week.\nFun way to get exercise and learn some new moves.\nVariety of music genres.
URL:https://www.wgil.com/event/line-dance-lessons/2026-01-30/
LOCATION:Bushnell VFW Post 1422\, 181 E. Hail St.\, Bushnell\, IL\, 61422\, United States
CATEGORIES:Community Events
ATTACH;FMTTYPE=image/jpeg:https://dehayf5mhw1h7.cloudfront.net/wp-content/uploads/sites/2036/2026/01/09113400/join-the-fun-with-line-dancing-get-ready-to-kick-up-your-heels-and-have-a-blast-whether-youre-flying-solo-or-bringing-your-crew-our-line-dancing-classes-are-the-perfect-way-to-enjoy-a-grea-e1768262201865.jpg
END:VEVENT
BEGIN:VEVENT
DTSTART;TZID=America/Chicago:20260131T124500
DTEND;TZID=America/Chicago:20260131T124500
DTSTAMP:20260425T102431
CREATED:20220831T050559Z
LAST-MODIFIED:20220831T050559Z
UID:648281-1769863500-1769863500@www.wgil.com
SUMMARY:BINGO at the Galesburg VFW
DESCRIPTION:Come and have some fun at the Galesburg VFW with BINGO each Saturday. Doors open at 10:30a and BINGO starts at 12:45p.
URL:https://www.wgil.com/event/bingo-at-the-galesburg-vfw-2/2026-01-31/
LOCATION:Galesburg VFW Post 2257\, 1001 Michigan ave\, Galesburg\, IL\, 61401\, United States
CATEGORIES:Community Events
END:VEVENT
BEGIN:VEVENT
DTSTART;TZID=America/Chicago:20260131T173000
DTEND;TZID=America/Chicago:20260131T210000
DTSTAMP:20260425T102431
CREATED:20260113T000056Z
LAST-MODIFIED:20260113T000056Z
UID:692397-1769880600-1769893200@www.wgil.com
SUMMARY:"Super" Steak Fry
DESCRIPTION:Join us to celebrate the Super Bowl with a night of food and fun plus a chance to win $500! Enjoy music\, raffles\, games\, and great food while helping support the cardio room at Kimbrough Fieldhouse. \nDoors will open at 5:00 p.m. \nTickets can be purchased from a GPSF board member\, through Eventbrite.com\, or by contacting our office.
URL:https://www.wgil.com/event/super-steak-fry/
LOCATION:The Vault at Reserve Artisan Ales\, 185 S. Kellogg Street\, Galesburg\, IL\, 61401\, United States
CATEGORIES:Community Events
ATTACH;FMTTYPE=image/png:https://dehayf5mhw1h7.cloudfront.net/wp-content/uploads/sites/2036/2026/01/09160838/sff-poster-1225-e1768262442674.png
END:VEVENT
BEGIN:VEVENT
DTSTART;TZID=America/Chicago:20260201T100000
DTEND;TZID=America/Chicago:20260201T143000
DTSTAMP:20260425T102431
CREATED:20260114T215857Z
LAST-MODIFIED:20260114T215857Z
UID:692583-1769940000-1769956200@www.wgil.com
SUMMARY:Snowmobile Radar Run
DESCRIPTION:Come see the action on Lake Storey! (ICE PERMITTING) You can stay warm and listen to the speeds in your car! For class information please see attached flyer or our Facebook page.
URL:https://www.wgil.com/event/snowmobile-radar-run-2/
LOCATION:Lake Storey\, Galesburg\, IL\, 61401\, United States
CATEGORIES:Community Events
ATTACH;FMTTYPE=image/jpeg:https://dehayf5mhw1h7.cloudfront.net/wp-content/uploads/sites/2036/2026/01/14072256/radar-run-2026-e1768427921178.jpg
END:VEVENT
BEGIN:VEVENT
DTSTART;TZID=America/Chicago:20260202T060000
DTEND;TZID=America/Chicago:20260202T163000
DTSTAMP:20260425T102431
CREATED:20260120T222924Z
LAST-MODIFIED:20260120T222924Z
UID:692943-1770012000-1770049800@www.wgil.com
SUMMARY:Groundhog Day at Wildlife Prairie Park
DESCRIPTION:Join us LIVE and cast your vote as Gertie the Groundhog makes her official weather prognostication. Will we have 6 more weeks of Winter or an early Spring? Dress up\, bring signs\, and cheer on Gertie as you enjoy an early morning of entertainment\, a scavenger hunt\, and a craft at Visitor’s Center. \nEnjoy FREE Park admission from 6 to 8 a.m. All entries at this time are welcome to stay and enjoy the park for the day. Regular admission fees apply after 8 a.m. \n2026 Schedule of Activities:\n6 to 8 a.m. – FREE Park Admission\n6 to 9 a.m. – Complimentary craft at the Visitor’s Center\n6 to 9 a.m. – Snacks and warm beverages available for purchase\n6:30 a.m. – Live music and entertainment with local musician Barry Cloyd\n7:08 a.m. – Sunrise and Gertie’s official weather prognostication\n8 a.m. – Animals Trails open\n8:30 a.m. – Deadline for scavenger hunt entries – turn into the Visitor Center\n9 a.m. – Announcement of the WINNER of the Gertie’s Scavenger Hunt\n11:30 a.m. – Keeper Chat\n1 p.m. – Keeper Chat
URL:https://www.wgil.com/event/groundhog-day-at-wildlife-prairie-park-2/
LOCATION:Wildlife Prairie Park\, 3826 N. Taylor Road\, Hanna City\, IL\, United States
CATEGORIES:Community Events
ATTACH;FMTTYPE=image/png:https://dehayf5mhw1h7.cloudfront.net/wp-content/uploads/sites/2036/2026/01/20095143/ghd.png
ORGANIZER;CN="Wildlife%20Prairie%20Park":MAILTO:marketing@wildlifeprairie.org
GEO:40.731847;-89.742605
X-APPLE-STRUCTURED-LOCATION;VALUE=URI;X-ADDRESS=Wildlife Prairie Park 3826 N. Taylor Road Hanna City IL United States;X-APPLE-RADIUS=500;X-TITLE=3826 N. Taylor Road:geo:-89.742605,40.731847
END:VEVENT
BEGIN:VEVENT
DTSTART;TZID=America/Chicago:20260202T100000
DTEND;TZID=America/Chicago:20260202T103000
DTSTAMP:20260425T102431
CREATED:20260107T224933Z
LAST-MODIFIED:20260107T224933Z
UID:692103-1770026400-1770028200@www.wgil.com
SUMMARY:Toddler Storytime
DESCRIPTION:Stories\, rhymes\, songs\, and movement for toddlers ages 18-36 months and their caregivers. No registration required.
URL:https://www.wgil.com/event/toddler-storytime-5/2026-02-02/
LOCATION:Galesburg Public Library\, 264 W. Main Street\, Galesburg\, IL\, 61401\, United States
CATEGORIES:Community Events
ATTACH;FMTTYPE=image/png:https://dehayf5mhw1h7.cloudfront.net/wp-content/uploads/sites/2036/2026/01/06181313/toddler-storytime-spring-postcard-e1767826159783.png
ORGANIZER;CN="Galesburg%20Public%20Library":MAILTO:children@galesburglibrary.org
END:VEVENT
BEGIN:VEVENT
DTSTART;TZID=America/Chicago:20260203T103000
DTEND;TZID=America/Chicago:20260203T113000
DTSTAMP:20260425T102431
CREATED:20260128T222224Z
LAST-MODIFIED:20260128T222224Z
UID:693382-1770114600-1770118200@www.wgil.com
SUMMARY:Engine & Caboose
DESCRIPTION:Tuesdays and Wednesdays from 10:30 to 11:30\nBook will be read at 10:30am.\nEngine and Caboose is a weekly preschool program for children ages 2 to 5 years old. It promotes early literacy\, fine motor and math skills. FREE with paid admission.
URL:https://www.wgil.com/event/engine-caboose-38/2026-02-03/
LOCATION:Discovery Depot\, 128 S Chambers St\, Galesburg\, IL\, 61401\, United States
CATEGORIES:Community Events
ATTACH;FMTTYPE=image/png:https://dehayf5mhw1h7.cloudfront.net/wp-content/uploads/sites/2036/2026/01/28113132/engine-caboose-feb-26-e1769638930598.png
ORGANIZER;CN="Discovery%20Depot":MAILTO:director@discoverydepot.org
END:VEVENT
BEGIN:VEVENT
DTSTART;TZID=America/Chicago:20260203T180000
DTEND;TZID=America/Chicago:20260203T190000
DTSTAMP:20260425T102431
CREATED:20260107T224852Z
LAST-MODIFIED:20260107T224852Z
UID:692152-1770141600-1770145200@www.wgil.com
SUMMARY:Valentine's Dance Party for Tots
DESCRIPTION:Tots and caregivers\, put on your party pants and come wiggle\, sing\, and dance the night away. Open to kids aged 0-5 and their caregivers. Free and registration is required in the Children’s Library.
URL:https://www.wgil.com/event/valentines-dance-party-for-tots-2/
LOCATION:Galesburg Public Library\, 264 W. Main Street\, Galesburg\, IL\, 61401\, United States
CATEGORIES:Community Events
ATTACH;FMTTYPE=image/png:https://dehayf5mhw1h7.cloudfront.net/wp-content/uploads/sites/2036/2026/01/06182724/postcard-valentines-dance-2026-e1767826045485.png
ORGANIZER;CN="Galesburg%20Public%20Library":MAILTO:children@galesburglibrary.org
END:VEVENT
BEGIN:VEVENT
DTSTART;VALUE=DATE:20260204
DTEND;VALUE=DATE:20260205
DTSTAMP:20260425T102431
CREATED:20200912T172504Z
LAST-MODIFIED:20200912T172504Z
UID:648437-1770163200-1770249599@www.wgil.com
SUMMARY:Galesburg Veterans Van
DESCRIPTION:We start running to Iowa City VA Hospital on Wednesdays and Thursdays.  Please give us a weeks notice. 309-342-7735
URL:https://www.wgil.com/event/galesburg-veterans-van-2/2026-02-04/
LOCATION:IL
CATEGORIES:Community Events
ATTACH;FMTTYPE=image/jpeg:https://dehayf5mhw1h7.cloudfront.net/wp-content/uploads/sites/2036/2020/09/12172504/7D5E0CF3-3117-4BDA-80CF-17EE7A16E44C-e1599931346207.jpeg
ORGANIZER;CN="Galesburg%20Veterans%20Van":MAILTO:Galesburgveteransvan@gmail.com
END:VEVENT
BEGIN:VEVENT
DTSTART;TZID=America/Chicago:20260204T091500
DTEND;TZID=America/Chicago:20260204T100000
DTSTAMP:20260425T102431
CREATED:20260107T225006Z
LAST-MODIFIED:20260107T225006Z
UID:692118-1770196500-1770199200@www.wgil.com
SUMMARY:Baby Bounce
DESCRIPTION:Stories\, songs\, sign language\, and bounces for kids ages 0-18 months old and their caregivers. No registration required.
URL:https://www.wgil.com/event/baby-bounce-3/2026-02-04/
LOCATION:Galesburg Public Library\, 264 W. Main Street\, Galesburg\, IL\, 61401\, United States
CATEGORIES:Community Events
ATTACH;FMTTYPE=image/png:https://dehayf5mhw1h7.cloudfront.net/wp-content/uploads/sites/2036/2026/01/06181519/baby-bounce-spring-postcard-e1767826193462.png
ORGANIZER;CN="Galesburg%20Public%20Library":MAILTO:children@galesburglibrary.org
END:VEVENT
BEGIN:VEVENT
DTSTART;TZID=America/Chicago:20260204T103000
DTEND;TZID=America/Chicago:20260204T113000
DTSTAMP:20260425T102431
CREATED:20260128T222224Z
LAST-MODIFIED:20260128T222224Z
UID:693383-1770201000-1770204600@www.wgil.com
SUMMARY:Engine & Caboose
DESCRIPTION:Tuesdays and Wednesdays from 10:30 to 11:30\nBook will be read at 10:30am.\nEngine and Caboose is a weekly preschool program for children ages 2 to 5 years old. It promotes early literacy\, fine motor and math skills. FREE with paid admission.
URL:https://www.wgil.com/event/engine-caboose-38/2026-02-04/
LOCATION:Discovery Depot\, 128 S Chambers St\, Galesburg\, IL\, 61401\, United States
CATEGORIES:Community Events
ATTACH;FMTTYPE=image/png:https://dehayf5mhw1h7.cloudfront.net/wp-content/uploads/sites/2036/2026/01/28113132/engine-caboose-feb-26-e1769638930598.png
ORGANIZER;CN="Discovery%20Depot":MAILTO:director@discoverydepot.org
END:VEVENT
BEGIN:VEVENT
DTSTART;TZID=America/Chicago:20260204T130000
DTEND;TZID=America/Chicago:20260204T140000
DTSTAMP:20260425T102431
CREATED:20210524T132602Z
LAST-MODIFIED:20210524T132602Z
UID:648439-1770210000-1770213600@www.wgil.com
SUMMARY:St. Vincent de Paul Food Pantry
DESCRIPTION:ST VINCENT DE PAUL WEEKLY FOOD DISTRIBUTION. Weekly (Wednesdays from 1PM toll 2 PM) grocery distribution for individuals and families in need. \nCurbside service is provided as well. \nNot required to call ahead\, but calling will speed up the process. \nWill be asked whether they need a milk voucher\, number of adults and children in family and about any food restrictions. \nNUMBER TO CALL: 815-200-4911.
URL:https://www.wgil.com/event/st-vincent-de-paul-food-pantry/2026-02-04/
LOCATION:Corpus Christi Church basement\, 273 South Prairie St\, Galesburg\, IL\, 61401\, United States
CATEGORIES:Community Events
ORGANIZER;CN="St%20Vincent%20de%20Paul%20Society":MAILTO:dallind@grics.net
END:VEVENT
BEGIN:VEVENT
DTSTART;TZID=America/New_York:20260204T183000
DTEND;TZID=America/New_York:20260204T200000
DTSTAMP:20260425T102431
CREATED:20200124T193917Z
LAST-MODIFIED:20200124T193917Z
UID:648436-1770229800-1770235200@www.wgil.com
SUMMARY:Chess Club
DESCRIPTION:A chess club for players of all levels will meet at 6:30 pm on Wednesday nights at the Henderson Town Hall. There is no cost to come play\, learn and make friends.
URL:https://www.wgil.com/event/chess-club/2026-02-04/
LOCATION:Henderson Town Hall\, 215 S Main Street\, HENDERSON\, IL\, 61439\, United States
CATEGORIES:Community Events
ORGANIZER;CN="Dale%20Hidden":MAILTO:dale_hidden@yahoo.com
END:VEVENT
BEGIN:VEVENT
DTSTART;VALUE=DATE:20260205
DTEND;VALUE=DATE:20260206
DTSTAMP:20260425T102431
CREATED:20200912T172504Z
LAST-MODIFIED:20200912T172504Z
UID:648438-1770249600-1770335999@www.wgil.com
SUMMARY:Galesburg Veterans Van
DESCRIPTION:We start running to Iowa City VA Hospital on Wednesdays and Thursdays.  Please give us a weeks notice. 309-342-7735
URL:https://www.wgil.com/event/galesburg-veterans-van-2/2026-02-05/
LOCATION:IL
CATEGORIES:Community Events
ATTACH;FMTTYPE=image/jpeg:https://dehayf5mhw1h7.cloudfront.net/wp-content/uploads/sites/2036/2020/09/12172504/7D5E0CF3-3117-4BDA-80CF-17EE7A16E44C-e1599931346207.jpeg
ORGANIZER;CN="Galesburg%20Veterans%20Van":MAILTO:Galesburgveteransvan@gmail.com
END:VEVENT
BEGIN:VEVENT
DTSTART;TZID=America/Chicago:20260205T103000
DTEND;TZID=America/Chicago:20260205T113000
DTSTAMP:20260425T102431
CREATED:20260128T222331Z
LAST-MODIFIED:20260128T222331Z
UID:693391-1770287400-1770291000@www.wgil.com
SUMMARY:Home School Hub
DESCRIPTION:Home School Hub is a program for home schooled children. It focuses on Science and Art. This program is free with admission. \nFebruary 5th – ART – Egg Carton Sea Turtles\nFebruary 12th – SCIENCE – Magic Milk for Valentine’s Day\nFebruary 19th – ART – Changing Color Chameleon\nFebruary 26th – Science – Make a Bird Feeder
URL:https://www.wgil.com/event/home-school-hub-28/2026-02-05/
LOCATION:Discovery Depot\, 128 S Chambers St\, Galesburg\, IL\, 61401\, United States
CATEGORIES:Community Events
ATTACH;FMTTYPE=image/png:https://dehayf5mhw1h7.cloudfront.net/wp-content/uploads/sites/2036/2026/01/28115527/homeschool-hub-feb-26.png
ORGANIZER;CN="Discovery%20Depot":MAILTO:director@discoverydepot.org
END:VEVENT
BEGIN:VEVENT
DTSTART;TZID=America/Chicago:20260206T180000
DTEND;TZID=America/Chicago:20260206T193000
DTSTAMP:20260425T102431
CREATED:20260106T223349Z
LAST-MODIFIED:20260106T223349Z
UID:692067-1770400800-1770406200@www.wgil.com
SUMMARY:Sweet Soiree
DESCRIPTION:An evening Valentines Gala specially designed for dads\, or grandpas\, and daughters. Dress up and have a special date night that is packed full of fun at Discovery Depot Children’s Museum. This event is $40 member duo and $45 non-member couple!
URL:https://www.wgil.com/event/sweet-soiree-2/
LOCATION:Discovery Depot\, 128 S Chambers St\, Galesburg\, IL\, 61401\, United States
CATEGORIES:Community Events
ATTACH;FMTTYPE=image/jpeg:https://dehayf5mhw1h7.cloudfront.net/wp-content/uploads/sites/2036/2026/01/06134457/2025d_daughter-soiree-e1767738818904.jpg
ORGANIZER;CN="Discovery%20Depot":MAILTO:director@discoverydepot.org
END:VEVENT
BEGIN:VEVENT
DTSTART;TZID=America/Chicago:20260206T190000
DTEND;TZID=America/Chicago:20260206T210000
DTSTAMP:20260425T102431
CREATED:20260112T235656Z
LAST-MODIFIED:20260112T235656Z
UID:692368-1770404400-1770411600@www.wgil.com
SUMMARY:Line Dance Lessons
DESCRIPTION:Beginning Jan 23-Feb 28. Friday nights at the VFW in Bushnell\, Il at 181 E Hail St.\nCost is $5 per person per week.\nFun way to get exercise and learn some new moves.\nVariety of music genres.
URL:https://www.wgil.com/event/line-dance-lessons/2026-02-06/
LOCATION:Bushnell VFW Post 1422\, 181 E. Hail St.\, Bushnell\, IL\, 61422\, United States
CATEGORIES:Community Events
ATTACH;FMTTYPE=image/jpeg:https://dehayf5mhw1h7.cloudfront.net/wp-content/uploads/sites/2036/2026/01/09113400/join-the-fun-with-line-dancing-get-ready-to-kick-up-your-heels-and-have-a-blast-whether-youre-flying-solo-or-bringing-your-crew-our-line-dancing-classes-are-the-perfect-way-to-enjoy-a-grea-e1768262201865.jpg
END:VEVENT
BEGIN:VEVENT
DTSTART;TZID=America/Chicago:20260207T090000
DTEND;TZID=America/Chicago:20260207T170000
DTSTAMP:20260425T102431
CREATED:20260203T225947Z
LAST-MODIFIED:20260203T225947Z
UID:693699-1770454800-1770483600@www.wgil.com
SUMMARY:The 54th WIU Ag Mech Farm Expo
DESCRIPTION:Join us for the largest student-run ag industry event in the nation. We have hundreds of Ag suppliers and businesses signed up to fill Western Hall! New and exciting changes this year include optional educational sessions to learn about the newest innovations in the Ag industry!
URL:https://www.wgil.com/event/the-54th-wiu-ag-mech-farm-expo/
LOCATION:Western Hall on the campus of WIU\, West University Drive\, Macomb\, IL\, 61455\, United States
CATEGORIES:Community Events
ATTACH;FMTTYPE=image/jpeg:https://dehayf5mhw1h7.cloudfront.net/wp-content/uploads/sites/2036/2026/02/03165917/624591101_897289169702166_1955165862112144190_n.jpg
ORGANIZER;CN="WIU%20Ag%20Mech%20Club":MAILTO:agmech@wiu.edu
END:VEVENT
BEGIN:VEVENT
DTSTART;TZID=America/Chicago:20260207T103000
DTEND;TZID=America/Chicago:20260207T123000
DTSTAMP:20260425T102431
CREATED:20260120T223025Z
LAST-MODIFIED:20260120T223025Z
UID:692960-1770460200-1770467400@www.wgil.com
SUMMARY:Stem Fun! Heart Design Structures
DESCRIPTION:Stop by our Art Studio to design a heart structure of your very own. \nFree with admission
URL:https://www.wgil.com/event/stem-fun-heart-design-structures/
LOCATION:Discovery Depot\, 128 S Chambers St\, Galesburg\, IL\, 61401\, United States
CATEGORIES:Community Events
ATTACH;FMTTYPE=image/jpeg:https://dehayf5mhw1h7.cloudfront.net/wp-content/uploads/sites/2036/2026/01/20121234/feb7_hearts-e1768948212128.jpg
ORGANIZER;CN="Discovery%20Depot":MAILTO:director@discoverydepot.org
END:VEVENT
END:VCALENDAR