BEGIN:VCALENDAR
VERSION:2.0
PRODID:-//WGIL 93.7 FM - 1400 AM - ECPv5.6.0//NONSGML v1.0//EN
CALSCALE:GREGORIAN
METHOD:PUBLISH
X-WR-CALNAME:WGIL 93.7 FM - 1400 AM
X-ORIGINAL-URL:https://www.wgil.com
X-WR-CALDESC:Events for WGIL 93.7 FM - 1400 AM
BEGIN:VTIMEZONE
TZID:America/Chicago
BEGIN:DAYLIGHT
TZOFFSETFROM:-0600
TZOFFSETTO:-0500
TZNAME:CDT
DTSTART:20250309T080000
END:DAYLIGHT
BEGIN:STANDARD
TZOFFSETFROM:-0500
TZOFFSETTO:-0600
TZNAME:CST
DTSTART:20251102T070000
END:STANDARD
TZID:America/New_York
BEGIN:DAYLIGHT
TZOFFSETFROM:-0500
TZOFFSETTO:-0400
TZNAME:EDT
DTSTART:20250309T070000
END:DAYLIGHT
BEGIN:STANDARD
TZOFFSETFROM:-0400
TZOFFSETTO:-0500
TZNAME:EST
DTSTART:20251102T060000
END:STANDARD
END:VTIMEZONE
BEGIN:VEVENT
DTSTART;VALUE=DATE:20250213
DTEND;VALUE=DATE:20250214
DTSTAMP:20260425T201437
CREATED:20200912T172504Z
LAST-MODIFIED:20200912T172504Z
UID:324686-1739404800-1739491199@www.wgil.com
SUMMARY:Galesburg Veterans Van
DESCRIPTION:We start running to Iowa City VA Hospital on Wednesdays and Thursdays.  Please give us a weeks notice. 309-342-7735
URL:https://www.wgil.com/event/galesburg-veterans-van-2/2025-02-13/
LOCATION:IL
CATEGORIES:Community Events
ATTACH;FMTTYPE=image/jpeg:https://dehayf5mhw1h7.cloudfront.net/wp-content/uploads/sites/2036/2020/09/12172504/7D5E0CF3-3117-4BDA-80CF-17EE7A16E44C-e1599931346207.jpeg
ORGANIZER;CN="Galesburg%20Veterans%20Van":MAILTO:Galesburgveteransvan@gmail.com
END:VEVENT
BEGIN:VEVENT
DTSTART;TZID=America/Chicago:20250213T130000
DTEND;TZID=America/Chicago:20250213T140000
DTSTAMP:20260425T201437
CREATED:20240207T190400Z
LAST-MODIFIED:20240207T190400Z
UID:648668-1739451600-1739455200@www.wgil.com
SUMMARY:First Lutheran Church Food Pantry
DESCRIPTION:First Lutheran Church Food Pantry\, 364 E. Water St.\, Galesburg.
URL:https://www.wgil.com/event/first-lutheran-church-food-pantry/2025-02-13/
LOCATION:First Lutheran Church\, 364 E. Water St.\, Galesburg\, IL\, 61401\, United States
CATEGORIES:Community Events
ATTACH;FMTTYPE=image/jpeg:https://dehayf5mhw1h7.cloudfront.net/wp-content/uploads/sites/2036/2020/05/27162250/first-lutheran-church-food-pantry.jpg
GEO:40.9495812;-90.3650888
X-APPLE-STRUCTURED-LOCATION;VALUE=URI;X-ADDRESS=First Lutheran Church 364 E. Water St. Galesburg IL 61401 United States;X-APPLE-RADIUS=500;X-TITLE=364 E. Water St.:geo:-90.3650888,40.9495812
END:VEVENT
BEGIN:VEVENT
DTSTART;TZID=America/Chicago:20250213T140000
DTEND;TZID=America/Chicago:20250213T144500
DTSTAMP:20260425T201437
CREATED:20250204T001241Z
LAST-MODIFIED:20250204T001241Z
UID:669393-1739455200-1739457900@www.wgil.com
SUMMARY:Home School Hub
DESCRIPTION:Home School Hub is a program for home schooled children. It focuses on Science and Art. This program is free with admission. \nFebruary 6th – SCIENCE: paper plate stem roller coaster\nFebruary 13 – ART: sunburst painting for Valentine’s Day\nFebruary 20 – SCIENCE: building bones with Roxanne Pacey\nFebruary 27 – ART: Alma Thomas Artwork \nThe museum closes promptly at 3:00 p.m. \n 
URL:https://www.wgil.com/event/home-school-hub-21/2025-02-13/
LOCATION:Discovery Depot\, 128 S Chambers St\, Galesburg\, IL\, 61401\, United States
CATEGORIES:Community Events
ORGANIZER;CN="Discovery%20Depot":MAILTO:director@discoverydepot.org
END:VEVENT
BEGIN:VEVENT
DTSTART;TZID=America/Chicago:20250213T161500
DTEND;TZID=America/Chicago:20250213T174500
DTSTAMP:20260425T201437
CREATED:20250207T191950Z
LAST-MODIFIED:20250207T191950Z
UID:669154-1739463300-1739468700@www.wgil.com
SUMMARY:Kids Canvas Club
DESCRIPTION:Come create a Step by Step painting by Tracie Kiernan! \nPre-registration is required!
URL:https://www.wgil.com/event/kids-canvas-club-39/
LOCATION:Discovery Depot\, 128 S Chambers St\, Galesburg\, IL\, 61401\, United States
CATEGORIES:Community Events
ATTACH;FMTTYPE=image/png:https://dehayf5mhw1h7.cloudfront.net/wp-content/uploads/sites/2036/2025/02/07104121/kids-canvas-club-february-2025-e1738955980940.png
END:VEVENT
BEGIN:VEVENT
DTSTART;TZID=America/Chicago:20250213T180000
DTEND;TZID=America/Chicago:20250213T200000
DTSTAMP:20260425T201437
CREATED:20250107T234506Z
LAST-MODIFIED:20250107T234506Z
UID:667761-1739469600-1739476800@www.wgil.com
SUMMARY:You + Me Craft Night: Keepsake Handprint Dish
DESCRIPTION:Date: Thursday\, February 13\, 2025\nTime: 6-8PM\nCost: $16 (1 child + adult\, 1 clay handprint); Add-ons available for additional hands (see registration page)\nRegistration Deadline: February 6\nLocation: Lake Storey Pavilion \nJoin us for an all ages family-style craft night! We will be crafting with love this month\, creating a clay trinket dish out of your child’s handprint! We provide the clay\, paint and supplies\, you provide the creativity! Spend a fun evening with that special child in your life\, and create a great keepsake handprint trinket tray together. Using oven-dry clay\, you can paint your handprint dish when dry.
URL:https://www.wgil.com/event/you-me-craft-night-keepsake-handprint-dish/
LOCATION:Lake Storey Pavilion\, 1572 Machen Drive\, Galesburg\, IL\, 61401\, United States
CATEGORIES:Community Events
ATTACH;FMTTYPE=image/png:https://dehayf5mhw1h7.cloudfront.net/wp-content/uploads/sites/2036/2025/01/07132750/you-me-craft-night-family-hand-bowls-feb-2025-e1736293490211.png
END:VEVENT
BEGIN:VEVENT
DTSTART;TZID=America/Chicago:20250214T170000
DTEND;TZID=America/Chicago:20250214T210000
DTSTAMP:20260425T201437
CREATED:20250205T220826Z
LAST-MODIFIED:20250205T220826Z
UID:669019-1739552400-1739566800@www.wgil.com
SUMMARY:O.A.K.S Country Music Night
DESCRIPTION:Country Music Night with the band Pope Creek playing. Bring your Valentine and dance. Food available 5-8\, $5 cover charge.\nQuestion? Call 309-343-0435.
URL:https://www.wgil.com/event/o-a-k-s-country-music-night/
LOCATION:OAKS Senior Center\, 176 Farnham\, Galesburg\, IL\, United States
CATEGORIES:Community Events
GEO:40.9493687;-90.3453589
X-APPLE-STRUCTURED-LOCATION;VALUE=URI;X-ADDRESS=OAKS Senior Center 176 Farnham Galesburg IL United States;X-APPLE-RADIUS=500;X-TITLE=176 Farnham:geo:-90.3453589,40.9493687
END:VEVENT
BEGIN:VEVENT
DTSTART;TZID=America/Chicago:20250214T173000
DTEND;TZID=America/Chicago:20250214T210000
DTSTAMP:20260425T201437
CREATED:20250107T234556Z
LAST-MODIFIED:20250107T234556Z
UID:667764-1739554200-1739566800@www.wgil.com
SUMMARY:Parents Night Out
DESCRIPTION:Date: Friday\, February 14\, 2025\nTime: 5:30-9PM\nEarly Bird Cost: $15 by January 31\nAfter January 31 Cost: $20 per person by February 13\nAges: 4-12 years old\nLocation: Lakeside Recreation Facility \nParents\, get a much needed night away on Valentine’s Day while knowing your children are engaged and active with the Indoor Mobile Playground on the multipurpose courts at Lakeside Recreation Facility. Our qualified staff will lead a variety of games and activities for your child. A family friendly movie will be played in the lobby area\, for those who need a break from the games. Pizza will be provided as part of the program cost.
URL:https://www.wgil.com/event/parents-night-out-4/
LOCATION:Lakeside Recreation Facility\, 1033 S. Lake Storey Rd\, Galesburg\, IL\, 61401\, United States
CATEGORIES:Community Events
ATTACH;FMTTYPE=image/png:https://dehayf5mhw1h7.cloudfront.net/wp-content/uploads/sites/2036/2025/01/07132932/parents-night-out-fb-2025-1-e1736293538541.png
END:VEVENT
BEGIN:VEVENT
DTSTART;TZID=America/Chicago:20250214T180000
DTEND;TZID=America/Chicago:20250214T190000
DTSTAMP:20260425T201437
CREATED:20250207T192208Z
LAST-MODIFIED:20250207T192208Z
UID:669176-1739556000-1739559600@www.wgil.com
SUMMARY:O.A.K.S. Senior Center Line Dancing
DESCRIPTION:Join Donna Eiker for a night of line dancing at the OAKS Senior Center!
URL:https://www.wgil.com/event/o-a-k-s-senior-center-line-dancing/
LOCATION:OAKS Senior Center\, 176 Farnham\, Galesburg\, IL\, United States
CATEGORIES:Community Events
GEO:40.9493687;-90.3453589
X-APPLE-STRUCTURED-LOCATION;VALUE=URI;X-ADDRESS=OAKS Senior Center 176 Farnham Galesburg IL United States;X-APPLE-RADIUS=500;X-TITLE=176 Farnham:geo:-90.3453589,40.9493687
END:VEVENT
BEGIN:VEVENT
DTSTART;TZID=America/Chicago:20250214T193000
DTEND;TZID=America/Chicago:20250214T193000
DTSTAMP:20260425T201437
CREATED:20250204T221109Z
LAST-MODIFIED:20250204T221109Z
UID:668686-1739561400-1739561400@www.wgil.com
SUMMARY:Ben Jones: Let Me Be Frank
DESCRIPTION:Sponsored by Midwest Green Energy. \nAward-winning vocalist Ben Jones and legendary pianist\, composer and music director\, Ron Abel\, combine their considerable talent for an evening of side-splitting laughs and unbelievable music celebrating the deep catalog of Frank Sinatra. \nLet Me Be Frank includes swinging Sinatra standards and lush blue-eyed ballads from the songbooks of Cy Coleman\, Duke Ellington\, Harold Arlen\, Johnny Mercer\, Jacques Brel\, and Antonio Carlos Jobim. \n\n\n\n\n \nTICKETS are Reserved Seating\n\n\nOrchestra: $25 + $5 facility fee ($30 total) + $1 convenience fee for credit/debit\n\nSTUDENT RUSH TICKETS: $10. Available from 7-7:30 pm day of the show at the box office. Must have Student ID to purchase ticket. 1 ticket per patron with ID.\n\nAll sales are final.
URL:https://www.wgil.com/event/ben-jones-let-me-be-frank/
LOCATION:The Orpheum Theatre\, 57 S. Kellogg St\, Galesburg\, IL\, 61401\, United States
CATEGORIES:Community Events
ATTACH;FMTTYPE=image/png:https://dehayf5mhw1h7.cloudfront.net/wp-content/uploads/sites/2036/2025/01/29161528/ben-jones-poster-e1738707054820.png
GEO:40.9467947;-90.3659687
X-APPLE-STRUCTURED-LOCATION;VALUE=URI;X-ADDRESS=The Orpheum Theatre 57 S. Kellogg St Galesburg IL 61401 United States;X-APPLE-RADIUS=500;X-TITLE=57 S. Kellogg St:geo:-90.3659687,40.9467947
END:VEVENT
BEGIN:VEVENT
DTSTART;TZID=America/Chicago:20250215T124500
DTEND;TZID=America/Chicago:20250215T124500
DTSTAMP:20260425T201437
CREATED:20220831T050559Z
LAST-MODIFIED:20220831T050559Z
UID:324863-1739623500-1739623500@www.wgil.com
SUMMARY:BINGO at the Galesburg VFW
DESCRIPTION:Come and have some fun at the Galesburg VFW with BINGO each Saturday. Doors open at 10:30a and BINGO starts at 12:45p.
URL:https://www.wgil.com/event/bingo-at-the-galesburg-vfw-2/2025-02-15/
LOCATION:Galesburg VFW Post 2257\, 1001 Michigan ave\, Galesburg\, IL\, 61401\, United States
CATEGORIES:Community Events
END:VEVENT
BEGIN:VEVENT
DTSTART;TZID=America/Chicago:20250215T173000
DTEND;TZID=America/Chicago:20250215T203000
DTSTAMP:20260425T201437
CREATED:20250204T223225Z
LAST-MODIFIED:20250204T223225Z
UID:668783-1739640600-1739651400@www.wgil.com
SUMMARY:Rhythm & Soul Fundraiser and Silent Auction
DESCRIPTION:Join us for the 2nd Annual Fundraiser and Silent Auction hosted by The Support Group for African American Affairs! \nThis special event will raise funds for scholarships to support graduating high school students in the Knox County community as they embark on their college journeys. Enjoy a night of great music\, delicious food\, and exciting auction items\, all while supporting the next generation of leaders. Your contribution will directly help these students achieve their academic goals and make a lasting impact on their futures. Come out\, have fun\, and be part of something meaningful for our youth! \nTickets are $50 per seat\, or $400 for a table.
URL:https://www.wgil.com/event/rhythm-soul-fundraiser-and-silent-auction/
LOCATION:The Vault at Reserve Artisan Ales\, 185 S. Kellogg Street\, Galesburg\, IL\, 61401\, United States
CATEGORIES:Community Events
ATTACH;FMTTYPE=image/png:https://dehayf5mhw1h7.cloudfront.net/wp-content/uploads/sites/2036/2025/01/31103226/rhythm-soul-fundraiser-flyer-2025-e1738708309824.png
ORGANIZER;CN="The%20Support%20Group%20for%20African%20American%20Affairs":MAILTO:S.G.A.A.A.892@gmail.com
END:VEVENT
BEGIN:VEVENT
DTSTART;TZID=America/Chicago:20250216T123000
DTEND;TZID=America/Chicago:20250216T140000
DTSTAMP:20260425T201437
CREATED:20250207T192105Z
LAST-MODIFIED:20250207T192105Z
UID:669172-1739709000-1739714400@www.wgil.com
SUMMARY:Presidential Props!
DESCRIPTION:Create crafts relating to some of our past Presidents! \nFree with Admission!
URL:https://www.wgil.com/event/presidential-props/
LOCATION:Discovery Depot\, 128 S Chambers St\, Galesburg\, IL\, 61401\, United States
CATEGORIES:Community Events
ATTACH;FMTTYPE=image/jpeg:https://dehayf5mhw1h7.cloudfront.net/wp-content/uploads/sites/2036/2025/02/07111148/dd_feb16presprops-e1738956053425.jpg
END:VEVENT
BEGIN:VEVENT
DTSTART;TZID=America/Chicago:20250216T140000
DTEND;TZID=America/Chicago:20250216T160000
DTSTAMP:20260425T201437
CREATED:20250210T191755Z
LAST-MODIFIED:20250210T191755Z
UID:669220-1739714400-1739721600@www.wgil.com
SUMMARY:This Random World Auditions
DESCRIPTION:Prairie Players will be holding auditions for their April production of This Random World: The Myth of Serendipity on Sunday\, February 16\, from 2-4 pm and Monday\, February 17\, from 6-8 pm at Prairie Players Civic Theatre\, 160 S. Seminary Street Galesburg. \nDirector Todd Quick is looking for 1 female (age 60s-70s)\, 4 females (20s-40s)\, 2 males (20s-30s) and 1 male (40s-60s). Auditions will be reading brief excerpts from the script. No experience or advance preparation necessary!
URL:https://www.wgil.com/event/this-random-world-auditions/
LOCATION:Prairie Players Civic Theatre\, 160 S Seminary St\, Galesburg\, IL\, 61401\, United States
CATEGORIES:Community Events
ATTACH;FMTTYPE=image/jpeg:https://dehayf5mhw1h7.cloudfront.net/wp-content/uploads/sites/2036/2025/02/09231515/unnamed-e1739215064293.jpg
ORGANIZER;CN="Prairie%20Players%20Civic%20Theatre":MAILTO:info@prairieplayers.com
GEO:40.9456115;-90.3651065
X-APPLE-STRUCTURED-LOCATION;VALUE=URI;X-ADDRESS=Prairie Players Civic Theatre 160 S Seminary St Galesburg IL 61401 United States;X-APPLE-RADIUS=500;X-TITLE=160 S Seminary St:geo:-90.3651065,40.9456115
END:VEVENT
BEGIN:VEVENT
DTSTART;TZID=America/Chicago:20250217T130000
DTEND;TZID=America/Chicago:20250217T160000
DTSTAMP:20260425T201437
CREATED:20250121T233239Z
LAST-MODIFIED:20250121T233239Z
UID:668055-1739797200-1739808000@www.wgil.com
SUMMARY:Wibit Swim
DESCRIPTION:Date: February 17\, 2025\nTime: 1-4PM\nCost: $5 per person\nLocation: Hawthorne Pool \nJoin us at Hawthorne Pool for a special family swim! A partial wibit will be in the water and available for use by all level swimmers. \nThe diving board will not be open during this swim time. Swimmers age 8 and under must have an adult within arms reach at all times\, unless a swim test is passed. Swimmers age 12 and under must have an adult in the building at all times.
URL:https://www.wgil.com/event/wibit-swim-5/
LOCATION:Hawthorne Pool\, 2331 Veterans Drive\, Galesburg\, IL\, 61401\, United States
CATEGORIES:Community Events
ATTACH;FMTTYPE=image/png:https://dehayf5mhw1h7.cloudfront.net/wp-content/uploads/sites/2036/2025/01/14144236/wibit-swim-feb-17-2025-fb-e1737502347453.png
END:VEVENT
BEGIN:VEVENT
DTSTART;TZID=America/Chicago:20250217T180000
DTEND;TZID=America/Chicago:20250217T200000
DTSTAMP:20260425T201437
CREATED:20250210T191836Z
LAST-MODIFIED:20250210T191836Z
UID:669224-1739815200-1739822400@www.wgil.com
SUMMARY:This Random World Auditions
DESCRIPTION:Prairie Players will be holding auditions for their April production of This Random World: The Myth of Serendipity on Sunday\, February 16\, from 2-4 pm and Monday\, February 17\, from 6-8 pm at Prairie Players Civic Theatre\, 160 S. Seminary Street Galesburg. \nDirector Todd Quick is looking for 1 female (age 60s-70s)\, 4 females (20s-40s)\, 2 males (20s-30s) and 1 male (40s-60s). Auditions will be reading brief excerpts from the script. No experience or advance preparation necessary!
URL:https://www.wgil.com/event/this-random-world-auditions-2/
LOCATION:Prairie Players Civic Theatre\, 160 S Seminary St\, Galesburg\, IL\, 61401\, United States
CATEGORIES:Community Events
ATTACH;FMTTYPE=image/jpeg:https://dehayf5mhw1h7.cloudfront.net/wp-content/uploads/sites/2036/2025/02/09231923/unnamed-e1739215104776.jpg
GEO:40.9456115;-90.3651065
X-APPLE-STRUCTURED-LOCATION;VALUE=URI;X-ADDRESS=Prairie Players Civic Theatre 160 S Seminary St Galesburg IL 61401 United States;X-APPLE-RADIUS=500;X-TITLE=160 S Seminary St:geo:-90.3651065,40.9456115
END:VEVENT
BEGIN:VEVENT
DTSTART;TZID=America/Chicago:20250218T103000
DTEND;TZID=America/Chicago:20250218T113000
DTSTAMP:20260425T201437
CREATED:20250207T191913Z
LAST-MODIFIED:20250207T191913Z
UID:669389-1739874600-1739878200@www.wgil.com
SUMMARY:Engine & Caboose
DESCRIPTION:Engine and Caboose Preschool Program\nTuesdays and Wednesdays from 10:30 to 11:30 \nBook will be read at 10:30am. \nEngine and Caboose is a weekly preschool program for children ages 2 to 5 years old. It promotes early literacy\, fine motor and math skills. FREE with paid admission.
URL:https://www.wgil.com/event/engine-caboose-30/2025-02-18/
LOCATION:Discovery Depot\, 128 S Chambers St\, Galesburg\, IL\, 61401\, United States
CATEGORIES:Community Events
ATTACH;FMTTYPE=image/png:https://dehayf5mhw1h7.cloudfront.net/wp-content/uploads/sites/2036/2025/02/07095906/february-engine-caboose-e1738955942258.png
END:VEVENT
BEGIN:VEVENT
DTSTART;TZID=America/Chicago:20250218T170000
DTEND;TZID=America/Chicago:20250218T183000
DTSTAMP:20260425T201437
CREATED:20250205T221204Z
LAST-MODIFIED:20250205T221204Z
UID:669036-1739898000-1739903400@www.wgil.com
SUMMARY:VFW Post 2257 Soup Supper
DESCRIPTION:Soup\, Sandwich\, Dessert.Open to the public.All proceeds go to the veteran’s and their families.
URL:https://www.wgil.com/event/vfw-post-2257-soup-supper-2/
LOCATION:Galesburg VFW Post 2257\, 1001 Michigan ave\, Galesburg\, IL\, 61401\, United States
CATEGORIES:Community Events
ATTACH;FMTTYPE=image/jpeg:https://dehayf5mhw1h7.cloudfront.net/wp-content/uploads/sites/2036/2025/02/05115407/12339979755_68c7217be8_o.jpg
ORGANIZER;CN="Galesburg%20VFW%20Post%202257%20Auxiliary":MAILTO:merme9@comcast.net
END:VEVENT
BEGIN:VEVENT
DTSTART;TZID=America/Chicago:20250218T173000
DTEND;TZID=America/Chicago:20250218T190000
DTSTAMP:20260425T201437
CREATED:20250204T223427Z
LAST-MODIFIED:20250204T223427Z
UID:668798-1739899800-1739905200@www.wgil.com
SUMMARY:Toddler Plus Tuesday
DESCRIPTION:This program is for toddlers plus their families and is offered after hours. This program is in collaboration with ROE #33 educators. Special developmental activities will be available each month. Reduced admission rate is $6.50. Members are free.
URL:https://www.wgil.com/event/toddler-plus-tuesday-20/
LOCATION:Discovery Depot\, 128 S Chambers St\, Galesburg\, IL\, 61401\, United States
CATEGORIES:Community Events
ATTACH;FMTTYPE=image/png:https://dehayf5mhw1h7.cloudfront.net/wp-content/uploads/sites/2036/2025/01/31110919/february-toddler-plus-tuesday-e1738708455131.png
ORGANIZER;CN="Discovery%20Depot":MAILTO:director@discoverydepot.org
END:VEVENT
BEGIN:VEVENT
DTSTART;VALUE=DATE:20250219
DTEND;VALUE=DATE:20250220
DTSTAMP:20260425T201437
CREATED:20200912T172504Z
LAST-MODIFIED:20200912T172504Z
UID:325059-1739923200-1740009599@www.wgil.com
SUMMARY:Galesburg Veterans Van
DESCRIPTION:We start running to Iowa City VA Hospital on Wednesdays and Thursdays.  Please give us a weeks notice. 309-342-7735
URL:https://www.wgil.com/event/galesburg-veterans-van-2/2025-02-19/
LOCATION:IL
CATEGORIES:Community Events
ATTACH;FMTTYPE=image/jpeg:https://dehayf5mhw1h7.cloudfront.net/wp-content/uploads/sites/2036/2020/09/12172504/7D5E0CF3-3117-4BDA-80CF-17EE7A16E44C-e1599931346207.jpeg
ORGANIZER;CN="Galesburg%20Veterans%20Van":MAILTO:Galesburgveteransvan@gmail.com
END:VEVENT
BEGIN:VEVENT
DTSTART;TZID=America/Chicago:20250219T090000
DTEND;TZID=America/Chicago:20250219T110000
DTSTAMP:20260425T201437
CREATED:20241227T223842Z
LAST-MODIFIED:20241227T223842Z
UID:667391-1739955600-1739962800@www.wgil.com
SUMMARY:GriefShare
DESCRIPTION:GriefShare is a 13-week seminar and support group for those who are grieving the loss of a loved one due to death. The group meets in the chapel at First United Methodist Church\, 120 N. Kellogg St. Galesburg at two different times beginning Wednesday\, January 15\, 2025. The morning session is from 9:00 – 11:00. The evening session is from 5:30 – 7:30. Cost will be $20 for a Participant Guide. Pre-registration is preferred but not required. Scholarships are available for workbooks. If School District 205 is closed due to bad weather\, the Church will be closed and GriefShare will not be held. \nFor additional information\, or to register\, please contact the Church office at 309-342-3197.
URL:https://www.wgil.com/event/griefshare-9/2025-02-19/
LOCATION:First United Methodist Church\, 120 North Kellogg Street\, Galesburg\, IL\, 61401\, United States
CATEGORIES:Community Events
GEO:40.9488107;-90.3662995
X-APPLE-STRUCTURED-LOCATION;VALUE=URI;X-ADDRESS=First United Methodist Church 120 North Kellogg Street Galesburg IL 61401 United States;X-APPLE-RADIUS=500;X-TITLE=120 North Kellogg Street:geo:-90.3662995,40.9488107
END:VEVENT
BEGIN:VEVENT
DTSTART;TZID=America/Chicago:20250219T103000
DTEND;TZID=America/Chicago:20250219T113000
DTSTAMP:20260425T201437
CREATED:20250207T191913Z
LAST-MODIFIED:20250207T191913Z
UID:669390-1739961000-1739964600@www.wgil.com
SUMMARY:Engine & Caboose
DESCRIPTION:Engine and Caboose Preschool Program\nTuesdays and Wednesdays from 10:30 to 11:30 \nBook will be read at 10:30am. \nEngine and Caboose is a weekly preschool program for children ages 2 to 5 years old. It promotes early literacy\, fine motor and math skills. FREE with paid admission.
URL:https://www.wgil.com/event/engine-caboose-30/2025-02-19/
LOCATION:Discovery Depot\, 128 S Chambers St\, Galesburg\, IL\, 61401\, United States
CATEGORIES:Community Events
ATTACH;FMTTYPE=image/png:https://dehayf5mhw1h7.cloudfront.net/wp-content/uploads/sites/2036/2025/02/07095906/february-engine-caboose-e1738955942258.png
END:VEVENT
BEGIN:VEVENT
DTSTART;TZID=America/Chicago:20250219T130000
DTEND;TZID=America/Chicago:20250219T140000
DTSTAMP:20260425T201437
CREATED:20210524T132602Z
LAST-MODIFIED:20210524T132602Z
UID:325058-1739970000-1739973600@www.wgil.com
SUMMARY:St. Vincent de Paul Food Pantry
DESCRIPTION:ST VINCENT DE PAUL WEEKLY FOOD DISTRIBUTION. Weekly (Wednesdays from 1PM toll 2 PM) grocery distribution for individuals and families in need. \nCurbside service is provided as well. \nNot required to call ahead\, but calling will speed up the process. \nWill be asked whether they need a milk voucher\, number of adults and children in family and about any food restrictions. \nNUMBER TO CALL: 815-200-4911.
URL:https://www.wgil.com/event/st-vincent-de-paul-food-pantry/2025-02-19/
LOCATION:Corpus Christi Church basement\, 273 South Prairie St\, Galesburg\, IL\, 61401\, United States
CATEGORIES:Community Events
ORGANIZER;CN="St%20Vincent%20de%20Paul%20Society":MAILTO:dallind@grics.net
END:VEVENT
BEGIN:VEVENT
DTSTART;TZID=America/Chicago:20250219T173000
DTEND;TZID=America/Chicago:20250219T183000
DTSTAMP:20260425T201437
CREATED:20240207T185907Z
LAST-MODIFIED:20240207T185907Z
UID:648731-1739986200-1739989800@www.wgil.com
SUMMARY:First Lutheran Church Food Pantry
DESCRIPTION:First Lutheran Church Food Pantry\, 364 E. Water St.\, Galesburg.
URL:https://www.wgil.com/event/first-lutheran-church-food-pantry-2/2025-02-19/
LOCATION:First Lutheran Church\, 364 E. Water St.\, Galesburg\, IL\, 61401\, United States
CATEGORIES:Community Events
ATTACH;FMTTYPE=image/jpeg:https://dehayf5mhw1h7.cloudfront.net/wp-content/uploads/sites/2036/2020/05/27162250/first-lutheran-church-food-pantry.jpg
GEO:40.9495812;-90.3650888
X-APPLE-STRUCTURED-LOCATION;VALUE=URI;X-ADDRESS=First Lutheran Church 364 E. Water St. Galesburg IL 61401 United States;X-APPLE-RADIUS=500;X-TITLE=364 E. Water St.:geo:-90.3650888,40.9495812
END:VEVENT
BEGIN:VEVENT
DTSTART;TZID=America/New_York:20250219T183000
DTEND;TZID=America/New_York:20250219T200000
DTSTAMP:20260425T201437
CREATED:20200124T193917Z
LAST-MODIFIED:20230404T104808Z
UID:325057-1739989800-1739995200@www.wgil.com
SUMMARY:Chess Club
DESCRIPTION:A chess club for players of all levels will meet at 6:30 pm on Wednesday nights at the Henderson Town Hall. There is no cost to come play\, learn and make friends.
URL:https://www.wgil.com/event/chess-club/2025-02-19/
LOCATION:Henderson Town Hall\, 215 S Main Street\, HENDERSON\, IL\, 61439\, United States
CATEGORIES:Community Events
ORGANIZER;CN="Dale%20Hidden":MAILTO:dale_hidden@yahoo.com
END:VEVENT
BEGIN:VEVENT
DTSTART;VALUE=DATE:20250220
DTEND;VALUE=DATE:20250221
DTSTAMP:20260425T201437
CREATED:20200912T172504Z
LAST-MODIFIED:20200912T172504Z
UID:325060-1740009600-1740095999@www.wgil.com
SUMMARY:Galesburg Veterans Van
DESCRIPTION:We start running to Iowa City VA Hospital on Wednesdays and Thursdays.  Please give us a weeks notice. 309-342-7735
URL:https://www.wgil.com/event/galesburg-veterans-van-2/2025-02-20/
LOCATION:IL
CATEGORIES:Community Events
ATTACH;FMTTYPE=image/jpeg:https://dehayf5mhw1h7.cloudfront.net/wp-content/uploads/sites/2036/2020/09/12172504/7D5E0CF3-3117-4BDA-80CF-17EE7A16E44C-e1599931346207.jpeg
ORGANIZER;CN="Galesburg%20Veterans%20Van":MAILTO:Galesburgveteransvan@gmail.com
END:VEVENT
BEGIN:VEVENT
DTSTART;TZID=America/Chicago:20250220T140000
DTEND;TZID=America/Chicago:20250220T144500
DTSTAMP:20260425T201437
CREATED:20250204T001241Z
LAST-MODIFIED:20250204T001241Z
UID:669394-1740060000-1740062700@www.wgil.com
SUMMARY:Home School Hub
DESCRIPTION:Home School Hub is a program for home schooled children. It focuses on Science and Art. This program is free with admission. \nFebruary 6th – SCIENCE: paper plate stem roller coaster\nFebruary 13 – ART: sunburst painting for Valentine’s Day\nFebruary 20 – SCIENCE: building bones with Roxanne Pacey\nFebruary 27 – ART: Alma Thomas Artwork \nThe museum closes promptly at 3:00 p.m. \n 
URL:https://www.wgil.com/event/home-school-hub-21/2025-02-20/
LOCATION:Discovery Depot\, 128 S Chambers St\, Galesburg\, IL\, 61401\, United States
CATEGORIES:Community Events
ORGANIZER;CN="Discovery%20Depot":MAILTO:director@discoverydepot.org
END:VEVENT
BEGIN:VEVENT
DTSTART;TZID=America/Chicago:20250222T103000
DTEND;TZID=America/Chicago:20250222T123000
DTSTAMP:20260425T201437
CREATED:20241118T201622Z
LAST-MODIFIED:20241118T201622Z
UID:665393-1740220200-1740227400@www.wgil.com
SUMMARY:Indoor Mobile Playground
DESCRIPTION:Date: Every 2nd and 4th Saturday\, December -March\nTime: 10:30AM-12:30PM\nCost: Ages 2-12\, $4; Under 2: Free\nLocation: Lakeside Recreation Facility \nIndoor mobile playground includes jumbo yard games\, playground toys\, sports equipment\, and more. Drop-ins welcome.
URL:https://www.wgil.com/event/indoor-mobile-playground-2/2025-02-22/
LOCATION:Lakeside Recreation Facility\, 1033 S. Lake Storey Rd\, Galesburg\, IL\, 61401\, United States
CATEGORIES:Community Events
ATTACH;FMTTYPE=image/png:https://dehayf5mhw1h7.cloudfront.net/wp-content/uploads/sites/2036/2024/11/18134516/indoor-mobile-playground-dec-mar-2425-fb-e1731960955690.png
END:VEVENT
BEGIN:VEVENT
DTSTART;TZID=America/Chicago:20250222T110000
DTEND;TZID=America/Chicago:20250222T133000
DTSTAMP:20260425T201437
CREATED:20250211T171357Z
LAST-MODIFIED:20250211T171357Z
UID:669268-1740222000-1740231000@www.wgil.com
SUMMARY:OAKS Ham and Beans Fundraiser
DESCRIPTION:Your lunch plans are made. Bring and friend and attend the Ham and Beans Fundraiser at the OAKS Senior Center in Galesburg. Enjoy ham and beans\, cornbread\, pie\, and a drink. Free will donations are accepted. Carry outs available by calling (309) 343-0435.
URL:https://www.wgil.com/event/oaks-ham-and-beans-fundraiser/
LOCATION:OAKS Senior Center\, 176 Farnham\, Galesburg\, IL\, United States
CATEGORIES:Community Events
GEO:40.9493687;-90.3453589
X-APPLE-STRUCTURED-LOCATION;VALUE=URI;X-ADDRESS=OAKS Senior Center 176 Farnham Galesburg IL United States;X-APPLE-RADIUS=500;X-TITLE=176 Farnham:geo:-90.3453589,40.9493687
END:VEVENT
BEGIN:VEVENT
DTSTART;TZID=America/Chicago:20250222T110000
DTEND;TZID=America/Chicago:20250222T133000
DTSTAMP:20260425T201437
CREATED:20250217T205432Z
LAST-MODIFIED:20250217T205432Z
UID:669483-1740222000-1740231000@www.wgil.com
SUMMARY:O.A.K.S Senior Center  Fundraiser
DESCRIPTION:Ham & Beans with cornbread\, pie & beverage. Freewill Donation\nCarry out available 309-343-0435\n176 N Farnham St\, Galesburg
URL:https://www.wgil.com/event/o-a-k-s-senior-center-fundraiser-2/
LOCATION:OAKS Senior Center\, 176 Farnham\, Galesburg\, IL\, United States
CATEGORIES:Community Events
GEO:40.9493687;-90.3453589
X-APPLE-STRUCTURED-LOCATION;VALUE=URI;X-ADDRESS=OAKS Senior Center 176 Farnham Galesburg IL United States;X-APPLE-RADIUS=500;X-TITLE=176 Farnham:geo:-90.3453589,40.9493687
END:VEVENT
BEGIN:VEVENT
DTSTART;TZID=America/Chicago:20250222T124500
DTEND;TZID=America/Chicago:20250222T124500
DTSTAMP:20260425T201437
CREATED:20220831T050559Z
LAST-MODIFIED:20220831T050559Z
UID:325245-1740228300-1740228300@www.wgil.com
SUMMARY:BINGO at the Galesburg VFW
DESCRIPTION:Come and have some fun at the Galesburg VFW with BINGO each Saturday. Doors open at 10:30a and BINGO starts at 12:45p.
URL:https://www.wgil.com/event/bingo-at-the-galesburg-vfw-2/2025-02-22/
LOCATION:Galesburg VFW Post 2257\, 1001 Michigan ave\, Galesburg\, IL\, 61401\, United States
CATEGORIES:Community Events
END:VEVENT
END:VCALENDAR