BEGIN:VCALENDAR
VERSION:2.0
PRODID:-//WGIL 93.7 FM - 1400 AM - ECPv5.6.0//NONSGML v1.0//EN
CALSCALE:GREGORIAN
METHOD:PUBLISH
X-WR-CALNAME:WGIL 93.7 FM - 1400 AM
X-ORIGINAL-URL:https://www.wgil.com
X-WR-CALDESC:Events for WGIL 93.7 FM - 1400 AM
BEGIN:VTIMEZONE
TZID:America/Chicago
BEGIN:DAYLIGHT
TZOFFSETFROM:-0600
TZOFFSETTO:-0500
TZNAME:CDT
DTSTART:20250309T080000
END:DAYLIGHT
BEGIN:STANDARD
TZOFFSETFROM:-0500
TZOFFSETTO:-0600
TZNAME:CST
DTSTART:20251102T070000
END:STANDARD
END:VTIMEZONE
BEGIN:VEVENT
DTSTART;TZID=America/Chicago:20251002T190000
DTEND;TZID=America/Chicago:20251002T210000
DTSTAMP:20260425T201825
CREATED:20250904T220444Z
LAST-MODIFIED:20251030T214910Z
UID:684938-1759431600-1759438800@www.wgil.com
SUMMARY:Indoor Pickleball: Drop-in
DESCRIPTION:Date: October 1 – January 5\, 2026* No drop-in November 27\, 28\, December 24\, 25\, 31\, January 1\, 2\, and 3\nTime: 9AM-12PM\, Wednesday and Friday; 7-9PM\, Monday and Thursday; 8-10:30AM\, Saturdays\nCost: $5\nAges: 14+\nLocation: Hawthorne Gym \nEnjoy drop-in play on our 3 Pickleball courts at Hawthorne Gym! Whether you’re a seasoned player or a beginner\, all skill levels are welcome to join the fun.
URL:https://www.wgil.com/event/indoor-pickleball-drop-in/2025-10-02/
LOCATION:Hawthorne Gym\, 2265 Veterans Dr.\, Galesburg\, IL\, 61401\, United States
CATEGORIES:Community Events
ATTACH;FMTTYPE=image/png:https://dehayf5mhw1h7.cloudfront.net/wp-content/uploads/sites/2036/2025/08/28163731/pickleball-drop-in-2025-fb-e1757023443351.png
GEO:40.9747777;-90.3578701
X-APPLE-STRUCTURED-LOCATION;VALUE=URI;X-ADDRESS=Hawthorne Gym 2265 Veterans Dr. Galesburg IL 61401 United States;X-APPLE-RADIUS=500;X-TITLE=2265 Veterans Dr.:geo:-90.3578701,40.9747777
END:VEVENT
BEGIN:VEVENT
DTSTART;TZID=America/Chicago:20251001T090000
DTEND;TZID=America/Chicago:20251001T120000
DTSTAMP:20260425T201825
CREATED:20250904T220444Z
LAST-MODIFIED:20251030T214909Z
UID:684346-1759309200-1759320000@www.wgil.com
SUMMARY:Indoor Pickleball: Drop-in
DESCRIPTION:Date: October 1 – January 5\, 2026* No drop-in November 27\, 28\, December 24\, 25\, 31\, January 1\, 2\, and 3\nTime: 9AM-12PM\, Wednesday and Friday; 7-9PM\, Monday and Thursday; 8-10:30AM\, Saturdays\nCost: $5\nAges: 14+\nLocation: Hawthorne Gym \nEnjoy drop-in play on our 3 Pickleball courts at Hawthorne Gym! Whether you’re a seasoned player or a beginner\, all skill levels are welcome to join the fun.
URL:https://www.wgil.com/event/indoor-pickleball-drop-in/2025-10-01/
LOCATION:Hawthorne Gym\, 2265 Veterans Dr.\, Galesburg\, IL\, 61401\, United States
CATEGORIES:Community Events
ATTACH;FMTTYPE=image/png:https://dehayf5mhw1h7.cloudfront.net/wp-content/uploads/sites/2036/2025/08/28163731/pickleball-drop-in-2025-fb-e1757023443351.png
GEO:40.9747777;-90.3578701
X-APPLE-STRUCTURED-LOCATION;VALUE=URI;X-ADDRESS=Hawthorne Gym 2265 Veterans Dr. Galesburg IL 61401 United States;X-APPLE-RADIUS=500;X-TITLE=2265 Veterans Dr.:geo:-90.3578701,40.9747777
END:VEVENT
END:VCALENDAR