BEGIN:VCALENDAR
VERSION:2.0
PRODID:-//WGIL 93.7 FM - 1400 AM - ECPv5.6.0//NONSGML v1.0//EN
CALSCALE:GREGORIAN
METHOD:PUBLISH
X-WR-CALNAME:WGIL 93.7 FM - 1400 AM
X-ORIGINAL-URL:https://www.wgil.com
X-WR-CALDESC:Events for WGIL 93.7 FM - 1400 AM
BEGIN:VTIMEZONE
TZID:America/Chicago
BEGIN:DAYLIGHT
TZOFFSETFROM:-0600
TZOFFSETTO:-0500
TZNAME:CDT
DTSTART:20250309T080000
END:DAYLIGHT
BEGIN:STANDARD
TZOFFSETFROM:-0500
TZOFFSETTO:-0600
TZNAME:CST
DTSTART:20251102T070000
END:STANDARD
END:VTIMEZONE
BEGIN:VEVENT
DTSTART;TZID=America/Chicago:20250206T190000
DTEND;TZID=America/Chicago:20250206T220000
DTSTAMP:20260425T181336
CREATED:20241206T230004Z
LAST-MODIFIED:20241206T230004Z
UID:666317-1738868400-1738879200@www.wgil.com
SUMMARY:Jazz Night
DESCRIPTION:Join in a Galesburg tradition that is 30+ years strong! \nCome hear the Knox Cherry Street Combo on Thursday’s from 7-10 pm. This is a free event and all ages are welcome. Full bar and you can order food from any of our fantastic local restaurants (some within walking distance) and have “Supper at the Center.” (No outside drinks allowed.)
URL:https://www.wgil.com/event/jazz-night-6/2025-02-06/
LOCATION:Galesburg Community Arts Center\, 349 E Main St\, Galesburg\, IL\, 61401\, United States
CATEGORIES:Community Events
ATTACH;FMTTYPE=image/jpeg:https://dehayf5mhw1h7.cloudfront.net/wp-content/uploads/sites/2036/2024/12/05095517/jazz-night-poster-2022-1-e1733525993628.jpg
ORGANIZER;CN="Knox%20College%20Music%20Department":MAILTO:music@knox.edu
END:VEVENT
BEGIN:VEVENT
DTSTART;TZID=America/Chicago:20250130T190000
DTEND;TZID=America/Chicago:20250130T220000
DTSTAMP:20260425T181336
CREATED:20241206T230004Z
LAST-MODIFIED:20241206T230004Z
UID:666316-1738263600-1738274400@www.wgil.com
SUMMARY:Jazz Night
DESCRIPTION:Join in a Galesburg tradition that is 30+ years strong! \nCome hear the Knox Cherry Street Combo on Thursday’s from 7-10 pm. This is a free event and all ages are welcome. Full bar and you can order food from any of our fantastic local restaurants (some within walking distance) and have “Supper at the Center.” (No outside drinks allowed.)
URL:https://www.wgil.com/event/jazz-night-6/2025-01-30/
LOCATION:Galesburg Community Arts Center\, 349 E Main St\, Galesburg\, IL\, 61401\, United States
CATEGORIES:Community Events
ATTACH;FMTTYPE=image/jpeg:https://dehayf5mhw1h7.cloudfront.net/wp-content/uploads/sites/2036/2024/12/05095517/jazz-night-poster-2022-1-e1733525993628.jpg
ORGANIZER;CN="Knox%20College%20Music%20Department":MAILTO:music@knox.edu
END:VEVENT
BEGIN:VEVENT
DTSTART;TZID=America/Chicago:20250123T190000
DTEND;TZID=America/Chicago:20250123T220000
DTSTAMP:20260425T181336
CREATED:20241206T230003Z
LAST-MODIFIED:20241206T230003Z
UID:666315-1737658800-1737669600@www.wgil.com
SUMMARY:Jazz Night
DESCRIPTION:Join in a Galesburg tradition that is 30+ years strong! \nCome hear the Knox Cherry Street Combo on Thursday’s from 7-10 pm. This is a free event and all ages are welcome. Full bar and you can order food from any of our fantastic local restaurants (some within walking distance) and have “Supper at the Center.” (No outside drinks allowed.)
URL:https://www.wgil.com/event/jazz-night-6/2025-01-23/
LOCATION:Galesburg Community Arts Center\, 349 E Main St\, Galesburg\, IL\, 61401\, United States
CATEGORIES:Community Events
ATTACH;FMTTYPE=image/jpeg:https://dehayf5mhw1h7.cloudfront.net/wp-content/uploads/sites/2036/2024/12/05095517/jazz-night-poster-2022-1-e1733525993628.jpg
ORGANIZER;CN="Knox%20College%20Music%20Department":MAILTO:music@knox.edu
END:VEVENT
BEGIN:VEVENT
DTSTART;TZID=America/Chicago:20250116T190000
DTEND;TZID=America/Chicago:20250116T220000
DTSTAMP:20260425T181336
CREATED:20241206T230002Z
LAST-MODIFIED:20241206T230002Z
UID:666314-1737054000-1737064800@www.wgil.com
SUMMARY:Jazz Night
DESCRIPTION:Join in a Galesburg tradition that is 30+ years strong! \nCome hear the Knox Cherry Street Combo on Thursday’s from 7-10 pm. This is a free event and all ages are welcome. Full bar and you can order food from any of our fantastic local restaurants (some within walking distance) and have “Supper at the Center.” (No outside drinks allowed.)
URL:https://www.wgil.com/event/jazz-night-6/2025-01-16/
LOCATION:Galesburg Community Arts Center\, 349 E Main St\, Galesburg\, IL\, 61401\, United States
CATEGORIES:Community Events
ATTACH;FMTTYPE=image/jpeg:https://dehayf5mhw1h7.cloudfront.net/wp-content/uploads/sites/2036/2024/12/05095517/jazz-night-poster-2022-1-e1733525993628.jpg
ORGANIZER;CN="Knox%20College%20Music%20Department":MAILTO:music@knox.edu
END:VEVENT
BEGIN:VEVENT
DTSTART;TZID=America/Chicago:20250109T190000
DTEND;TZID=America/Chicago:20250109T220000
DTSTAMP:20260425T181336
CREATED:20241206T230001Z
LAST-MODIFIED:20241206T230001Z
UID:666312-1736449200-1736460000@www.wgil.com
SUMMARY:Jazz Night
DESCRIPTION:Join in a Galesburg tradition that is 30+ years strong! \nCome hear the Knox Cherry Street Combo on Thursday’s from 7-10 pm. This is a free event and all ages are welcome. Full bar and you can order food from any of our fantastic local restaurants (some within walking distance) and have “Supper at the Center.” (No outside drinks allowed.)
URL:https://www.wgil.com/event/jazz-night-6/2025-01-09/
LOCATION:Galesburg Community Arts Center\, 349 E Main St\, Galesburg\, IL\, 61401\, United States
CATEGORIES:Community Events
ATTACH;FMTTYPE=image/jpeg:https://dehayf5mhw1h7.cloudfront.net/wp-content/uploads/sites/2036/2024/12/05095517/jazz-night-poster-2022-1-e1733525993628.jpg
ORGANIZER;CN="Knox%20College%20Music%20Department":MAILTO:music@knox.edu
END:VEVENT
END:VCALENDAR