BEGIN:VCALENDAR
VERSION:2.0
PRODID:-//WGIL 93.7 FM - 1400 AM - ECPv5.6.0//NONSGML v1.0//EN
CALSCALE:GREGORIAN
METHOD:PUBLISH
X-WR-CALNAME:WGIL 93.7 FM - 1400 AM
X-ORIGINAL-URL:https://www.wgil.com
X-WR-CALDESC:Events for WGIL 93.7 FM - 1400 AM
BEGIN:VTIMEZONE
TZID:America/Chicago
BEGIN:DAYLIGHT
TZOFFSETFROM:-0600
TZOFFSETTO:-0500
TZNAME:CDT
DTSTART:20200308T080000
END:DAYLIGHT
BEGIN:STANDARD
TZOFFSETFROM:-0500
TZOFFSETTO:-0600
TZNAME:CST
DTSTART:20201101T070000
END:STANDARD
END:VTIMEZONE
BEGIN:VEVENT
DTSTART;TZID=America/Chicago:20200601T113000
DTEND;TZID=America/Chicago:20200601T130000
DTSTAMP:20260425T104423
CREATED:20200601T165506Z
LAST-MODIFIED:20200601T165506Z
UID:275877-1591011000-1591016400@www.wgil.com
SUMMARY:Knox County Summer Lunch Program
DESCRIPTION:
URL:https://www.wgil.com/event/knox-county-summer-lunch-program/2020-06-01/
CATEGORIES:Community Events
ATTACH;FMTTYPE=:
END:VEVENT
END:VCALENDAR