BEGIN:VCALENDAR
VERSION:2.0
PRODID:-//WGIL 93.7 FM - 1400 AM - ECPv5.6.0//NONSGML v1.0//EN
CALSCALE:GREGORIAN
METHOD:PUBLISH
X-WR-CALNAME:WGIL 93.7 FM - 1400 AM
X-ORIGINAL-URL:https://www.wgil.com
X-WR-CALDESC:Events for WGIL 93.7 FM - 1400 AM
BEGIN:VTIMEZONE
TZID:America/New_York
BEGIN:DAYLIGHT
TZOFFSETFROM:-0500
TZOFFSETTO:-0400
TZNAME:EDT
DTSTART:20270314T070000
END:DAYLIGHT
BEGIN:STANDARD
TZOFFSETFROM:-0400
TZOFFSETTO:-0500
TZNAME:EST
DTSTART:20271107T060000
END:STANDARD
TZID:America/Chicago
BEGIN:DAYLIGHT
TZOFFSETFROM:-0600
TZOFFSETTO:-0500
TZNAME:CDT
DTSTART:20270314T080000
END:DAYLIGHT
BEGIN:STANDARD
TZOFFSETFROM:-0500
TZOFFSETTO:-0600
TZNAME:CST
DTSTART:20271107T070000
END:STANDARD
END:VTIMEZONE
BEGIN:VEVENT
DTSTART;TZID=America/New_York:20270509T150000
DTEND;TZID=America/New_York:20270509T170000
DTSTAMP:20260419T084809
CREATED:20191217T225720Z
LAST-MODIFIED:20191217T225720Z
UID:683860-1809874800-1809882000@www.wgil.com
SUMMARY:PFLAG Galesburg- Raising the Rainbow
DESCRIPTION:A peer support group for primary caregivers of LGBTQ+ youth.
URL:https://www.wgil.com/event/pflag-galesburg-raising-the-rainbow/2027-05-09/
LOCATION:First Lutheran Church\, 364 E. Water St.\, Galesburg\, IL\, 61401\, United States
CATEGORIES:Community Events
ORGANIZER;CN="PFLAG%20Galesburg":MAILTO:galesburgpflag@gmail.com
END:VEVENT
BEGIN:VEVENT
DTSTART;VALUE=DATE:20270512
DTEND;VALUE=DATE:20270513
DTSTAMP:20260419T084809
CREATED:20200912T172504Z
LAST-MODIFIED:20200912T172504Z
UID:683905-1810080000-1810166399@www.wgil.com
SUMMARY:Galesburg Veterans Van
DESCRIPTION:We start running to Iowa City VA Hospital on Wednesdays and Thursdays.  Please give us a weeks notice. 309-342-7735
URL:https://www.wgil.com/event/galesburg-veterans-van-2/2027-05-12/
LOCATION:IL
CATEGORIES:Community Events
ATTACH;FMTTYPE=image/jpeg:https://dehayf5mhw1h7.cloudfront.net/wp-content/uploads/sites/2036/2020/09/12172504/7D5E0CF3-3117-4BDA-80CF-17EE7A16E44C-e1599931346207.jpeg
ORGANIZER;CN="Galesburg%20Veterans%20Van":MAILTO:Galesburgveteransvan@gmail.com
END:VEVENT
BEGIN:VEVENT
DTSTART;TZID=America/Chicago:20270512T130000
DTEND;TZID=America/Chicago:20270512T140000
DTSTAMP:20260419T084809
CREATED:20210524T132602Z
LAST-MODIFIED:20210524T132602Z
UID:683887-1810126800-1810130400@www.wgil.com
SUMMARY:St. Vincent de Paul Food Pantry
DESCRIPTION:ST VINCENT DE PAUL WEEKLY FOOD DISTRIBUTION. Weekly (Wednesdays from 1PM toll 2 PM) grocery distribution for individuals and families in need. \nCurbside service is provided as well. \nNot required to call ahead\, but calling will speed up the process. \nWill be asked whether they need a milk voucher\, number of adults and children in family and about any food restrictions. \nNUMBER TO CALL: 815-200-4911.
URL:https://www.wgil.com/event/st-vincent-de-paul-food-pantry/2027-05-12/
LOCATION:Corpus Christi Church basement\, 273 South Prairie St\, Galesburg\, IL\, 61401\, United States
CATEGORIES:Community Events
ORGANIZER;CN="St%20Vincent%20de%20Paul%20Society":MAILTO:dallind@grics.net
END:VEVENT
BEGIN:VEVENT
DTSTART;TZID=America/New_York:20270512T183000
DTEND;TZID=America/New_York:20270512T200000
DTSTAMP:20260419T084809
CREATED:20200124T193917Z
LAST-MODIFIED:20200124T193917Z
UID:683876-1810146600-1810152000@www.wgil.com
SUMMARY:Chess Club
DESCRIPTION:A chess club for players of all levels will meet at 6:30 pm on Wednesday nights at the Henderson Town Hall. There is no cost to come play\, learn and make friends.
URL:https://www.wgil.com/event/chess-club/2027-05-12/
LOCATION:Henderson Town Hall\, 215 S Main Street\, HENDERSON\, IL\, 61439\, United States
CATEGORIES:Community Events
ORGANIZER;CN="Dale%20Hidden":MAILTO:dale_hidden@yahoo.com
END:VEVENT
BEGIN:VEVENT
DTSTART;VALUE=DATE:20270513
DTEND;VALUE=DATE:20270514
DTSTAMP:20260419T084809
CREATED:20200912T172504Z
LAST-MODIFIED:20200912T172504Z
UID:683906-1810166400-1810252799@www.wgil.com
SUMMARY:Galesburg Veterans Van
DESCRIPTION:We start running to Iowa City VA Hospital on Wednesdays and Thursdays.  Please give us a weeks notice. 309-342-7735
URL:https://www.wgil.com/event/galesburg-veterans-van-2/2027-05-13/
LOCATION:IL
CATEGORIES:Community Events
ATTACH;FMTTYPE=image/jpeg:https://dehayf5mhw1h7.cloudfront.net/wp-content/uploads/sites/2036/2020/09/12172504/7D5E0CF3-3117-4BDA-80CF-17EE7A16E44C-e1599931346207.jpeg
ORGANIZER;CN="Galesburg%20Veterans%20Van":MAILTO:Galesburgveteransvan@gmail.com
END:VEVENT
BEGIN:VEVENT
DTSTART;TZID=America/Chicago:20270513T130000
DTEND;TZID=America/Chicago:20270513T140000
DTSTAMP:20260419T084809
CREATED:20240207T184146Z
LAST-MODIFIED:20240207T184146Z
UID:683832-1810213200-1810216800@www.wgil.com
SUMMARY:First Lutheran Church Food Pantry
DESCRIPTION:First Lutheran Church Food Pantry\, 364 E. Water St.\, Galesburg.
URL:https://www.wgil.com/event/first-lutheran-church-food-pantry/2027-05-13/
LOCATION:First Lutheran Church\, 364 E. Water St.\, Galesburg\, IL\, 61401\, United States
CATEGORIES:Community Events
ATTACH;FMTTYPE=image/jpeg:https://dehayf5mhw1h7.cloudfront.net/wp-content/uploads/sites/2036/2020/05/27162250/first-lutheran-church-food-pantry.jpg
GEO:40.9495812;-90.3650888
X-APPLE-STRUCTURED-LOCATION;VALUE=URI;X-ADDRESS=First Lutheran Church 364 E. Water St. Galesburg IL 61401 United States;X-APPLE-RADIUS=500;X-TITLE=364 E. Water St.:geo:-90.3650888,40.9495812
END:VEVENT
BEGIN:VEVENT
DTSTART;TZID=America/Chicago:20270515T124500
DTEND;TZID=America/Chicago:20270515T124500
DTSTAMP:20260419T084809
CREATED:20220831T050559Z
LAST-MODIFIED:20220831T050559Z
UID:683844-1810385100-1810385100@www.wgil.com
SUMMARY:BINGO at the Galesburg VFW
DESCRIPTION:Come and have some fun at the Galesburg VFW with BINGO each Saturday. Doors open at 10:30a and BINGO starts at 12:45p.
URL:https://www.wgil.com/event/bingo-at-the-galesburg-vfw-2/2027-05-15/
LOCATION:Galesburg VFW Post 2257\, 1001 Michigan ave\, Galesburg\, IL\, 61401\, United States
CATEGORIES:Community Events
END:VEVENT
BEGIN:VEVENT
DTSTART;VALUE=DATE:20270519
DTEND;VALUE=DATE:20270520
DTSTAMP:20260419T084809
CREATED:20200912T172504Z
LAST-MODIFIED:20200912T172504Z
UID:683907-1810684800-1810771199@www.wgil.com
SUMMARY:Galesburg Veterans Van
DESCRIPTION:We start running to Iowa City VA Hospital on Wednesdays and Thursdays.  Please give us a weeks notice. 309-342-7735
URL:https://www.wgil.com/event/galesburg-veterans-van-2/2027-05-19/
LOCATION:IL
CATEGORIES:Community Events
ATTACH;FMTTYPE=image/jpeg:https://dehayf5mhw1h7.cloudfront.net/wp-content/uploads/sites/2036/2020/09/12172504/7D5E0CF3-3117-4BDA-80CF-17EE7A16E44C-e1599931346207.jpeg
ORGANIZER;CN="Galesburg%20Veterans%20Van":MAILTO:Galesburgveteransvan@gmail.com
END:VEVENT
BEGIN:VEVENT
DTSTART;TZID=America/Chicago:20270519T130000
DTEND;TZID=America/Chicago:20270519T140000
DTSTAMP:20260419T084810
CREATED:20210524T132602Z
LAST-MODIFIED:20210524T132602Z
UID:683888-1810731600-1810735200@www.wgil.com
SUMMARY:St. Vincent de Paul Food Pantry
DESCRIPTION:ST VINCENT DE PAUL WEEKLY FOOD DISTRIBUTION. Weekly (Wednesdays from 1PM toll 2 PM) grocery distribution for individuals and families in need. \nCurbside service is provided as well. \nNot required to call ahead\, but calling will speed up the process. \nWill be asked whether they need a milk voucher\, number of adults and children in family and about any food restrictions. \nNUMBER TO CALL: 815-200-4911.
URL:https://www.wgil.com/event/st-vincent-de-paul-food-pantry/2027-05-19/
LOCATION:Corpus Christi Church basement\, 273 South Prairie St\, Galesburg\, IL\, 61401\, United States
CATEGORIES:Community Events
ORGANIZER;CN="St%20Vincent%20de%20Paul%20Society":MAILTO:dallind@grics.net
END:VEVENT
BEGIN:VEVENT
DTSTART;TZID=America/Chicago:20270519T173000
DTEND;TZID=America/Chicago:20270519T183000
DTSTAMP:20260419T084810
CREATED:20240207T185829Z
LAST-MODIFIED:20240207T185829Z
UID:683865-1810747800-1810751400@www.wgil.com
SUMMARY:First Lutheran Church Food Pantry
DESCRIPTION:First Lutheran Church Food Pantry\, 364 E. Water St.\, Galesburg.
URL:https://www.wgil.com/event/first-lutheran-church-food-pantry-2/2027-05-19/
LOCATION:First Lutheran Church\, 364 E. Water St.\, Galesburg\, IL\, 61401\, United States
CATEGORIES:Community Events
ATTACH;FMTTYPE=image/jpeg:https://dehayf5mhw1h7.cloudfront.net/wp-content/uploads/sites/2036/2020/05/27162250/first-lutheran-church-food-pantry.jpg
GEO:40.9495812;-90.3650888
X-APPLE-STRUCTURED-LOCATION;VALUE=URI;X-ADDRESS=First Lutheran Church 364 E. Water St. Galesburg IL 61401 United States;X-APPLE-RADIUS=500;X-TITLE=364 E. Water St.:geo:-90.3650888,40.9495812
END:VEVENT
BEGIN:VEVENT
DTSTART;TZID=America/New_York:20270519T183000
DTEND;TZID=America/New_York:20270519T200000
DTSTAMP:20260419T084810
CREATED:20200124T193917Z
LAST-MODIFIED:20200124T193917Z
UID:683877-1810751400-1810756800@www.wgil.com
SUMMARY:Chess Club
DESCRIPTION:A chess club for players of all levels will meet at 6:30 pm on Wednesday nights at the Henderson Town Hall. There is no cost to come play\, learn and make friends.
URL:https://www.wgil.com/event/chess-club/2027-05-19/
LOCATION:Henderson Town Hall\, 215 S Main Street\, HENDERSON\, IL\, 61439\, United States
CATEGORIES:Community Events
ORGANIZER;CN="Dale%20Hidden":MAILTO:dale_hidden@yahoo.com
END:VEVENT
BEGIN:VEVENT
DTSTART;VALUE=DATE:20270520
DTEND;VALUE=DATE:20270521
DTSTAMP:20260419T084810
CREATED:20200912T172504Z
LAST-MODIFIED:20200912T172504Z
UID:683908-1810771200-1810857599@www.wgil.com
SUMMARY:Galesburg Veterans Van
DESCRIPTION:We start running to Iowa City VA Hospital on Wednesdays and Thursdays.  Please give us a weeks notice. 309-342-7735
URL:https://www.wgil.com/event/galesburg-veterans-van-2/2027-05-20/
LOCATION:IL
CATEGORIES:Community Events
ATTACH;FMTTYPE=image/jpeg:https://dehayf5mhw1h7.cloudfront.net/wp-content/uploads/sites/2036/2020/09/12172504/7D5E0CF3-3117-4BDA-80CF-17EE7A16E44C-e1599931346207.jpeg
ORGANIZER;CN="Galesburg%20Veterans%20Van":MAILTO:Galesburgveteransvan@gmail.com
END:VEVENT
BEGIN:VEVENT
DTSTART;TZID=America/Chicago:20270520T170000
DTEND;TZID=America/Chicago:20270520T190000
DTSTAMP:20260419T084810
CREATED:20240507T145508Z
LAST-MODIFIED:20240507T145508Z
UID:683827-1810832400-1810839600@www.wgil.com
SUMMARY:Community Distribution Day with Hope Initiative
DESCRIPTION:Hope Initiative gives away FREE Hope Boxes on the 3rd Thursday of each month\, at our warehouse on 3rd Street in Galesburg! Each household receives 1 Hope Box with an assortment of product from drinks\, to food\, to cleaning supplies\, and more. \nThere are ❌NO Qualifications\, ❌NO Questions Asked\, ❌NO Strings Attached\, ❌NO Income Requirements. You do not have to be a Galesburg resident\, and no I.D.’s are required. \nFirst come\, first serve\, until the boxes run out! \nSee additional details\, including event directions and Hope Box contents each month\, on our Facebook page. @HopeGalesburg
URL:https://www.wgil.com/event/community-distribution-day-with-hope-initiative/2027-05-20/
LOCATION:Hope Distribution Center\, 435 E 3rd St\, Galesburg\, 61401
CATEGORIES:Community Events
ATTACH;FMTTYPE=image/png:https://dehayf5mhw1h7.cloudfront.net/wp-content/uploads/sites/2036/2024/04/30120724/Hope-Distributed-e1715093472549.png
ORGANIZER;CN="Hope%20Initiative":MAILTO:hopegalesburg@gmail.com
END:VEVENT
BEGIN:VEVENT
DTSTART;TZID=America/Chicago:20270522T124500
DTEND;TZID=America/Chicago:20270522T124500
DTSTAMP:20260419T084810
CREATED:20220831T050559Z
LAST-MODIFIED:20220831T050559Z
UID:683845-1810989900-1810989900@www.wgil.com
SUMMARY:BINGO at the Galesburg VFW
DESCRIPTION:Come and have some fun at the Galesburg VFW with BINGO each Saturday. Doors open at 10:30a and BINGO starts at 12:45p.
URL:https://www.wgil.com/event/bingo-at-the-galesburg-vfw-2/2027-05-22/
LOCATION:Galesburg VFW Post 2257\, 1001 Michigan ave\, Galesburg\, IL\, 61401\, United States
CATEGORIES:Community Events
END:VEVENT
BEGIN:VEVENT
DTSTART;VALUE=DATE:20270526
DTEND;VALUE=DATE:20270527
DTSTAMP:20260419T084810
CREATED:20200912T172504Z
LAST-MODIFIED:20200912T172504Z
UID:683909-1811289600-1811375999@www.wgil.com
SUMMARY:Galesburg Veterans Van
DESCRIPTION:We start running to Iowa City VA Hospital on Wednesdays and Thursdays.  Please give us a weeks notice. 309-342-7735
URL:https://www.wgil.com/event/galesburg-veterans-van-2/2027-05-26/
LOCATION:IL
CATEGORIES:Community Events
ATTACH;FMTTYPE=image/jpeg:https://dehayf5mhw1h7.cloudfront.net/wp-content/uploads/sites/2036/2020/09/12172504/7D5E0CF3-3117-4BDA-80CF-17EE7A16E44C-e1599931346207.jpeg
ORGANIZER;CN="Galesburg%20Veterans%20Van":MAILTO:Galesburgveteransvan@gmail.com
END:VEVENT
BEGIN:VEVENT
DTSTART;TZID=America/Chicago:20270526T130000
DTEND;TZID=America/Chicago:20270526T140000
DTSTAMP:20260419T084810
CREATED:20210524T132602Z
LAST-MODIFIED:20210524T132602Z
UID:683889-1811336400-1811340000@www.wgil.com
SUMMARY:St. Vincent de Paul Food Pantry
DESCRIPTION:ST VINCENT DE PAUL WEEKLY FOOD DISTRIBUTION. Weekly (Wednesdays from 1PM toll 2 PM) grocery distribution for individuals and families in need. \nCurbside service is provided as well. \nNot required to call ahead\, but calling will speed up the process. \nWill be asked whether they need a milk voucher\, number of adults and children in family and about any food restrictions. \nNUMBER TO CALL: 815-200-4911.
URL:https://www.wgil.com/event/st-vincent-de-paul-food-pantry/2027-05-26/
LOCATION:Corpus Christi Church basement\, 273 South Prairie St\, Galesburg\, IL\, 61401\, United States
CATEGORIES:Community Events
ORGANIZER;CN="St%20Vincent%20de%20Paul%20Society":MAILTO:dallind@grics.net
END:VEVENT
BEGIN:VEVENT
DTSTART;TZID=America/Chicago:20270526T183000
DTEND;TZID=America/Chicago:20270526T200000
DTSTAMP:20260419T084810
CREATED:20200124T193917Z
LAST-MODIFIED:20200124T193917Z
UID:683878-1811356200-1811361600@www.wgil.com
SUMMARY:Chess Club
DESCRIPTION:A chess club for players of all levels will meet at 6:30 pm on Wednesday nights at the Henderson Town Hall. There is no cost to come play\, learn and make friends.
URL:https://www.wgil.com/event/chess-club/2027-05-26/
LOCATION:IL
END:VEVENT
BEGIN:VEVENT
DTSTART;VALUE=DATE:20270527
DTEND;VALUE=DATE:20270528
DTSTAMP:20260419T084810
CREATED:20200912T172504Z
LAST-MODIFIED:20200912T172504Z
UID:683910-1811376000-1811462399@www.wgil.com
SUMMARY:Galesburg Veterans Van
DESCRIPTION:We start running to Iowa City VA Hospital on Wednesdays and Thursdays.  Please give us a weeks notice. 309-342-7735
URL:https://www.wgil.com/event/galesburg-veterans-van-2/2027-05-27/
LOCATION:IL
CATEGORIES:Community Events
ATTACH;FMTTYPE=image/jpeg:https://dehayf5mhw1h7.cloudfront.net/wp-content/uploads/sites/2036/2020/09/12172504/7D5E0CF3-3117-4BDA-80CF-17EE7A16E44C-e1599931346207.jpeg
ORGANIZER;CN="Galesburg%20Veterans%20Van":MAILTO:Galesburgveteransvan@gmail.com
END:VEVENT
BEGIN:VEVENT
DTSTART;TZID=America/Chicago:20270529T124500
DTEND;TZID=America/Chicago:20270529T124500
DTSTAMP:20260419T084810
CREATED:20220831T050559Z
LAST-MODIFIED:20220831T050559Z
UID:683846-1811594700-1811594700@www.wgil.com
SUMMARY:BINGO at the Galesburg VFW
DESCRIPTION:Come and have some fun at the Galesburg VFW with BINGO each Saturday. Doors open at 10:30a and BINGO starts at 12:45p.
URL:https://www.wgil.com/event/bingo-at-the-galesburg-vfw-2/2027-05-29/
LOCATION:Galesburg VFW Post 2257\, 1001 Michigan ave\, Galesburg\, IL\, 61401\, United States
CATEGORIES:Community Events
END:VEVENT
BEGIN:VEVENT
DTSTART;VALUE=DATE:20270602
DTEND;VALUE=DATE:20270603
DTSTAMP:20260419T084810
CREATED:20200912T172504Z
LAST-MODIFIED:20200912T172504Z
UID:683911-1811894400-1811980799@www.wgil.com
SUMMARY:Galesburg Veterans Van
DESCRIPTION:We start running to Iowa City VA Hospital on Wednesdays and Thursdays.  Please give us a weeks notice. 309-342-7735
URL:https://www.wgil.com/event/galesburg-veterans-van-2/2027-06-02/
LOCATION:IL
CATEGORIES:Community Events
ATTACH;FMTTYPE=image/jpeg:https://dehayf5mhw1h7.cloudfront.net/wp-content/uploads/sites/2036/2020/09/12172504/7D5E0CF3-3117-4BDA-80CF-17EE7A16E44C-e1599931346207.jpeg
ORGANIZER;CN="Galesburg%20Veterans%20Van":MAILTO:Galesburgveteransvan@gmail.com
END:VEVENT
BEGIN:VEVENT
DTSTART;TZID=America/Chicago:20270602T130000
DTEND;TZID=America/Chicago:20270602T140000
DTSTAMP:20260419T084810
CREATED:20210524T132602Z
LAST-MODIFIED:20210524T132602Z
UID:683890-1811941200-1811944800@www.wgil.com
SUMMARY:St. Vincent de Paul Food Pantry
DESCRIPTION:ST VINCENT DE PAUL WEEKLY FOOD DISTRIBUTION. Weekly (Wednesdays from 1PM toll 2 PM) grocery distribution for individuals and families in need. \nCurbside service is provided as well. \nNot required to call ahead\, but calling will speed up the process. \nWill be asked whether they need a milk voucher\, number of adults and children in family and about any food restrictions. \nNUMBER TO CALL: 815-200-4911.
URL:https://www.wgil.com/event/st-vincent-de-paul-food-pantry/2027-06-02/
LOCATION:IL
END:VEVENT
BEGIN:VEVENT
DTSTART;VALUE=DATE:20270603
DTEND;VALUE=DATE:20270604
DTSTAMP:20260419T084810
CREATED:20200912T172504Z
LAST-MODIFIED:20200912T172504Z
UID:683912-1811980800-1812067199@www.wgil.com
SUMMARY:Galesburg Veterans Van
DESCRIPTION:We start running to Iowa City VA Hospital on Wednesdays and Thursdays.  Please give us a weeks notice. 309-342-7735
URL:https://www.wgil.com/event/galesburg-veterans-van-2/2027-06-03/
LOCATION:IL
CATEGORIES:Community Events
ATTACH;FMTTYPE=image/jpeg:https://dehayf5mhw1h7.cloudfront.net/wp-content/uploads/sites/2036/2020/09/12172504/7D5E0CF3-3117-4BDA-80CF-17EE7A16E44C-e1599931346207.jpeg
ORGANIZER;CN="Galesburg%20Veterans%20Van":MAILTO:Galesburgveteransvan@gmail.com
END:VEVENT
BEGIN:VEVENT
DTSTART;TZID=America/Chicago:20270605T124500
DTEND;TZID=America/Chicago:20270605T124500
DTSTAMP:20260419T084810
CREATED:20220831T050559Z
LAST-MODIFIED:20220831T050559Z
UID:683847-1812199500-1812199500@www.wgil.com
SUMMARY:BINGO at the Galesburg VFW
DESCRIPTION:Come and have some fun at the Galesburg VFW with BINGO each Saturday. Doors open at 10:30a and BINGO starts at 12:45p.
URL:https://www.wgil.com/event/bingo-at-the-galesburg-vfw-2/2027-06-05/
LOCATION:Galesburg VFW Post 2257\, 1001 Michigan ave\, Galesburg\, IL\, 61401\, United States
CATEGORIES:Community Events
END:VEVENT
BEGIN:VEVENT
DTSTART;VALUE=DATE:20270609
DTEND;VALUE=DATE:20270610
DTSTAMP:20260419T084810
CREATED:20200912T172504Z
LAST-MODIFIED:20200912T172504Z
UID:683913-1812499200-1812585599@www.wgil.com
SUMMARY:Galesburg Veterans Van
DESCRIPTION:We start running to Iowa City VA Hospital on Wednesdays and Thursdays.  Please give us a weeks notice. 309-342-7735
URL:https://www.wgil.com/event/galesburg-veterans-van-2/2027-06-09/
LOCATION:IL
CATEGORIES:Community Events
ATTACH;FMTTYPE=image/jpeg:https://dehayf5mhw1h7.cloudfront.net/wp-content/uploads/sites/2036/2020/09/12172504/7D5E0CF3-3117-4BDA-80CF-17EE7A16E44C-e1599931346207.jpeg
ORGANIZER;CN="Galesburg%20Veterans%20Van":MAILTO:Galesburgveteransvan@gmail.com
END:VEVENT
BEGIN:VEVENT
DTSTART;VALUE=DATE:20270610
DTEND;VALUE=DATE:20270611
DTSTAMP:20260419T084810
CREATED:20200912T172504Z
LAST-MODIFIED:20200912T172504Z
UID:683914-1812585600-1812671999@www.wgil.com
SUMMARY:Galesburg Veterans Van
DESCRIPTION:We start running to Iowa City VA Hospital on Wednesdays and Thursdays.  Please give us a weeks notice. 309-342-7735
URL:https://www.wgil.com/event/galesburg-veterans-van-2/2027-06-10/
LOCATION:IL
CATEGORIES:Community Events
ATTACH;FMTTYPE=image/jpeg:https://dehayf5mhw1h7.cloudfront.net/wp-content/uploads/sites/2036/2020/09/12172504/7D5E0CF3-3117-4BDA-80CF-17EE7A16E44C-e1599931346207.jpeg
ORGANIZER;CN="Galesburg%20Veterans%20Van":MAILTO:Galesburgveteransvan@gmail.com
END:VEVENT
BEGIN:VEVENT
DTSTART;TZID=America/Chicago:20270610T130000
DTEND;TZID=America/Chicago:20270610T140000
DTSTAMP:20260419T084810
CREATED:20240207T184146Z
LAST-MODIFIED:20240207T184146Z
UID:683833-1812632400-1812636000@www.wgil.com
SUMMARY:First Lutheran Church Food Pantry
DESCRIPTION:First Lutheran Church Food Pantry\, 364 E. Water St.\, Galesburg.
URL:https://www.wgil.com/event/first-lutheran-church-food-pantry/2027-06-10/
LOCATION:First Lutheran Church\, 364 E. Water St.\, Galesburg\, IL\, 61401\, United States
CATEGORIES:Community Events
ATTACH;FMTTYPE=image/jpeg:https://dehayf5mhw1h7.cloudfront.net/wp-content/uploads/sites/2036/2020/05/27162250/first-lutheran-church-food-pantry.jpg
GEO:40.9495812;-90.3650888
X-APPLE-STRUCTURED-LOCATION;VALUE=URI;X-ADDRESS=First Lutheran Church 364 E. Water St. Galesburg IL 61401 United States;X-APPLE-RADIUS=500;X-TITLE=364 E. Water St.:geo:-90.3650888,40.9495812
END:VEVENT
BEGIN:VEVENT
DTSTART;TZID=America/Chicago:20270612T124500
DTEND;TZID=America/Chicago:20270612T124500
DTSTAMP:20260419T084810
CREATED:20220831T050559Z
LAST-MODIFIED:20220831T050559Z
UID:683848-1812804300-1812804300@www.wgil.com
SUMMARY:BINGO at the Galesburg VFW
DESCRIPTION:Come and have some fun at the Galesburg VFW with BINGO each Saturday. Doors open at 10:30a and BINGO starts at 12:45p.
URL:https://www.wgil.com/event/bingo-at-the-galesburg-vfw-2/2027-06-12/
LOCATION:Galesburg VFW Post 2257\, 1001 Michigan ave\, Galesburg\, IL\, 61401\, United States
CATEGORIES:Community Events
END:VEVENT
BEGIN:VEVENT
DTSTART;TZID=America/New_York:20270613T150000
DTEND;TZID=America/New_York:20270613T170000
DTSTAMP:20260419T084810
CREATED:20191217T225720Z
LAST-MODIFIED:20191217T225720Z
UID:683861-1812898800-1812906000@www.wgil.com
SUMMARY:PFLAG Galesburg- Raising the Rainbow
DESCRIPTION:A peer support group for primary caregivers of LGBTQ+ youth.
URL:https://www.wgil.com/event/pflag-galesburg-raising-the-rainbow/2027-06-13/
LOCATION:First Lutheran Church\, 364 E. Water St.\, Galesburg\, IL\, 61401\, United States
CATEGORIES:Community Events
ORGANIZER;CN="PFLAG%20Galesburg":MAILTO:galesburgpflag@gmail.com
END:VEVENT
BEGIN:VEVENT
DTSTART;VALUE=DATE:20270616
DTEND;VALUE=DATE:20270617
DTSTAMP:20260419T084810
CREATED:20200912T172504Z
LAST-MODIFIED:20200912T172504Z
UID:683915-1813104000-1813190399@www.wgil.com
SUMMARY:Galesburg Veterans Van
DESCRIPTION:We start running to Iowa City VA Hospital on Wednesdays and Thursdays.  Please give us a weeks notice. 309-342-7735
URL:https://www.wgil.com/event/galesburg-veterans-van-2/2027-06-16/
LOCATION:IL
CATEGORIES:Community Events
ATTACH;FMTTYPE=image/jpeg:https://dehayf5mhw1h7.cloudfront.net/wp-content/uploads/sites/2036/2020/09/12172504/7D5E0CF3-3117-4BDA-80CF-17EE7A16E44C-e1599931346207.jpeg
ORGANIZER;CN="Galesburg%20Veterans%20Van":MAILTO:Galesburgveteransvan@gmail.com
END:VEVENT
BEGIN:VEVENT
DTSTART;TZID=America/Chicago:20270616T173000
DTEND;TZID=America/Chicago:20270616T183000
DTSTAMP:20260419T084810
CREATED:20240207T185829Z
LAST-MODIFIED:20240207T185829Z
UID:683866-1813167000-1813170600@www.wgil.com
SUMMARY:First Lutheran Church Food Pantry
DESCRIPTION:First Lutheran Church Food Pantry\, 364 E. Water St.\, Galesburg.
URL:https://www.wgil.com/event/first-lutheran-church-food-pantry-2/2027-06-16/
LOCATION:First Lutheran Church\, 364 E. Water St.\, Galesburg\, IL\, 61401\, United States
CATEGORIES:Community Events
ATTACH;FMTTYPE=image/jpeg:https://dehayf5mhw1h7.cloudfront.net/wp-content/uploads/sites/2036/2020/05/27162250/first-lutheran-church-food-pantry.jpg
GEO:40.9495812;-90.3650888
X-APPLE-STRUCTURED-LOCATION;VALUE=URI;X-ADDRESS=First Lutheran Church 364 E. Water St. Galesburg IL 61401 United States;X-APPLE-RADIUS=500;X-TITLE=364 E. Water St.:geo:-90.3650888,40.9495812
END:VEVENT
END:VCALENDAR