BEGIN:VCALENDAR
VERSION:2.0
PRODID:-//WGIL 93.7 FM - 1400 AM - ECPv5.6.0//NONSGML v1.0//EN
CALSCALE:GREGORIAN
METHOD:PUBLISH
X-WR-CALNAME:WGIL 93.7 FM - 1400 AM
X-ORIGINAL-URL:https://www.wgil.com
X-WR-CALDESC:Events for WGIL 93.7 FM - 1400 AM
BEGIN:VTIMEZONE
TZID:America/Chicago
BEGIN:DAYLIGHT
TZOFFSETFROM:-0600
TZOFFSETTO:-0500
TZNAME:CDT
DTSTART:20270314T080000
END:DAYLIGHT
BEGIN:STANDARD
TZOFFSETFROM:-0500
TZOFFSETTO:-0600
TZNAME:CST
DTSTART:20271107T070000
END:STANDARD
TZID:America/New_York
BEGIN:DAYLIGHT
TZOFFSETFROM:-0500
TZOFFSETTO:-0400
TZNAME:EDT
DTSTART:20270314T070000
END:DAYLIGHT
BEGIN:STANDARD
TZOFFSETFROM:-0400
TZOFFSETTO:-0500
TZNAME:EST
DTSTART:20271107T060000
END:STANDARD
END:VTIMEZONE
BEGIN:VEVENT
DTSTART;TZID=America/Chicago:20270217T130000
DTEND;TZID=America/Chicago:20270217T140000
DTSTAMP:20260419T084255
CREATED:20210524T132602Z
LAST-MODIFIED:20210524T132602Z
UID:669625-1802869200-1802872800@www.wgil.com
SUMMARY:St. Vincent de Paul Food Pantry
DESCRIPTION:ST VINCENT DE PAUL WEEKLY FOOD DISTRIBUTION. Weekly (Wednesdays from 1PM toll 2 PM) grocery distribution for individuals and families in need. \nCurbside service is provided as well. \nNot required to call ahead\, but calling will speed up the process. \nWill be asked whether they need a milk voucher\, number of adults and children in family and about any food restrictions. \nNUMBER TO CALL: 815-200-4911.
URL:https://www.wgil.com/event/st-vincent-de-paul-food-pantry/2027-02-17/
LOCATION:Corpus Christi Church basement\, 273 South Prairie St\, Galesburg\, IL\, 61401\, United States
CATEGORIES:Community Events
ORGANIZER;CN="St%20Vincent%20de%20Paul%20Society":MAILTO:dallind@grics.net
END:VEVENT
BEGIN:VEVENT
DTSTART;TZID=America/Chicago:20270217T173000
DTEND;TZID=America/Chicago:20270217T183000
DTSTAMP:20260419T084255
CREATED:20240207T185829Z
LAST-MODIFIED:20240207T185829Z
UID:669623-1802885400-1802889000@www.wgil.com
SUMMARY:First Lutheran Church Food Pantry
DESCRIPTION:First Lutheran Church Food Pantry\, 364 E. Water St.\, Galesburg.
URL:https://www.wgil.com/event/first-lutheran-church-food-pantry-2/2027-02-17/
LOCATION:First Lutheran Church\, 364 E. Water St.\, Galesburg\, IL\, 61401\, United States
CATEGORIES:Community Events
ATTACH;FMTTYPE=image/jpeg:https://dehayf5mhw1h7.cloudfront.net/wp-content/uploads/sites/2036/2020/05/27162250/first-lutheran-church-food-pantry.jpg
GEO:40.9495812;-90.3650888
X-APPLE-STRUCTURED-LOCATION;VALUE=URI;X-ADDRESS=First Lutheran Church 364 E. Water St. Galesburg IL 61401 United States;X-APPLE-RADIUS=500;X-TITLE=364 E. Water St.:geo:-90.3650888,40.9495812
END:VEVENT
BEGIN:VEVENT
DTSTART;TZID=America/New_York:20270217T183000
DTEND;TZID=America/New_York:20270217T200000
DTSTAMP:20260419T084255
CREATED:20200124T193917Z
LAST-MODIFIED:20200124T193917Z
UID:669624-1802889000-1802894400@www.wgil.com
SUMMARY:Chess Club
DESCRIPTION:A chess club for players of all levels will meet at 6:30 pm on Wednesday nights at the Henderson Town Hall. There is no cost to come play\, learn and make friends.
URL:https://www.wgil.com/event/chess-club/2027-02-17/
LOCATION:Henderson Town Hall\, 215 S Main Street\, HENDERSON\, IL\, 61439\, United States
CATEGORIES:Community Events
ORGANIZER;CN="Dale%20Hidden":MAILTO:dale_hidden@yahoo.com
END:VEVENT
BEGIN:VEVENT
DTSTART;VALUE=DATE:20270218
DTEND;VALUE=DATE:20270219
DTSTAMP:20260419T084255
CREATED:20200912T172504Z
LAST-MODIFIED:20200912T172504Z
UID:669766-1802908800-1802995199@www.wgil.com
SUMMARY:Galesburg Veterans Van
DESCRIPTION:We start running to Iowa City VA Hospital on Wednesdays and Thursdays.  Please give us a weeks notice. 309-342-7735
URL:https://www.wgil.com/event/galesburg-veterans-van-2/2027-02-18/
LOCATION:IL
CATEGORIES:Community Events
ATTACH;FMTTYPE=image/jpeg:https://dehayf5mhw1h7.cloudfront.net/wp-content/uploads/sites/2036/2020/09/12172504/7D5E0CF3-3117-4BDA-80CF-17EE7A16E44C-e1599931346207.jpeg
ORGANIZER;CN="Galesburg%20Veterans%20Van":MAILTO:Galesburgveteransvan@gmail.com
END:VEVENT
BEGIN:VEVENT
DTSTART;TZID=America/Chicago:20270218T170000
DTEND;TZID=America/Chicago:20270218T190000
DTSTAMP:20260419T084255
CREATED:20240507T145508Z
LAST-MODIFIED:20240507T145508Z
UID:669765-1802970000-1802977200@www.wgil.com
SUMMARY:Community Distribution Day with Hope Initiative
DESCRIPTION:Hope Initiative gives away FREE Hope Boxes on the 3rd Thursday of each month\, at our warehouse on 3rd Street in Galesburg! Each household receives 1 Hope Box with an assortment of product from drinks\, to food\, to cleaning supplies\, and more. \nThere are ❌NO Qualifications\, ❌NO Questions Asked\, ❌NO Strings Attached\, ❌NO Income Requirements. You do not have to be a Galesburg resident\, and no I.D.’s are required. \nFirst come\, first serve\, until the boxes run out! \nSee additional details\, including event directions and Hope Box contents each month\, on our Facebook page. @HopeGalesburg
URL:https://www.wgil.com/event/community-distribution-day-with-hope-initiative/2027-02-18/
LOCATION:Hope Distribution Center\, 435 E 3rd St\, Galesburg\, 61401
CATEGORIES:Community Events
ATTACH;FMTTYPE=image/png:https://dehayf5mhw1h7.cloudfront.net/wp-content/uploads/sites/2036/2024/04/30120724/Hope-Distributed-e1715093472549.png
ORGANIZER;CN="Hope%20Initiative":MAILTO:hopegalesburg@gmail.com
END:VEVENT
BEGIN:VEVENT
DTSTART;TZID=America/Chicago:20270219T180000
DTEND;TZID=America/Chicago:20270219T200000
DTSTAMP:20260419T084255
CREATED:20260416T213900Z
LAST-MODIFIED:20260416T214751Z
UID:698512-1803060000-1803067200@www.wgil.com
SUMMARY:Knoxville American Legion Fish Fry Dinner
DESCRIPTION:Join your family and friends at the Knoxville Legion for an amazing fish or chicken dinner. \nFried catfish dinner $13.00\nFried Walleye dinner $13.00\nChicken Strip dinner $11.00\nChoice of Baked Potato or Fries\nChoice of Baked Beans or Cloe Slaw\nDinner Roll \nServing from 5:00 PM to 7:00 PM Dine In or Carry Out
URL:https://www.wgil.com/event/knoxville-american-legion-fish-fry-dinner/2027-02-19/
LOCATION:Knoxville American Legion\, Knoxville\, IL\, 61448\, United States
CATEGORIES:Community Events
ATTACH;FMTTYPE=image/png:https://dehayf5mhw1h7.cloudfront.net/wp-content/uploads/sites/2036/2026/04/16074744/fish-e1776375527646.png
END:VEVENT
BEGIN:VEVENT
DTSTART;TZID=America/Chicago:20270220T124500
DTEND;TZID=America/Chicago:20270220T124500
DTSTAMP:20260419T084255
CREATED:20220831T050559Z
LAST-MODIFIED:20220831T050559Z
UID:669905-1803127500-1803127500@www.wgil.com
SUMMARY:BINGO at the Galesburg VFW
DESCRIPTION:Come and have some fun at the Galesburg VFW with BINGO each Saturday. Doors open at 10:30a and BINGO starts at 12:45p.
URL:https://www.wgil.com/event/bingo-at-the-galesburg-vfw-2/2027-02-20/
LOCATION:Galesburg VFW Post 2257\, 1001 Michigan ave\, Galesburg\, IL\, 61401\, United States
CATEGORIES:Community Events
END:VEVENT
BEGIN:VEVENT
DTSTART;VALUE=DATE:20270224
DTEND;VALUE=DATE:20270225
DTSTAMP:20260419T084255
CREATED:20200912T172504Z
LAST-MODIFIED:20200912T172504Z
UID:670090-1803427200-1803513599@www.wgil.com
SUMMARY:Galesburg Veterans Van
DESCRIPTION:We start running to Iowa City VA Hospital on Wednesdays and Thursdays.  Please give us a weeks notice. 309-342-7735
URL:https://www.wgil.com/event/galesburg-veterans-van-2/2027-02-24/
LOCATION:IL
CATEGORIES:Community Events
ATTACH;FMTTYPE=image/jpeg:https://dehayf5mhw1h7.cloudfront.net/wp-content/uploads/sites/2036/2020/09/12172504/7D5E0CF3-3117-4BDA-80CF-17EE7A16E44C-e1599931346207.jpeg
ORGANIZER;CN="Galesburg%20Veterans%20Van":MAILTO:Galesburgveteransvan@gmail.com
END:VEVENT
BEGIN:VEVENT
DTSTART;TZID=America/Chicago:20270224T130000
DTEND;TZID=America/Chicago:20270224T140000
DTSTAMP:20260419T084255
CREATED:20210524T132602Z
LAST-MODIFIED:20210524T132602Z
UID:670089-1803474000-1803477600@www.wgil.com
SUMMARY:St. Vincent de Paul Food Pantry
DESCRIPTION:ST VINCENT DE PAUL WEEKLY FOOD DISTRIBUTION. Weekly (Wednesdays from 1PM toll 2 PM) grocery distribution for individuals and families in need. \nCurbside service is provided as well. \nNot required to call ahead\, but calling will speed up the process. \nWill be asked whether they need a milk voucher\, number of adults and children in family and about any food restrictions. \nNUMBER TO CALL: 815-200-4911.
URL:https://www.wgil.com/event/st-vincent-de-paul-food-pantry/2027-02-24/
LOCATION:Corpus Christi Church basement\, 273 South Prairie St\, Galesburg\, IL\, 61401\, United States
CATEGORIES:Community Events
ORGANIZER;CN="St%20Vincent%20de%20Paul%20Society":MAILTO:dallind@grics.net
END:VEVENT
BEGIN:VEVENT
DTSTART;TZID=America/New_York:20270224T183000
DTEND;TZID=America/New_York:20270224T200000
DTSTAMP:20260419T084255
CREATED:20200124T193917Z
LAST-MODIFIED:20200124T193917Z
UID:670088-1803493800-1803499200@www.wgil.com
SUMMARY:Chess Club
DESCRIPTION:A chess club for players of all levels will meet at 6:30 pm on Wednesday nights at the Henderson Town Hall. There is no cost to come play\, learn and make friends.
URL:https://www.wgil.com/event/chess-club/2027-02-24/
LOCATION:Henderson Town Hall\, 215 S Main Street\, HENDERSON\, IL\, 61439\, United States
CATEGORIES:Community Events
ORGANIZER;CN="Dale%20Hidden":MAILTO:dale_hidden@yahoo.com
END:VEVENT
BEGIN:VEVENT
DTSTART;VALUE=DATE:20270225
DTEND;VALUE=DATE:20270226
DTSTAMP:20260419T084255
CREATED:20200912T172504Z
LAST-MODIFIED:20200912T172504Z
UID:670091-1803513600-1803599999@www.wgil.com
SUMMARY:Galesburg Veterans Van
DESCRIPTION:We start running to Iowa City VA Hospital on Wednesdays and Thursdays.  Please give us a weeks notice. 309-342-7735
URL:https://www.wgil.com/event/galesburg-veterans-van-2/2027-02-25/
LOCATION:IL
CATEGORIES:Community Events
ATTACH;FMTTYPE=image/jpeg:https://dehayf5mhw1h7.cloudfront.net/wp-content/uploads/sites/2036/2020/09/12172504/7D5E0CF3-3117-4BDA-80CF-17EE7A16E44C-e1599931346207.jpeg
ORGANIZER;CN="Galesburg%20Veterans%20Van":MAILTO:Galesburgveteransvan@gmail.com
END:VEVENT
BEGIN:VEVENT
DTSTART;TZID=America/Chicago:20270227T124500
DTEND;TZID=America/Chicago:20270227T124500
DTSTAMP:20260419T084255
CREATED:20220831T050559Z
LAST-MODIFIED:20220831T050559Z
UID:670329-1803732300-1803732300@www.wgil.com
SUMMARY:BINGO at the Galesburg VFW
DESCRIPTION:Come and have some fun at the Galesburg VFW with BINGO each Saturday. Doors open at 10:30a and BINGO starts at 12:45p.
URL:https://www.wgil.com/event/bingo-at-the-galesburg-vfw-2/2027-02-27/
LOCATION:Galesburg VFW Post 2257\, 1001 Michigan ave\, Galesburg\, IL\, 61401\, United States
CATEGORIES:Community Events
END:VEVENT
BEGIN:VEVENT
DTSTART;VALUE=DATE:20270303
DTEND;VALUE=DATE:20270304
DTSTAMP:20260419T084255
CREATED:20200912T172504Z
LAST-MODIFIED:20200912T172504Z
UID:670476-1804032000-1804118399@www.wgil.com
SUMMARY:Galesburg Veterans Van
DESCRIPTION:We start running to Iowa City VA Hospital on Wednesdays and Thursdays.  Please give us a weeks notice. 309-342-7735
URL:https://www.wgil.com/event/galesburg-veterans-van-2/2027-03-03/
LOCATION:IL
CATEGORIES:Community Events
ATTACH;FMTTYPE=image/jpeg:https://dehayf5mhw1h7.cloudfront.net/wp-content/uploads/sites/2036/2020/09/12172504/7D5E0CF3-3117-4BDA-80CF-17EE7A16E44C-e1599931346207.jpeg
ORGANIZER;CN="Galesburg%20Veterans%20Van":MAILTO:Galesburgveteransvan@gmail.com
END:VEVENT
BEGIN:VEVENT
DTSTART;TZID=America/Chicago:20270303T130000
DTEND;TZID=America/Chicago:20270303T140000
DTSTAMP:20260419T084255
CREATED:20210524T132602Z
LAST-MODIFIED:20210524T132602Z
UID:670475-1804078800-1804082400@www.wgil.com
SUMMARY:St. Vincent de Paul Food Pantry
DESCRIPTION:ST VINCENT DE PAUL WEEKLY FOOD DISTRIBUTION. Weekly (Wednesdays from 1PM toll 2 PM) grocery distribution for individuals and families in need. \nCurbside service is provided as well. \nNot required to call ahead\, but calling will speed up the process. \nWill be asked whether they need a milk voucher\, number of adults and children in family and about any food restrictions. \nNUMBER TO CALL: 815-200-4911.
URL:https://www.wgil.com/event/st-vincent-de-paul-food-pantry/2027-03-03/
LOCATION:Corpus Christi Church basement\, 273 South Prairie St\, Galesburg\, IL\, 61401\, United States
CATEGORIES:Community Events
ORGANIZER;CN="St%20Vincent%20de%20Paul%20Society":MAILTO:dallind@grics.net
END:VEVENT
BEGIN:VEVENT
DTSTART;TZID=America/New_York:20270303T183000
DTEND;TZID=America/New_York:20270303T200000
DTSTAMP:20260419T084255
CREATED:20200124T193917Z
LAST-MODIFIED:20200124T193917Z
UID:670474-1804098600-1804104000@www.wgil.com
SUMMARY:Chess Club
DESCRIPTION:A chess club for players of all levels will meet at 6:30 pm on Wednesday nights at the Henderson Town Hall. There is no cost to come play\, learn and make friends.
URL:https://www.wgil.com/event/chess-club/2027-03-03/
LOCATION:Henderson Town Hall\, 215 S Main Street\, HENDERSON\, IL\, 61439\, United States
CATEGORIES:Community Events
ORGANIZER;CN="Dale%20Hidden":MAILTO:dale_hidden@yahoo.com
END:VEVENT
BEGIN:VEVENT
DTSTART;VALUE=DATE:20270304
DTEND;VALUE=DATE:20270305
DTSTAMP:20260419T084255
CREATED:20200912T172504Z
LAST-MODIFIED:20200912T172504Z
UID:670477-1804118400-1804204799@www.wgil.com
SUMMARY:Galesburg Veterans Van
DESCRIPTION:We start running to Iowa City VA Hospital on Wednesdays and Thursdays.  Please give us a weeks notice. 309-342-7735
URL:https://www.wgil.com/event/galesburg-veterans-van-2/2027-03-04/
LOCATION:IL
CATEGORIES:Community Events
ATTACH;FMTTYPE=image/jpeg:https://dehayf5mhw1h7.cloudfront.net/wp-content/uploads/sites/2036/2020/09/12172504/7D5E0CF3-3117-4BDA-80CF-17EE7A16E44C-e1599931346207.jpeg
ORGANIZER;CN="Galesburg%20Veterans%20Van":MAILTO:Galesburgveteransvan@gmail.com
END:VEVENT
BEGIN:VEVENT
DTSTART;TZID=America/Chicago:20270306T124500
DTEND;TZID=America/Chicago:20270306T124500
DTSTAMP:20260419T084255
CREATED:20220831T050559Z
LAST-MODIFIED:20220831T050559Z
UID:670728-1804337100-1804337100@www.wgil.com
SUMMARY:BINGO at the Galesburg VFW
DESCRIPTION:Come and have some fun at the Galesburg VFW with BINGO each Saturday. Doors open at 10:30a and BINGO starts at 12:45p.
URL:https://www.wgil.com/event/bingo-at-the-galesburg-vfw-2/2027-03-06/
LOCATION:Galesburg VFW Post 2257\, 1001 Michigan ave\, Galesburg\, IL\, 61401\, United States
CATEGORIES:Community Events
END:VEVENT
BEGIN:VEVENT
DTSTART;VALUE=DATE:20270310
DTEND;VALUE=DATE:20270311
DTSTAMP:20260419T084255
CREATED:20200912T172504Z
LAST-MODIFIED:20200912T172504Z
UID:671058-1804636800-1804723199@www.wgil.com
SUMMARY:Galesburg Veterans Van
DESCRIPTION:We start running to Iowa City VA Hospital on Wednesdays and Thursdays.  Please give us a weeks notice. 309-342-7735
URL:https://www.wgil.com/event/galesburg-veterans-van-2/2027-03-10/
LOCATION:IL
CATEGORIES:Community Events
ATTACH;FMTTYPE=image/jpeg:https://dehayf5mhw1h7.cloudfront.net/wp-content/uploads/sites/2036/2020/09/12172504/7D5E0CF3-3117-4BDA-80CF-17EE7A16E44C-e1599931346207.jpeg
ORGANIZER;CN="Galesburg%20Veterans%20Van":MAILTO:Galesburgveteransvan@gmail.com
END:VEVENT
BEGIN:VEVENT
DTSTART;TZID=America/Chicago:20270310T130000
DTEND;TZID=America/Chicago:20270310T140000
DTSTAMP:20260419T084255
CREATED:20210524T132602Z
LAST-MODIFIED:20210524T132602Z
UID:671057-1804683600-1804687200@www.wgil.com
SUMMARY:St. Vincent de Paul Food Pantry
DESCRIPTION:ST VINCENT DE PAUL WEEKLY FOOD DISTRIBUTION. Weekly (Wednesdays from 1PM toll 2 PM) grocery distribution for individuals and families in need. \nCurbside service is provided as well. \nNot required to call ahead\, but calling will speed up the process. \nWill be asked whether they need a milk voucher\, number of adults and children in family and about any food restrictions. \nNUMBER TO CALL: 815-200-4911.
URL:https://www.wgil.com/event/st-vincent-de-paul-food-pantry/2027-03-10/
LOCATION:Corpus Christi Church basement\, 273 South Prairie St\, Galesburg\, IL\, 61401\, United States
CATEGORIES:Community Events
ORGANIZER;CN="St%20Vincent%20de%20Paul%20Society":MAILTO:dallind@grics.net
END:VEVENT
BEGIN:VEVENT
DTSTART;TZID=America/New_York:20270310T183000
DTEND;TZID=America/New_York:20270310T200000
DTSTAMP:20260419T084255
CREATED:20200124T193917Z
LAST-MODIFIED:20200124T193917Z
UID:671056-1804703400-1804708800@www.wgil.com
SUMMARY:Chess Club
DESCRIPTION:A chess club for players of all levels will meet at 6:30 pm on Wednesday nights at the Henderson Town Hall. There is no cost to come play\, learn and make friends.
URL:https://www.wgil.com/event/chess-club/2027-03-10/
LOCATION:Henderson Town Hall\, 215 S Main Street\, HENDERSON\, IL\, 61439\, United States
CATEGORIES:Community Events
ORGANIZER;CN="Dale%20Hidden":MAILTO:dale_hidden@yahoo.com
END:VEVENT
BEGIN:VEVENT
DTSTART;VALUE=DATE:20270311
DTEND;VALUE=DATE:20270312
DTSTAMP:20260419T084255
CREATED:20200912T172504Z
LAST-MODIFIED:20200912T172504Z
UID:671059-1804723200-1804809599@www.wgil.com
SUMMARY:Galesburg Veterans Van
DESCRIPTION:We start running to Iowa City VA Hospital on Wednesdays and Thursdays.  Please give us a weeks notice. 309-342-7735
URL:https://www.wgil.com/event/galesburg-veterans-van-2/2027-03-11/
LOCATION:IL
CATEGORIES:Community Events
ATTACH;FMTTYPE=image/jpeg:https://dehayf5mhw1h7.cloudfront.net/wp-content/uploads/sites/2036/2020/09/12172504/7D5E0CF3-3117-4BDA-80CF-17EE7A16E44C-e1599931346207.jpeg
ORGANIZER;CN="Galesburg%20Veterans%20Van":MAILTO:Galesburgveteransvan@gmail.com
END:VEVENT
BEGIN:VEVENT
DTSTART;TZID=America/Chicago:20270311T130000
DTEND;TZID=America/Chicago:20270311T140000
DTSTAMP:20260419T084255
CREATED:20240207T184146Z
LAST-MODIFIED:20240207T184146Z
UID:671116-1804770000-1804773600@www.wgil.com
SUMMARY:First Lutheran Church Food Pantry
DESCRIPTION:First Lutheran Church Food Pantry\, 364 E. Water St.\, Galesburg.
URL:https://www.wgil.com/event/first-lutheran-church-food-pantry/2027-03-11/
LOCATION:First Lutheran Church\, 364 E. Water St.\, Galesburg\, IL\, 61401\, United States
CATEGORIES:Community Events
ATTACH;FMTTYPE=image/jpeg:https://dehayf5mhw1h7.cloudfront.net/wp-content/uploads/sites/2036/2020/05/27162250/first-lutheran-church-food-pantry.jpg
GEO:40.9495812;-90.3650888
X-APPLE-STRUCTURED-LOCATION;VALUE=URI;X-ADDRESS=First Lutheran Church 364 E. Water St. Galesburg IL 61401 United States;X-APPLE-RADIUS=500;X-TITLE=364 E. Water St.:geo:-90.3650888,40.9495812
END:VEVENT
BEGIN:VEVENT
DTSTART;TZID=America/Chicago:20270313T124500
DTEND;TZID=America/Chicago:20270313T124500
DTSTAMP:20260419T084255
CREATED:20220831T050559Z
LAST-MODIFIED:20220831T050559Z
UID:671260-1804941900-1804941900@www.wgil.com
SUMMARY:BINGO at the Galesburg VFW
DESCRIPTION:Come and have some fun at the Galesburg VFW with BINGO each Saturday. Doors open at 10:30a and BINGO starts at 12:45p.
URL:https://www.wgil.com/event/bingo-at-the-galesburg-vfw-2/2027-03-13/
LOCATION:Galesburg VFW Post 2257\, 1001 Michigan ave\, Galesburg\, IL\, 61401\, United States
CATEGORIES:Community Events
END:VEVENT
BEGIN:VEVENT
DTSTART;TZID=America/New_York:20270314T150000
DTEND;TZID=America/New_York:20270314T170000
DTSTAMP:20260419T084255
CREATED:20191217T225720Z
LAST-MODIFIED:20191217T225720Z
UID:671286-1805036400-1805043600@www.wgil.com
SUMMARY:PFLAG Galesburg- Raising the Rainbow
DESCRIPTION:A peer support group for primary caregivers of LGBTQ+ youth.
URL:https://www.wgil.com/event/pflag-galesburg-raising-the-rainbow/2027-03-14/
LOCATION:First Lutheran Church\, 364 E. Water St.\, Galesburg\, IL\, 61401\, United States
CATEGORIES:Community Events
ORGANIZER;CN="PFLAG%20Galesburg":MAILTO:galesburgpflag@gmail.com
END:VEVENT
BEGIN:VEVENT
DTSTART;VALUE=DATE:20270317
DTEND;VALUE=DATE:20270318
DTSTAMP:20260419T084255
CREATED:20200912T172504Z
LAST-MODIFIED:20200912T172504Z
UID:671498-1805241600-1805327999@www.wgil.com
SUMMARY:Galesburg Veterans Van
DESCRIPTION:We start running to Iowa City VA Hospital on Wednesdays and Thursdays.  Please give us a weeks notice. 309-342-7735
URL:https://www.wgil.com/event/galesburg-veterans-van-2/2027-03-17/
LOCATION:IL
CATEGORIES:Community Events
ATTACH;FMTTYPE=image/jpeg:https://dehayf5mhw1h7.cloudfront.net/wp-content/uploads/sites/2036/2020/09/12172504/7D5E0CF3-3117-4BDA-80CF-17EE7A16E44C-e1599931346207.jpeg
ORGANIZER;CN="Galesburg%20Veterans%20Van":MAILTO:Galesburgveteransvan@gmail.com
END:VEVENT
BEGIN:VEVENT
DTSTART;TZID=America/Chicago:20270317T130000
DTEND;TZID=America/Chicago:20270317T140000
DTSTAMP:20260419T084255
CREATED:20210524T132602Z
LAST-MODIFIED:20210524T132602Z
UID:671497-1805288400-1805292000@www.wgil.com
SUMMARY:St. Vincent de Paul Food Pantry
DESCRIPTION:ST VINCENT DE PAUL WEEKLY FOOD DISTRIBUTION. Weekly (Wednesdays from 1PM toll 2 PM) grocery distribution for individuals and families in need. \nCurbside service is provided as well. \nNot required to call ahead\, but calling will speed up the process. \nWill be asked whether they need a milk voucher\, number of adults and children in family and about any food restrictions. \nNUMBER TO CALL: 815-200-4911.
URL:https://www.wgil.com/event/st-vincent-de-paul-food-pantry/2027-03-17/
LOCATION:Corpus Christi Church basement\, 273 South Prairie St\, Galesburg\, IL\, 61401\, United States
CATEGORIES:Community Events
ORGANIZER;CN="St%20Vincent%20de%20Paul%20Society":MAILTO:dallind@grics.net
END:VEVENT
BEGIN:VEVENT
DTSTART;TZID=America/Chicago:20270317T173000
DTEND;TZID=America/Chicago:20270317T183000
DTSTAMP:20260419T084255
CREATED:20240207T185829Z
LAST-MODIFIED:20240207T185829Z
UID:671495-1805304600-1805308200@www.wgil.com
SUMMARY:First Lutheran Church Food Pantry
DESCRIPTION:First Lutheran Church Food Pantry\, 364 E. Water St.\, Galesburg.
URL:https://www.wgil.com/event/first-lutheran-church-food-pantry-2/2027-03-17/
LOCATION:First Lutheran Church\, 364 E. Water St.\, Galesburg\, IL\, 61401\, United States
CATEGORIES:Community Events
ATTACH;FMTTYPE=image/jpeg:https://dehayf5mhw1h7.cloudfront.net/wp-content/uploads/sites/2036/2020/05/27162250/first-lutheran-church-food-pantry.jpg
GEO:40.9495812;-90.3650888
X-APPLE-STRUCTURED-LOCATION;VALUE=URI;X-ADDRESS=First Lutheran Church 364 E. Water St. Galesburg IL 61401 United States;X-APPLE-RADIUS=500;X-TITLE=364 E. Water St.:geo:-90.3650888,40.9495812
END:VEVENT
BEGIN:VEVENT
DTSTART;TZID=America/New_York:20270317T183000
DTEND;TZID=America/New_York:20270317T200000
DTSTAMP:20260419T084255
CREATED:20200124T193917Z
LAST-MODIFIED:20200124T193917Z
UID:671496-1805308200-1805313600@www.wgil.com
SUMMARY:Chess Club
DESCRIPTION:A chess club for players of all levels will meet at 6:30 pm on Wednesday nights at the Henderson Town Hall. There is no cost to come play\, learn and make friends.
URL:https://www.wgil.com/event/chess-club/2027-03-17/
LOCATION:Henderson Town Hall\, 215 S Main Street\, HENDERSON\, IL\, 61439\, United States
CATEGORIES:Community Events
ORGANIZER;CN="Dale%20Hidden":MAILTO:dale_hidden@yahoo.com
END:VEVENT
BEGIN:VEVENT
DTSTART;VALUE=DATE:20270318
DTEND;VALUE=DATE:20270319
DTSTAMP:20260419T084255
CREATED:20200912T172504Z
LAST-MODIFIED:20200912T172504Z
UID:671499-1805328000-1805414399@www.wgil.com
SUMMARY:Galesburg Veterans Van
DESCRIPTION:We start running to Iowa City VA Hospital on Wednesdays and Thursdays.  Please give us a weeks notice. 309-342-7735
URL:https://www.wgil.com/event/galesburg-veterans-van-2/2027-03-18/
LOCATION:IL
CATEGORIES:Community Events
ATTACH;FMTTYPE=image/jpeg:https://dehayf5mhw1h7.cloudfront.net/wp-content/uploads/sites/2036/2020/09/12172504/7D5E0CF3-3117-4BDA-80CF-17EE7A16E44C-e1599931346207.jpeg
ORGANIZER;CN="Galesburg%20Veterans%20Van":MAILTO:Galesburgveteransvan@gmail.com
END:VEVENT
BEGIN:VEVENT
DTSTART;TZID=America/Chicago:20270318T170000
DTEND;TZID=America/Chicago:20270318T190000
DTSTAMP:20260419T084255
CREATED:20240507T145508Z
LAST-MODIFIED:20240507T145508Z
UID:683825-1805389200-1805396400@www.wgil.com
SUMMARY:Community Distribution Day with Hope Initiative
DESCRIPTION:Hope Initiative gives away FREE Hope Boxes on the 3rd Thursday of each month\, at our warehouse on 3rd Street in Galesburg! Each household receives 1 Hope Box with an assortment of product from drinks\, to food\, to cleaning supplies\, and more. \nThere are ❌NO Qualifications\, ❌NO Questions Asked\, ❌NO Strings Attached\, ❌NO Income Requirements. You do not have to be a Galesburg resident\, and no I.D.’s are required. \nFirst come\, first serve\, until the boxes run out! \nSee additional details\, including event directions and Hope Box contents each month\, on our Facebook page. @HopeGalesburg
URL:https://www.wgil.com/event/community-distribution-day-with-hope-initiative/2027-03-18/
LOCATION:Hope Distribution Center\, 435 E 3rd St\, Galesburg\, 61401
CATEGORIES:Community Events
ATTACH;FMTTYPE=image/png:https://dehayf5mhw1h7.cloudfront.net/wp-content/uploads/sites/2036/2024/04/30120724/Hope-Distributed-e1715093472549.png
ORGANIZER;CN="Hope%20Initiative":MAILTO:hopegalesburg@gmail.com
END:VEVENT
END:VCALENDAR