BEGIN:VCALENDAR
VERSION:2.0
PRODID:-//WGIL 93.7 FM - 1400 AM - ECPv5.6.0//NONSGML v1.0//EN
CALSCALE:GREGORIAN
METHOD:PUBLISH
X-WR-CALNAME:WGIL 93.7 FM - 1400 AM
X-ORIGINAL-URL:https://www.wgil.com
X-WR-CALDESC:Events for WGIL 93.7 FM - 1400 AM
BEGIN:VTIMEZONE
TZID:America/Chicago
BEGIN:DAYLIGHT
TZOFFSETFROM:-0600
TZOFFSETTO:-0500
TZNAME:CDT
DTSTART:20240310T080000
END:DAYLIGHT
BEGIN:STANDARD
TZOFFSETFROM:-0500
TZOFFSETTO:-0600
TZNAME:CST
DTSTART:20241103T070000
END:STANDARD
END:VTIMEZONE
BEGIN:VEVENT
DTSTART;TZID=America/Chicago:20240731T100000
DTEND;TZID=America/Chicago:20240731T130000
DTSTAMP:20260425T163855
CREATED:20240207T124852Z
LAST-MODIFIED:20240207T124852Z
UID:648609-1722420000-1722430800@www.wgil.com
SUMMARY:Wataga Seniors Social and Luncheon
DESCRIPTION:Join the Wataga Seniors at the Sparta Township Hall every Wednesday for cards and social time at 10 am and a potluck meal served at noon. Free will offering and/or a potluck dish is encouraged. We look forward to seeing you there!
URL:https://www.wgil.com/event/wataga-seniors-social-and-luncheon-4/2024-07-31/
LOCATION:Sparta Township Hall\, 100 E Willard St\, Wataga\, IL\, 61488\, United States
CATEGORIES:Community Events
ATTACH;FMTTYPE=image/jpeg:https://dehayf5mhw1h7.cloudfront.net/wp-content/uploads/sites/2036/2024/02/06181447/Fun-for-Seniors-e1707310088592.jpg
ORGANIZER;CN="Wataga%20Seniors":MAILTO:Wataga_Seniors@outlook.com
END:VEVENT
BEGIN:VEVENT
DTSTART;TZID=America/Chicago:20240724T100000
DTEND;TZID=America/Chicago:20240724T130000
DTSTAMP:20260425T163855
CREATED:20240207T124851Z
LAST-MODIFIED:20240207T124851Z
UID:648608-1721815200-1721826000@www.wgil.com
SUMMARY:Wataga Seniors Social and Luncheon
DESCRIPTION:Join the Wataga Seniors at the Sparta Township Hall every Wednesday for cards and social time at 10 am and a potluck meal served at noon. Free will offering and/or a potluck dish is encouraged. We look forward to seeing you there!
URL:https://www.wgil.com/event/wataga-seniors-social-and-luncheon-4/2024-07-24/
LOCATION:Sparta Township Hall\, 100 E Willard St\, Wataga\, IL\, 61488\, United States
CATEGORIES:Community Events
ATTACH;FMTTYPE=image/jpeg:https://dehayf5mhw1h7.cloudfront.net/wp-content/uploads/sites/2036/2024/02/06181447/Fun-for-Seniors-e1707310088592.jpg
ORGANIZER;CN="Wataga%20Seniors":MAILTO:Wataga_Seniors@outlook.com
END:VEVENT
BEGIN:VEVENT
DTSTART;TZID=America/Chicago:20240717T100000
DTEND;TZID=America/Chicago:20240717T130000
DTSTAMP:20260425T163855
CREATED:20240207T124851Z
LAST-MODIFIED:20240207T124851Z
UID:648607-1721210400-1721221200@www.wgil.com
SUMMARY:Wataga Seniors Social and Luncheon
DESCRIPTION:Join the Wataga Seniors at the Sparta Township Hall every Wednesday for cards and social time at 10 am and a potluck meal served at noon. Free will offering and/or a potluck dish is encouraged. We look forward to seeing you there!
URL:https://www.wgil.com/event/wataga-seniors-social-and-luncheon-4/2024-07-17/
LOCATION:Sparta Township Hall\, 100 E Willard St\, Wataga\, IL\, 61488\, United States
CATEGORIES:Community Events
ATTACH;FMTTYPE=image/jpeg:https://dehayf5mhw1h7.cloudfront.net/wp-content/uploads/sites/2036/2024/02/06181447/Fun-for-Seniors-e1707310088592.jpg
ORGANIZER;CN="Wataga%20Seniors":MAILTO:Wataga_Seniors@outlook.com
END:VEVENT
BEGIN:VEVENT
DTSTART;TZID=America/Chicago:20240710T100000
DTEND;TZID=America/Chicago:20240710T130000
DTSTAMP:20260425T163855
CREATED:20240207T124850Z
LAST-MODIFIED:20240207T124850Z
UID:648606-1720605600-1720616400@www.wgil.com
SUMMARY:Wataga Seniors Social and Luncheon
DESCRIPTION:Join the Wataga Seniors at the Sparta Township Hall every Wednesday for cards and social time at 10 am and a potluck meal served at noon. Free will offering and/or a potluck dish is encouraged. We look forward to seeing you there!
URL:https://www.wgil.com/event/wataga-seniors-social-and-luncheon-4/2024-07-10/
LOCATION:Sparta Township Hall\, 100 E Willard St\, Wataga\, IL\, 61488\, United States
CATEGORIES:Community Events
ATTACH;FMTTYPE=image/jpeg:https://dehayf5mhw1h7.cloudfront.net/wp-content/uploads/sites/2036/2024/02/06181447/Fun-for-Seniors-e1707310088592.jpg
ORGANIZER;CN="Wataga%20Seniors":MAILTO:Wataga_Seniors@outlook.com
END:VEVENT
BEGIN:VEVENT
DTSTART;TZID=America/Chicago:20240703T100000
DTEND;TZID=America/Chicago:20240703T130000
DTSTAMP:20260425T163855
CREATED:20240207T124849Z
LAST-MODIFIED:20240207T124849Z
UID:648605-1720000800-1720011600@www.wgil.com
SUMMARY:Wataga Seniors Social and Luncheon
DESCRIPTION:Join the Wataga Seniors at the Sparta Township Hall every Wednesday for cards and social time at 10 am and a potluck meal served at noon. Free will offering and/or a potluck dish is encouraged. We look forward to seeing you there!
URL:https://www.wgil.com/event/wataga-seniors-social-and-luncheon-4/2024-07-03/
LOCATION:Sparta Township Hall\, 100 E Willard St\, Wataga\, IL\, 61488\, United States
CATEGORIES:Community Events
ATTACH;FMTTYPE=image/jpeg:https://dehayf5mhw1h7.cloudfront.net/wp-content/uploads/sites/2036/2024/02/06181447/Fun-for-Seniors-e1707310088592.jpg
ORGANIZER;CN="Wataga%20Seniors":MAILTO:Wataga_Seniors@outlook.com
END:VEVENT
BEGIN:VEVENT
DTSTART;TZID=America/Chicago:20240626T100000
DTEND;TZID=America/Chicago:20240626T130000
DTSTAMP:20260425T163855
CREATED:20240207T124847Z
LAST-MODIFIED:20240207T124847Z
UID:648583-1719396000-1719406800@www.wgil.com
SUMMARY:Wataga Seniors Social and Luncheon
DESCRIPTION:Join the Wataga Seniors at the Sparta Township Hall every Wednesday for cards and social time at 10 am and a potluck meal served at noon. Free will offering and/or a potluck dish is encouraged. We look forward to seeing you there!
URL:https://www.wgil.com/event/wataga-seniors-social-and-luncheon-4/2024-06-26/
LOCATION:Sparta Township Hall\, 100 E Willard St\, Wataga\, IL\, 61488\, United States
CATEGORIES:Community Events
ATTACH;FMTTYPE=image/jpeg:https://dehayf5mhw1h7.cloudfront.net/wp-content/uploads/sites/2036/2024/02/06181447/Fun-for-Seniors-e1707310088592.jpg
ORGANIZER;CN="Wataga%20Seniors":MAILTO:Wataga_Seniors@outlook.com
END:VEVENT
BEGIN:VEVENT
DTSTART;TZID=America/Chicago:20240619T100000
DTEND;TZID=America/Chicago:20240619T130000
DTSTAMP:20260425T163855
CREATED:20240207T124847Z
LAST-MODIFIED:20240207T124847Z
UID:648582-1718791200-1718802000@www.wgil.com
SUMMARY:Wataga Seniors Social and Luncheon
DESCRIPTION:Join the Wataga Seniors at the Sparta Township Hall every Wednesday for cards and social time at 10 am and a potluck meal served at noon. Free will offering and/or a potluck dish is encouraged. We look forward to seeing you there!
URL:https://www.wgil.com/event/wataga-seniors-social-and-luncheon-4/2024-06-19/
LOCATION:Sparta Township Hall\, 100 E Willard St\, Wataga\, IL\, 61488\, United States
CATEGORIES:Community Events
ATTACH;FMTTYPE=image/jpeg:https://dehayf5mhw1h7.cloudfront.net/wp-content/uploads/sites/2036/2024/02/06181447/Fun-for-Seniors-e1707310088592.jpg
ORGANIZER;CN="Wataga%20Seniors":MAILTO:Wataga_Seniors@outlook.com
END:VEVENT
BEGIN:VEVENT
DTSTART;TZID=America/Chicago:20240612T100000
DTEND;TZID=America/Chicago:20240612T130000
DTSTAMP:20260425T163855
CREATED:20240207T124846Z
LAST-MODIFIED:20240207T124846Z
UID:648581-1718186400-1718197200@www.wgil.com
SUMMARY:Wataga Seniors Social and Luncheon
DESCRIPTION:Join the Wataga Seniors at the Sparta Township Hall every Wednesday for cards and social time at 10 am and a potluck meal served at noon. Free will offering and/or a potluck dish is encouraged. We look forward to seeing you there!
URL:https://www.wgil.com/event/wataga-seniors-social-and-luncheon-4/2024-06-12/
LOCATION:Sparta Township Hall\, 100 E Willard St\, Wataga\, IL\, 61488\, United States
CATEGORIES:Community Events
ATTACH;FMTTYPE=image/jpeg:https://dehayf5mhw1h7.cloudfront.net/wp-content/uploads/sites/2036/2024/02/06181447/Fun-for-Seniors-e1707310088592.jpg
ORGANIZER;CN="Wataga%20Seniors":MAILTO:Wataga_Seniors@outlook.com
END:VEVENT
BEGIN:VEVENT
DTSTART;TZID=America/Chicago:20240605T100000
DTEND;TZID=America/Chicago:20240605T130000
DTSTAMP:20260425T163855
CREATED:20240207T124845Z
LAST-MODIFIED:20240207T124845Z
UID:648580-1717581600-1717592400@www.wgil.com
SUMMARY:Wataga Seniors Social and Luncheon
DESCRIPTION:Join the Wataga Seniors at the Sparta Township Hall every Wednesday for cards and social time at 10 am and a potluck meal served at noon. Free will offering and/or a potluck dish is encouraged. We look forward to seeing you there!
URL:https://www.wgil.com/event/wataga-seniors-social-and-luncheon-4/2024-06-05/
LOCATION:Sparta Township Hall\, 100 E Willard St\, Wataga\, IL\, 61488\, United States
CATEGORIES:Community Events
ATTACH;FMTTYPE=image/jpeg:https://dehayf5mhw1h7.cloudfront.net/wp-content/uploads/sites/2036/2024/02/06181447/Fun-for-Seniors-e1707310088592.jpg
ORGANIZER;CN="Wataga%20Seniors":MAILTO:Wataga_Seniors@outlook.com
END:VEVENT
BEGIN:VEVENT
DTSTART;TZID=America/Chicago:20240529T100000
DTEND;TZID=America/Chicago:20240529T130000
DTSTAMP:20260425T163855
CREATED:20240207T124845Z
LAST-MODIFIED:20240207T124845Z
UID:648579-1716976800-1716987600@www.wgil.com
SUMMARY:Wataga Seniors Social and Luncheon
DESCRIPTION:Join the Wataga Seniors at the Sparta Township Hall every Wednesday for cards and social time at 10 am and a potluck meal served at noon. Free will offering and/or a potluck dish is encouraged. We look forward to seeing you there!
URL:https://www.wgil.com/event/wataga-seniors-social-and-luncheon-4/2024-05-29/
LOCATION:Sparta Township Hall\, 100 E Willard St\, Wataga\, IL\, 61488\, United States
CATEGORIES:Community Events
ATTACH;FMTTYPE=image/jpeg:https://dehayf5mhw1h7.cloudfront.net/wp-content/uploads/sites/2036/2024/02/06181447/Fun-for-Seniors-e1707310088592.jpg
ORGANIZER;CN="Wataga%20Seniors":MAILTO:Wataga_Seniors@outlook.com
END:VEVENT
BEGIN:VEVENT
DTSTART;TZID=America/Chicago:20240522T100000
DTEND;TZID=America/Chicago:20240522T130000
DTSTAMP:20260425T163855
CREATED:20240207T124844Z
LAST-MODIFIED:20240207T124844Z
UID:648578-1716372000-1716382800@www.wgil.com
SUMMARY:Wataga Seniors Social and Luncheon
DESCRIPTION:Join the Wataga Seniors at the Sparta Township Hall every Wednesday for cards and social time at 10 am and a potluck meal served at noon. Free will offering and/or a potluck dish is encouraged. We look forward to seeing you there!
URL:https://www.wgil.com/event/wataga-seniors-social-and-luncheon-4/2024-05-22/
LOCATION:Sparta Township Hall\, 100 E Willard St\, Wataga\, IL\, 61488\, United States
CATEGORIES:Community Events
ATTACH;FMTTYPE=image/jpeg:https://dehayf5mhw1h7.cloudfront.net/wp-content/uploads/sites/2036/2024/02/06181447/Fun-for-Seniors-e1707310088592.jpg
ORGANIZER;CN="Wataga%20Seniors":MAILTO:Wataga_Seniors@outlook.com
END:VEVENT
BEGIN:VEVENT
DTSTART;TZID=America/Chicago:20240515T100000
DTEND;TZID=America/Chicago:20240515T130000
DTSTAMP:20260425T163855
CREATED:20240207T124844Z
LAST-MODIFIED:20240207T124844Z
UID:648577-1715767200-1715778000@www.wgil.com
SUMMARY:Wataga Seniors Social and Luncheon
DESCRIPTION:Join the Wataga Seniors at the Sparta Township Hall every Wednesday for cards and social time at 10 am and a potluck meal served at noon. Free will offering and/or a potluck dish is encouraged. We look forward to seeing you there!
URL:https://www.wgil.com/event/wataga-seniors-social-and-luncheon-4/2024-05-15/
LOCATION:Sparta Township Hall\, 100 E Willard St\, Wataga\, IL\, 61488\, United States
CATEGORIES:Community Events
ATTACH;FMTTYPE=image/jpeg:https://dehayf5mhw1h7.cloudfront.net/wp-content/uploads/sites/2036/2024/02/06181447/Fun-for-Seniors-e1707310088592.jpg
ORGANIZER;CN="Wataga%20Seniors":MAILTO:Wataga_Seniors@outlook.com
END:VEVENT
BEGIN:VEVENT
DTSTART;TZID=America/Chicago:20240508T100000
DTEND;TZID=America/Chicago:20240508T130000
DTSTAMP:20260425T163855
CREATED:20240207T124843Z
LAST-MODIFIED:20240207T124843Z
UID:648576-1715162400-1715173200@www.wgil.com
SUMMARY:Wataga Seniors Social and Luncheon
DESCRIPTION:Join the Wataga Seniors at the Sparta Township Hall every Wednesday for cards and social time at 10 am and a potluck meal served at noon. Free will offering and/or a potluck dish is encouraged. We look forward to seeing you there!
URL:https://www.wgil.com/event/wataga-seniors-social-and-luncheon-4/2024-05-08/
LOCATION:Sparta Township Hall\, 100 E Willard St\, Wataga\, IL\, 61488\, United States
CATEGORIES:Community Events
ATTACH;FMTTYPE=image/jpeg:https://dehayf5mhw1h7.cloudfront.net/wp-content/uploads/sites/2036/2024/02/06181447/Fun-for-Seniors-e1707310088592.jpg
ORGANIZER;CN="Wataga%20Seniors":MAILTO:Wataga_Seniors@outlook.com
END:VEVENT
BEGIN:VEVENT
DTSTART;TZID=America/Chicago:20240501T100000
DTEND;TZID=America/Chicago:20240501T130000
DTSTAMP:20260425T163855
CREATED:20240207T124842Z
LAST-MODIFIED:20240207T124842Z
UID:648575-1714557600-1714568400@www.wgil.com
SUMMARY:Wataga Seniors Social and Luncheon
DESCRIPTION:Join the Wataga Seniors at the Sparta Township Hall every Wednesday for cards and social time at 10 am and a potluck meal served at noon. Free will offering and/or a potluck dish is encouraged. We look forward to seeing you there!
URL:https://www.wgil.com/event/wataga-seniors-social-and-luncheon-4/2024-05-01/
LOCATION:Sparta Township Hall\, 100 E Willard St\, Wataga\, IL\, 61488\, United States
CATEGORIES:Community Events
ATTACH;FMTTYPE=image/jpeg:https://dehayf5mhw1h7.cloudfront.net/wp-content/uploads/sites/2036/2024/02/06181447/Fun-for-Seniors-e1707310088592.jpg
ORGANIZER;CN="Wataga%20Seniors":MAILTO:Wataga_Seniors@outlook.com
END:VEVENT
BEGIN:VEVENT
DTSTART;TZID=America/Chicago:20240207T100000
DTEND;TZID=America/Chicago:20240207T130000
DTSTAMP:20260425T163855
CREATED:20240207T124819Z
LAST-MODIFIED:20240320T141357Z
UID:648561-1707300000-1707310800@www.wgil.com
SUMMARY:Wataga Seniors Social and Luncheon
DESCRIPTION:Join the Wataga Seniors at the Sparta Township Hall every Wednesday for cards and social time at 10 am and a potluck meal served at noon. Free will offering and/or a potluck dish is encouraged. We look forward to seeing you there!
URL:https://www.wgil.com/event/wataga-seniors-social-and-luncheon-4/2024-02-07/
LOCATION:Sparta Township Hall\, 100 E Willard St\, Wataga\, IL\, 61488\, United States
CATEGORIES:Community Events
ATTACH;FMTTYPE=image/jpeg:https://dehayf5mhw1h7.cloudfront.net/wp-content/uploads/sites/2036/2024/02/06181447/Fun-for-Seniors-e1707310088592.jpg
ORGANIZER;CN="Wataga%20Seniors":MAILTO:Wataga_Seniors@outlook.com
END:VEVENT
END:VCALENDAR