BEGIN:VCALENDAR
VERSION:2.0
PRODID:-//WGIL 93.7 FM - 1400 AM - ECPv5.6.0//NONSGML v1.0//EN
CALSCALE:GREGORIAN
METHOD:PUBLISH
X-WR-CALNAME:WGIL 93.7 FM - 1400 AM
X-ORIGINAL-URL:https://www.wgil.com
X-WR-CALDESC:Events for WGIL 93.7 FM - 1400 AM
BEGIN:VTIMEZONE
TZID:America/Chicago
BEGIN:DAYLIGHT
TZOFFSETFROM:-0600
TZOFFSETTO:-0500
TZNAME:CDT
DTSTART:20240310T080000
END:DAYLIGHT
BEGIN:STANDARD
TZOFFSETFROM:-0500
TZOFFSETTO:-0600
TZNAME:CST
DTSTART:20241103T070000
END:STANDARD
END:VTIMEZONE
BEGIN:VEVENT
DTSTART;TZID=America/Chicago:20241218T100000
DTEND;TZID=America/Chicago:20241218T130000
DTSTAMP:20260422T060246
CREATED:20240905T185855Z
LAST-MODIFIED:20240905T185855Z
UID:662689-1734516000-1734526800@www.wgil.com
SUMMARY:Wataga Seniors Social and Luncheon
DESCRIPTION:Wataga Seniors start at 10 am every Wednesday for social interaction\, including playing cards\, At noon a potluck dinner is served. Birthdays are celebrated on the last Wednesday of the month with bingo\, prizes\, and cake for all.
URL:https://www.wgil.com/event/wataga-seniors-social-and-luncheon-5/2024-12-18/
LOCATION:Sparta Township Hall\, 100 E Willard St\, Wataga\, IL\, 61488\, United States
CATEGORIES:Community Events
ATTACH;FMTTYPE=image/jpeg:https://dehayf5mhw1h7.cloudfront.net/wp-content/uploads/sites/2036/2024/09/04012524/fun-for-seniors.jpg
ORGANIZER;CN="Wataga%20Seniors":MAILTO:Wataga_Seniors@outlook.com
END:VEVENT
BEGIN:VEVENT
DTSTART;TZID=America/Chicago:20241211T100000
DTEND;TZID=America/Chicago:20241211T130000
DTSTAMP:20260422T060246
CREATED:20240905T185855Z
LAST-MODIFIED:20240905T185855Z
UID:662688-1733911200-1733922000@www.wgil.com
SUMMARY:Wataga Seniors Social and Luncheon
DESCRIPTION:Wataga Seniors start at 10 am every Wednesday for social interaction\, including playing cards\, At noon a potluck dinner is served. Birthdays are celebrated on the last Wednesday of the month with bingo\, prizes\, and cake for all.
URL:https://www.wgil.com/event/wataga-seniors-social-and-luncheon-5/2024-12-11/
LOCATION:Sparta Township Hall\, 100 E Willard St\, Wataga\, IL\, 61488\, United States
CATEGORIES:Community Events
ATTACH;FMTTYPE=image/jpeg:https://dehayf5mhw1h7.cloudfront.net/wp-content/uploads/sites/2036/2024/09/04012524/fun-for-seniors.jpg
ORGANIZER;CN="Wataga%20Seniors":MAILTO:Wataga_Seniors@outlook.com
END:VEVENT
BEGIN:VEVENT
DTSTART;TZID=America/Chicago:20241204T100000
DTEND;TZID=America/Chicago:20241204T130000
DTSTAMP:20260422T060246
CREATED:20240905T185855Z
LAST-MODIFIED:20240905T185855Z
UID:662687-1733306400-1733317200@www.wgil.com
SUMMARY:Wataga Seniors Social and Luncheon
DESCRIPTION:Wataga Seniors start at 10 am every Wednesday for social interaction\, including playing cards\, At noon a potluck dinner is served. Birthdays are celebrated on the last Wednesday of the month with bingo\, prizes\, and cake for all.
URL:https://www.wgil.com/event/wataga-seniors-social-and-luncheon-5/2024-12-04/
LOCATION:Sparta Township Hall\, 100 E Willard St\, Wataga\, IL\, 61488\, United States
CATEGORIES:Community Events
ATTACH;FMTTYPE=image/jpeg:https://dehayf5mhw1h7.cloudfront.net/wp-content/uploads/sites/2036/2024/09/04012524/fun-for-seniors.jpg
ORGANIZER;CN="Wataga%20Seniors":MAILTO:Wataga_Seniors@outlook.com
END:VEVENT
BEGIN:VEVENT
DTSTART;TZID=America/Chicago:20241127T100000
DTEND;TZID=America/Chicago:20241127T130000
DTSTAMP:20260422T060246
CREATED:20240905T185855Z
LAST-MODIFIED:20240905T185855Z
UID:662686-1732701600-1732712400@www.wgil.com
SUMMARY:Wataga Seniors Social and Luncheon
DESCRIPTION:Wataga Seniors start at 10 am every Wednesday for social interaction\, including playing cards\, At noon a potluck dinner is served. Birthdays are celebrated on the last Wednesday of the month with bingo\, prizes\, and cake for all.
URL:https://www.wgil.com/event/wataga-seniors-social-and-luncheon-5/2024-11-27/
LOCATION:Sparta Township Hall\, 100 E Willard St\, Wataga\, IL\, 61488\, United States
CATEGORIES:Community Events
ATTACH;FMTTYPE=image/jpeg:https://dehayf5mhw1h7.cloudfront.net/wp-content/uploads/sites/2036/2024/09/04012524/fun-for-seniors.jpg
ORGANIZER;CN="Wataga%20Seniors":MAILTO:Wataga_Seniors@outlook.com
END:VEVENT
BEGIN:VEVENT
DTSTART;TZID=America/Chicago:20241120T100000
DTEND;TZID=America/Chicago:20241120T130000
DTSTAMP:20260422T060246
CREATED:20240905T185855Z
LAST-MODIFIED:20240905T185855Z
UID:662685-1732096800-1732107600@www.wgil.com
SUMMARY:Wataga Seniors Social and Luncheon
DESCRIPTION:Wataga Seniors start at 10 am every Wednesday for social interaction\, including playing cards\, At noon a potluck dinner is served. Birthdays are celebrated on the last Wednesday of the month with bingo\, prizes\, and cake for all.
URL:https://www.wgil.com/event/wataga-seniors-social-and-luncheon-5/2024-11-20/
LOCATION:Sparta Township Hall\, 100 E Willard St\, Wataga\, IL\, 61488\, United States
CATEGORIES:Community Events
ATTACH;FMTTYPE=image/jpeg:https://dehayf5mhw1h7.cloudfront.net/wp-content/uploads/sites/2036/2024/09/04012524/fun-for-seniors.jpg
ORGANIZER;CN="Wataga%20Seniors":MAILTO:Wataga_Seniors@outlook.com
END:VEVENT
BEGIN:VEVENT
DTSTART;TZID=America/Chicago:20241113T100000
DTEND;TZID=America/Chicago:20241113T130000
DTSTAMP:20260422T060246
CREATED:20240905T185855Z
LAST-MODIFIED:20240905T185855Z
UID:662684-1731492000-1731502800@www.wgil.com
SUMMARY:Wataga Seniors Social and Luncheon
DESCRIPTION:Wataga Seniors start at 10 am every Wednesday for social interaction\, including playing cards\, At noon a potluck dinner is served. Birthdays are celebrated on the last Wednesday of the month with bingo\, prizes\, and cake for all.
URL:https://www.wgil.com/event/wataga-seniors-social-and-luncheon-5/2024-11-13/
LOCATION:Sparta Township Hall\, 100 E Willard St\, Wataga\, IL\, 61488\, United States
CATEGORIES:Community Events
ATTACH;FMTTYPE=image/jpeg:https://dehayf5mhw1h7.cloudfront.net/wp-content/uploads/sites/2036/2024/09/04012524/fun-for-seniors.jpg
ORGANIZER;CN="Wataga%20Seniors":MAILTO:Wataga_Seniors@outlook.com
END:VEVENT
BEGIN:VEVENT
DTSTART;TZID=America/Chicago:20241106T100000
DTEND;TZID=America/Chicago:20241106T130000
DTSTAMP:20260422T060246
CREATED:20240905T185855Z
LAST-MODIFIED:20240905T185855Z
UID:662683-1730887200-1730898000@www.wgil.com
SUMMARY:Wataga Seniors Social and Luncheon
DESCRIPTION:Wataga Seniors start at 10 am every Wednesday for social interaction\, including playing cards\, At noon a potluck dinner is served. Birthdays are celebrated on the last Wednesday of the month with bingo\, prizes\, and cake for all.
URL:https://www.wgil.com/event/wataga-seniors-social-and-luncheon-5/2024-11-06/
LOCATION:Sparta Township Hall\, 100 E Willard St\, Wataga\, IL\, 61488\, United States
CATEGORIES:Community Events
ATTACH;FMTTYPE=image/jpeg:https://dehayf5mhw1h7.cloudfront.net/wp-content/uploads/sites/2036/2024/09/04012524/fun-for-seniors.jpg
ORGANIZER;CN="Wataga%20Seniors":MAILTO:Wataga_Seniors@outlook.com
END:VEVENT
BEGIN:VEVENT
DTSTART;TZID=America/Chicago:20241030T100000
DTEND;TZID=America/Chicago:20241030T130000
DTSTAMP:20260422T060246
CREATED:20240905T185855Z
LAST-MODIFIED:20240905T185855Z
UID:662682-1730282400-1730293200@www.wgil.com
SUMMARY:Wataga Seniors Social and Luncheon
DESCRIPTION:Wataga Seniors start at 10 am every Wednesday for social interaction\, including playing cards\, At noon a potluck dinner is served. Birthdays are celebrated on the last Wednesday of the month with bingo\, prizes\, and cake for all.
URL:https://www.wgil.com/event/wataga-seniors-social-and-luncheon-5/2024-10-30/
LOCATION:Sparta Township Hall\, 100 E Willard St\, Wataga\, IL\, 61488\, United States
CATEGORIES:Community Events
ATTACH;FMTTYPE=image/jpeg:https://dehayf5mhw1h7.cloudfront.net/wp-content/uploads/sites/2036/2024/09/04012524/fun-for-seniors.jpg
ORGANIZER;CN="Wataga%20Seniors":MAILTO:Wataga_Seniors@outlook.com
END:VEVENT
BEGIN:VEVENT
DTSTART;TZID=America/Chicago:20241023T100000
DTEND;TZID=America/Chicago:20241023T130000
DTSTAMP:20260422T060246
CREATED:20240905T185855Z
LAST-MODIFIED:20240905T185855Z
UID:662681-1729677600-1729688400@www.wgil.com
SUMMARY:Wataga Seniors Social and Luncheon
DESCRIPTION:Wataga Seniors start at 10 am every Wednesday for social interaction\, including playing cards\, At noon a potluck dinner is served. Birthdays are celebrated on the last Wednesday of the month with bingo\, prizes\, and cake for all.
URL:https://www.wgil.com/event/wataga-seniors-social-and-luncheon-5/2024-10-23/
LOCATION:Sparta Township Hall\, 100 E Willard St\, Wataga\, IL\, 61488\, United States
CATEGORIES:Community Events
ATTACH;FMTTYPE=image/jpeg:https://dehayf5mhw1h7.cloudfront.net/wp-content/uploads/sites/2036/2024/09/04012524/fun-for-seniors.jpg
ORGANIZER;CN="Wataga%20Seniors":MAILTO:Wataga_Seniors@outlook.com
END:VEVENT
BEGIN:VEVENT
DTSTART;TZID=America/Chicago:20241016T100000
DTEND;TZID=America/Chicago:20241016T130000
DTSTAMP:20260422T060246
CREATED:20240905T185855Z
LAST-MODIFIED:20240905T185855Z
UID:662680-1729072800-1729083600@www.wgil.com
SUMMARY:Wataga Seniors Social and Luncheon
DESCRIPTION:Wataga Seniors start at 10 am every Wednesday for social interaction\, including playing cards\, At noon a potluck dinner is served. Birthdays are celebrated on the last Wednesday of the month with bingo\, prizes\, and cake for all.
URL:https://www.wgil.com/event/wataga-seniors-social-and-luncheon-5/2024-10-16/
LOCATION:Sparta Township Hall\, 100 E Willard St\, Wataga\, IL\, 61488\, United States
CATEGORIES:Community Events
ATTACH;FMTTYPE=image/jpeg:https://dehayf5mhw1h7.cloudfront.net/wp-content/uploads/sites/2036/2024/09/04012524/fun-for-seniors.jpg
ORGANIZER;CN="Wataga%20Seniors":MAILTO:Wataga_Seniors@outlook.com
END:VEVENT
BEGIN:VEVENT
DTSTART;TZID=America/Chicago:20241009T100000
DTEND;TZID=America/Chicago:20241009T130000
DTSTAMP:20260422T060246
CREATED:20240905T185855Z
LAST-MODIFIED:20240905T185855Z
UID:662679-1728468000-1728478800@www.wgil.com
SUMMARY:Wataga Seniors Social and Luncheon
DESCRIPTION:Wataga Seniors start at 10 am every Wednesday for social interaction\, including playing cards\, At noon a potluck dinner is served. Birthdays are celebrated on the last Wednesday of the month with bingo\, prizes\, and cake for all.
URL:https://www.wgil.com/event/wataga-seniors-social-and-luncheon-5/2024-10-09/
LOCATION:Sparta Township Hall\, 100 E Willard St\, Wataga\, IL\, 61488\, United States
CATEGORIES:Community Events
ATTACH;FMTTYPE=image/jpeg:https://dehayf5mhw1h7.cloudfront.net/wp-content/uploads/sites/2036/2024/09/04012524/fun-for-seniors.jpg
ORGANIZER;CN="Wataga%20Seniors":MAILTO:Wataga_Seniors@outlook.com
END:VEVENT
BEGIN:VEVENT
DTSTART;TZID=America/Chicago:20241002T100000
DTEND;TZID=America/Chicago:20241002T130000
DTSTAMP:20260422T060246
CREATED:20240905T185855Z
LAST-MODIFIED:20240905T185855Z
UID:662678-1727863200-1727874000@www.wgil.com
SUMMARY:Wataga Seniors Social and Luncheon
DESCRIPTION:Wataga Seniors start at 10 am every Wednesday for social interaction\, including playing cards\, At noon a potluck dinner is served. Birthdays are celebrated on the last Wednesday of the month with bingo\, prizes\, and cake for all.
URL:https://www.wgil.com/event/wataga-seniors-social-and-luncheon-5/2024-10-02/
LOCATION:Sparta Township Hall\, 100 E Willard St\, Wataga\, IL\, 61488\, United States
CATEGORIES:Community Events
ATTACH;FMTTYPE=image/jpeg:https://dehayf5mhw1h7.cloudfront.net/wp-content/uploads/sites/2036/2024/09/04012524/fun-for-seniors.jpg
ORGANIZER;CN="Wataga%20Seniors":MAILTO:Wataga_Seniors@outlook.com
END:VEVENT
BEGIN:VEVENT
DTSTART;TZID=America/Chicago:20240925T100000
DTEND;TZID=America/Chicago:20240925T130000
DTSTAMP:20260422T060246
CREATED:20240905T185855Z
LAST-MODIFIED:20240905T185855Z
UID:662677-1727258400-1727269200@www.wgil.com
SUMMARY:Wataga Seniors Social and Luncheon
DESCRIPTION:Wataga Seniors start at 10 am every Wednesday for social interaction\, including playing cards\, At noon a potluck dinner is served. Birthdays are celebrated on the last Wednesday of the month with bingo\, prizes\, and cake for all.
URL:https://www.wgil.com/event/wataga-seniors-social-and-luncheon-5/2024-09-25/
LOCATION:Sparta Township Hall\, 100 E Willard St\, Wataga\, IL\, 61488\, United States
CATEGORIES:Community Events
ATTACH;FMTTYPE=image/jpeg:https://dehayf5mhw1h7.cloudfront.net/wp-content/uploads/sites/2036/2024/09/04012524/fun-for-seniors.jpg
ORGANIZER;CN="Wataga%20Seniors":MAILTO:Wataga_Seniors@outlook.com
END:VEVENT
BEGIN:VEVENT
DTSTART;TZID=America/Chicago:20240918T100000
DTEND;TZID=America/Chicago:20240918T130000
DTSTAMP:20260422T060246
CREATED:20240905T185855Z
LAST-MODIFIED:20240905T185855Z
UID:662676-1726653600-1726664400@www.wgil.com
SUMMARY:Wataga Seniors Social and Luncheon
DESCRIPTION:Wataga Seniors start at 10 am every Wednesday for social interaction\, including playing cards\, At noon a potluck dinner is served. Birthdays are celebrated on the last Wednesday of the month with bingo\, prizes\, and cake for all.
URL:https://www.wgil.com/event/wataga-seniors-social-and-luncheon-5/2024-09-18/
LOCATION:Sparta Township Hall\, 100 E Willard St\, Wataga\, IL\, 61488\, United States
CATEGORIES:Community Events
ATTACH;FMTTYPE=image/jpeg:https://dehayf5mhw1h7.cloudfront.net/wp-content/uploads/sites/2036/2024/09/04012524/fun-for-seniors.jpg
ORGANIZER;CN="Wataga%20Seniors":MAILTO:Wataga_Seniors@outlook.com
END:VEVENT
BEGIN:VEVENT
DTSTART;TZID=America/Chicago:20240911T100000
DTEND;TZID=America/Chicago:20240911T130000
DTSTAMP:20260422T060246
CREATED:20240905T185855Z
LAST-MODIFIED:20240905T185855Z
UID:662675-1726048800-1726059600@www.wgil.com
SUMMARY:Wataga Seniors Social and Luncheon
DESCRIPTION:Wataga Seniors start at 10 am every Wednesday for social interaction\, including playing cards\, At noon a potluck dinner is served. Birthdays are celebrated on the last Wednesday of the month with bingo\, prizes\, and cake for all.
URL:https://www.wgil.com/event/wataga-seniors-social-and-luncheon-5/2024-09-11/
LOCATION:Sparta Township Hall\, 100 E Willard St\, Wataga\, IL\, 61488\, United States
CATEGORIES:Community Events
ATTACH;FMTTYPE=image/jpeg:https://dehayf5mhw1h7.cloudfront.net/wp-content/uploads/sites/2036/2024/09/04012524/fun-for-seniors.jpg
ORGANIZER;CN="Wataga%20Seniors":MAILTO:Wataga_Seniors@outlook.com
END:VEVENT
BEGIN:VEVENT
DTSTART;TZID=America/Chicago:20240904T100000
DTEND;TZID=America/Chicago:20240904T130000
DTSTAMP:20260422T060246
CREATED:20240905T185855Z
LAST-MODIFIED:20241004T232714Z
UID:660946-1725444000-1725454800@www.wgil.com
SUMMARY:Wataga Seniors Social and Luncheon
DESCRIPTION:Wataga Seniors start at 10 am every Wednesday for social interaction\, including playing cards\, At noon a potluck dinner is served. Birthdays are celebrated on the last Wednesday of the month with bingo\, prizes\, and cake for all.
URL:https://www.wgil.com/event/wataga-seniors-social-and-luncheon-5/2024-09-04/
LOCATION:Sparta Township Hall\, 100 E Willard St\, Wataga\, IL\, 61488\, United States
CATEGORIES:Community Events
ATTACH;FMTTYPE=image/jpeg:https://dehayf5mhw1h7.cloudfront.net/wp-content/uploads/sites/2036/2024/09/04012524/fun-for-seniors.jpg
ORGANIZER;CN="Wataga%20Seniors":MAILTO:Wataga_Seniors@outlook.com
END:VEVENT
END:VCALENDAR