BEGIN:VCALENDAR
VERSION:2.0
PRODID:-//WGIL 93.7 FM - 1400 AM - ECPv5.6.0//NONSGML v1.0//EN
CALSCALE:GREGORIAN
METHOD:PUBLISH
X-WR-CALNAME:WGIL 93.7 FM - 1400 AM
X-ORIGINAL-URL:https://www.wgil.com
X-WR-CALDESC:Events for WGIL 93.7 FM - 1400 AM
BEGIN:VTIMEZONE
TZID:America/Chicago
BEGIN:DAYLIGHT
TZOFFSETFROM:-0600
TZOFFSETTO:-0500
TZNAME:CDT
DTSTART:20250309T080000
END:DAYLIGHT
BEGIN:STANDARD
TZOFFSETFROM:-0500
TZOFFSETTO:-0600
TZNAME:CST
DTSTART:20251102T070000
END:STANDARD
TZID:America/New_York
BEGIN:DAYLIGHT
TZOFFSETFROM:-0500
TZOFFSETTO:-0400
TZNAME:EDT
DTSTART:20250309T070000
END:DAYLIGHT
BEGIN:STANDARD
TZOFFSETFROM:-0400
TZOFFSETTO:-0500
TZNAME:EST
DTSTART:20251102T060000
END:STANDARD
END:VTIMEZONE
BEGIN:VEVENT
DTSTART;TZID=America/Chicago:20250612T120000
DTEND;TZID=America/Chicago:20250614T230000
DTSTAMP:20260419T200332
CREATED:20250415T192823Z
LAST-MODIFIED:20250415T192823Z
UID:677634-1749729600-1749942000@www.wgil.com
SUMMARY:Burlington River Days
DESCRIPTION:Experience an inaugural family friendly event along the Mississippi Riverfront in Burlington\, Iowa on June 12 – 14\, 2025. Enjoy the River Days Olympics\, carnival rides\, and free concert series (including Grammy Nominated SALIVA on Saturday night).
URL:https://www.wgil.com/event/burlington-river-days/
LOCATION:IL
CATEGORIES:Community Events,Fairs & Festivals
ATTACH;FMTTYPE=image/png:https://dehayf5mhw1h7.cloudfront.net/wp-content/uploads/sites/2036/2025/04/14125400/brd-logo-with-year-2-e1744745142975.png
END:VEVENT
BEGIN:VEVENT
DTSTART;TZID=America/Chicago:20250613T080000
DTEND;TZID=America/Chicago:20250614T160000
DTSTAMP:20260419T200332
CREATED:20250602T214619Z
LAST-MODIFIED:20250602T214619Z
UID:679946-1749801600-1749916800@www.wgil.com
SUMMARY:Annual Cameron Town-Wide Yard Sales
DESCRIPTION:This is a town wide yard sale. Several different houses will be set up with yard or garage sales.
URL:https://www.wgil.com/event/annual-cameron-town-wide-yard-sales/
LOCATION:IL
CATEGORIES:Community Events
ATTACH;FMTTYPE=image/jpeg:https://dehayf5mhw1h7.cloudfront.net/wp-content/uploads/sites/2036/2025/06/02090426/17488728760344678733436452937173-e1748900768677.jpg
END:VEVENT
BEGIN:VEVENT
DTSTART;TZID=America/Chicago:20250614T080000
DTEND;TZID=America/Chicago:20250614T120000
DTSTAMP:20260419T200332
CREATED:20250507T221622Z
LAST-MODIFIED:20250602T214724Z
UID:679381-1749888000-1749902400@www.wgil.com
SUMMARY:Galesburg Farmers Market
DESCRIPTION:The Galesburg Farmers’ Market is your one-stop-shop for all the local goods you need\, from fresh fruits and veggies\, meats and eggs\, honey\, baked goods and prepared foods\, handmade crafts and jewelry\, and so much more. Find us in downtown Galesburg near the corner of Simmons and Seminary every Saturday from 8-12\, May through September.
URL:https://www.wgil.com/event/galesburg-farmers-market-7/2025-06-14/
LOCATION:Corner of Seminary and Simmons Street\, Galesburg\, IL\, 61401\, United States
CATEGORIES:Community Events
ATTACH;FMTTYPE=image/jpeg:https://dehayf5mhw1h7.cloudfront.net/wp-content/uploads/sites/2036/2025/05/07171555/343830643_1469380623831389_7442780086955849820_n-e1746656170854.jpg
GEO:40.937822;-90.3936722
END:VEVENT
BEGIN:VEVENT
DTSTART;TZID=America/Chicago:20250614T090000
DTEND;TZID=America/Chicago:20250614T103000
DTSTAMP:20260419T200332
CREATED:20250429T220155Z
LAST-MODIFIED:20250617T212647Z
UID:678259-1749891600-1749897000@www.wgil.com
SUMMARY:Yoga in the Park
DESCRIPTION:Dates: June 7 – August 30\, 2025\, Saturdays. *No program July 5\nTime: 9-10AM\nCost: Free\nLocation: Lake Storey Park shelter area\, closest to the lake *At Lincoln Park Gazebo\, August 16. \nEnjoy Free YOGA! Every Saturday from 9am-10am at Lake Storey Park Shelter Area (closest to the lake). Each Saturday this summer we will be joined by one of our wonderful yoga instructors for an hour long session of Zen!
URL:https://www.wgil.com/event/yoga-in-the-park-2/2025-06-14/
LOCATION:Lake Storey Park\, 1572 Machen Dr.\, Galesburg\, IL\, 61401\, United States
CATEGORIES:Community Events
ATTACH;FMTTYPE=image/png:https://dehayf5mhw1h7.cloudfront.net/wp-content/uploads/sites/2036/2025/04/29114145/yoga-in-the-park-fb-2025-e1745964098202.png
END:VEVENT
BEGIN:VEVENT
DTSTART;TZID=America/Chicago:20250614T093000
DTEND;TZID=America/Chicago:20250614T110000
DTSTAMP:20260419T200332
CREATED:20250514T214353Z
LAST-MODIFIED:20250514T214353Z
UID:679044-1749893400-1749898800@www.wgil.com
SUMMARY:Second Saturdays: Wet-N-Wild: Aquatic Plants
DESCRIPTION:Date: Saturday\, June 14\, 2025\nTime: 9:30 – 11:00AM\nCost: Free\nLocation: Lakeside Nature Center Shelter \nThere’s more than just fish living in the water! Come learn about the many plants\, including a spotlight on the highly recognizable cattails\, that thrive in an aquatic habitat. Take a hike to the lake and look for plants and animals that make the water their home. \nClass is held outdoors at the Lakeside Nature Center Shelter\, with a Nature Walk through the woods\, so dress for the weather! \nThis is a free program for all ages! \nRegister at: https://app.amilia.com/store/en/city-of-galesburg-pr/shop/activities/5600749
URL:https://www.wgil.com/event/second-saturdays-wet-n-wild-aquatic-plants/
LOCATION:Lakeside Nature Center\, 1033 S Lake Storey Rd\, Galesburg\, IL\, 61401\, United States
CATEGORIES:Community Events
ATTACH;FMTTYPE=image/png:https://dehayf5mhw1h7.cloudfront.net/wp-content/uploads/sites/2036/2025/05/14140131/second-saturday-fb-june-25-1-e1747259001525.png
GEO:40.984045;-90.39031
X-APPLE-STRUCTURED-LOCATION;VALUE=URI;X-ADDRESS=Lakeside Nature Center 1033 S Lake Storey Rd Galesburg IL 61401 United States;X-APPLE-RADIUS=500;X-TITLE=1033 S Lake Storey Rd:geo:-90.39031,40.984045
END:VEVENT
BEGIN:VEVENT
DTSTART;TZID=America/Chicago:20250614T120000
DTEND;TZID=America/Chicago:20250614T143000
DTSTAMP:20260419T200332
CREATED:20250512T190508Z
LAST-MODIFIED:20250512T190508Z
UID:678906-1749902400-1749911400@www.wgil.com
SUMMARY:Juneteenth Unity Bracelets
DESCRIPTION:Create a Unity Bracelet to celebrate/learn about Juneteenth! This activity is free with admission.
URL:https://www.wgil.com/event/juneteenth-unity-bracelets/
LOCATION:Discovery Depot\, 128 S Chambers St\, Galesburg\, IL\, 61401\, United States
CATEGORIES:Community Events
ATTACH;FMTTYPE=image/jpeg:https://dehayf5mhw1h7.cloudfront.net/wp-content/uploads/sites/2036/2025/05/10153507/june14_unityad-e1747076691738.jpg
ORGANIZER;CN="Discovery%20Depot":MAILTO:director@discoverydepot.org
END:VEVENT
BEGIN:VEVENT
DTSTART;TZID=America/Chicago:20250614T124500
DTEND;TZID=America/Chicago:20250614T124500
DTSTAMP:20260419T200332
CREATED:20220831T050559Z
LAST-MODIFIED:20220831T050559Z
UID:636015-1749905100-1749905100@www.wgil.com
SUMMARY:BINGO at the Galesburg VFW
DESCRIPTION:Come and have some fun at the Galesburg VFW with BINGO each Saturday. Doors open at 10:30a and BINGO starts at 12:45p.
URL:https://www.wgil.com/event/bingo-at-the-galesburg-vfw-2/2025-06-14/
LOCATION:Galesburg VFW Post 2257\, 1001 Michigan ave\, Galesburg\, IL\, 61401\, United States
CATEGORIES:Community Events
END:VEVENT
BEGIN:VEVENT
DTSTART;TZID=America/Chicago:20250614T130000
DTEND;TZID=America/Chicago:20250614T150000
DTSTAMP:20260419T200332
CREATED:20250602T214459Z
LAST-MODIFIED:20250602T214459Z
UID:679987-1749906000-1749913200@www.wgil.com
SUMMARY:Mobile Playground: June Dates
DESCRIPTION:Date: Various Dates\, May 7-September 6\nTimes: Vary\nCost: Free\nLocation: Various locations throughout Galesburg \nUnpack the fun with our mobile truck filled with outdoor games and activities! Check the schedule to see when it will be in your neighborhood. \nDates may cancel without notice via www.rainoutline.com\, due to staffing or equipment issues or inclement weather.
URL:https://www.wgil.com/event/mobile-playground-june-dates/2025-06-14/
LOCATION:IL
CATEGORIES:Community Events
ATTACH;FMTTYPE=image/png:https://dehayf5mhw1h7.cloudfront.net/wp-content/uploads/sites/2036/2025/05/30142651/mobile-playground-monthly-experience-galesburg-and-wgil-1-e1748900686994.png
END:VEVENT
BEGIN:VEVENT
DTSTART;TZID=America/Chicago:20250614T183000
DTEND;TZID=America/Chicago:20250614T183000
DTSTAMP:20260419T200332
CREATED:20250512T212025Z
LAST-MODIFIED:20250512T212025Z
UID:678963-1749925800-1749925800@www.wgil.com
SUMMARY:Saturday Nite Alive in Jesus
DESCRIPTION:Saturday Nite Alive in Jesus will be held the second Saturday of every month from May to November 2025\, featuring Marty smith\, Hillsong Gospel Ministries\, and Randy Koch. Doors will open at 5pm with food served before the concert\, starting at 6:30pm. \nPlease come prepared to give a free will offering to cover expenses of this ministry.
URL:https://www.wgil.com/event/saturday-nite-alive-in-jesus-6/2025-06-14/
LOCATION:First Church of God\, 1080 Harrison Street\, Galesburg\, IL\, 61401\, United States
CATEGORIES:Community Events
ATTACH;FMTTYPE=image/jpeg:https://dehayf5mhw1h7.cloudfront.net/wp-content/uploads/sites/2036/2025/05/12161956/officegalesburgradio-com_20250512_180247_pages-to-jpg-0001-e1747084811679.jpg
END:VEVENT
BEGIN:VEVENT
DTSTART;TZID=America/Chicago:20250615T080000
DTEND;TZID=America/Chicago:20250615T170000
DTSTAMP:20260419T200332
CREATED:20250428T200932Z
LAST-MODIFIED:20250428T200932Z
UID:678135-1749974400-1750006800@www.wgil.com
SUMMARY:Wataga Congregational Church Celebrates 170 Years
DESCRIPTION:In an era when over 1000 churches a year are closing\, we have one in our county that will be celebrating 170 years of continuous worship. During worship\, on June 15 at 10:15\, Wataga Congregational Church will be celebrating it’s birthday with worship music\, God’s Word\, and an after-worship luncheon. Awards will be given to those that travel the farthest\, have the longest years of membership\, have been married in the church for the most years\, and several others.\nWorship will be led by Rev. Rodney D Nyman\, born and raised in Wataga\, visiting from Germany. ALL are welcome to share in our celebration.
URL:https://www.wgil.com/event/wataga-congregational-church-celebrates-170-years/
LOCATION:Wataga Congregational Church\, 105 S Sparta St\, Wataga\, IL\, 61488\, United States
CATEGORIES:Community Events
ATTACH;FMTTYPE=image/jpeg:https://dehayf5mhw1h7.cloudfront.net/wp-content/uploads/sites/2036/2025/04/26091836/wataga-congregational-church.jpg
END:VEVENT
BEGIN:VEVENT
DTSTART;TZID=America/Chicago:20250617T100000
DTEND;TZID=America/Chicago:20250617T113000
DTSTAMP:20260419T200332
CREATED:20250331T212116Z
LAST-MODIFIED:20250331T212116Z
UID:672030-1750154400-1750159800@www.wgil.com
SUMMARY:Moana 2 Adventures
DESCRIPTION:Journey into Oceania with fun activities in this action packed camp!\n$50 members/$55 non-members
URL:https://www.wgil.com/event/moana-2-adventures/
LOCATION:Discovery Depot\, 128 S Chambers St\, Galesburg\, IL\, 61401\, United States
CATEGORIES:Community Events
ATTACH;FMTTYPE=image/png:https://dehayf5mhw1h7.cloudfront.net/wp-content/uploads/sites/2036/2025/03/28141915/moana-2-adventures-e1743456059265.png
ORGANIZER;CN="Discovery%20Depot":MAILTO:director@discoverydepot.org
END:VEVENT
BEGIN:VEVENT
DTSTART;TZID=America/Chicago:20250617T130000
DTEND;TZID=America/Chicago:20250617T150000
DTSTAMP:20260419T200332
CREATED:20250331T212231Z
LAST-MODIFIED:20250331T212231Z
UID:672044-1750165200-1750172400@www.wgil.com
SUMMARY:GLOW Rewind
DESCRIPTION:The best is back from GLOW 1\, 2\, 3 Camps! \n$55 member/$60 nonmember
URL:https://www.wgil.com/event/glow-rewind/
LOCATION:Discovery Depot\, 128 S Chambers St\, Galesburg\, IL\, 61401\, United States
CATEGORIES:Community Events
ATTACH;FMTTYPE=image/png:https://dehayf5mhw1h7.cloudfront.net/wp-content/uploads/sites/2036/2025/03/28143628/glow-camp-2025-2-e1743456100773.png
ORGANIZER;CN="Discovery%20Depot":MAILTO:director@discoverydepot.org
END:VEVENT
BEGIN:VEVENT
DTSTART;TZID=America/Chicago:20250617T173000
DTEND;TZID=America/Chicago:20250617T190000
DTSTAMP:20260419T200332
CREATED:20250529T212342Z
LAST-MODIFIED:20250529T212342Z
UID:679779-1750181400-1750186800@www.wgil.com
SUMMARY:Toddler Plus Tuesday
DESCRIPTION:Toddlers Plus Tuesday\nThis program is for toddlers plus their families and is offered after hours. This program is in collaboration with ROE #33 educators. Special developmental activities will be available each month. Reduced admission rate is $6.50. Members are free.
URL:https://www.wgil.com/event/toddler-plus-tuesday-24/
LOCATION:Discovery Depot\, 128 S Chambers St\, Galesburg\, IL\, 61401\, United States
CATEGORIES:Community Events
ATTACH;FMTTYPE=image/png:https://dehayf5mhw1h7.cloudfront.net/wp-content/uploads/sites/2036/2025/05/28124243/toddler-tuesday-10-e1748553787952.png
ORGANIZER;CN="Discovery%20Depot":MAILTO:director@discoverydepot.org
END:VEVENT
BEGIN:VEVENT
DTSTART;VALUE=DATE:20250618
DTEND;VALUE=DATE:20250619
DTSTAMP:20260419T200332
CREATED:20200912T172504Z
LAST-MODIFIED:20200912T172504Z
UID:636027-1750204800-1750291199@www.wgil.com
SUMMARY:Galesburg Veterans Van
DESCRIPTION:We start running to Iowa City VA Hospital on Wednesdays and Thursdays.  Please give us a weeks notice. 309-342-7735
URL:https://www.wgil.com/event/galesburg-veterans-van-2/2025-06-18/
LOCATION:IL
CATEGORIES:Community Events
ATTACH;FMTTYPE=image/jpeg:https://dehayf5mhw1h7.cloudfront.net/wp-content/uploads/sites/2036/2020/09/12172504/7D5E0CF3-3117-4BDA-80CF-17EE7A16E44C-e1599931346207.jpeg
ORGANIZER;CN="Galesburg%20Veterans%20Van":MAILTO:Galesburgveteransvan@gmail.com
END:VEVENT
BEGIN:VEVENT
DTSTART;TZID=America/Chicago:20250618T093000
DTEND;TZID=America/Chicago:20250618T103000
DTSTAMP:20260419T200332
CREATED:20250512T190227Z
LAST-MODIFIED:20250512T190227Z
UID:678937-1750239000-1750242600@www.wgil.com
SUMMARY:Aqua Tots
DESCRIPTION:Dates: June 4- June 25\, 2025\, Wednesdays.\nTime: 9:30-10:30AM\nCost: $4 per child\nAges: 5 and under\nLocation: Lakeside Water Park \nKids 5 and under can enjoy a morning at Lakeside Water Park without the big kids (zero-depth feature only). Child is required to stay within arms length reach of their parent/caregiver. \nRegister at: https://app.amilia.com/store/en/city-of-galesburg-pr/shop/programs/calendar/117124
URL:https://www.wgil.com/event/aqua-tots/2025-06-18/
LOCATION:Lakeside Splashzone Water Park\, 1033 S Lake Storey Rd\, Galesburg\, IL\, 61401\, United States
CATEGORIES:Community Events
ATTACH;FMTTYPE=image/png:https://dehayf5mhw1h7.cloudfront.net/wp-content/uploads/sites/2036/2025/05/09090003/aquatots-2025-e1747076522233.png
END:VEVENT
BEGIN:VEVENT
DTSTART;TZID=America/Chicago:20250618T100000
DTEND;TZID=America/Chicago:20250618T113000
DTSTAMP:20260419T200332
CREATED:20250331T212124Z
LAST-MODIFIED:20250331T212124Z
UID:672040-1750240800-1750246200@www.wgil.com
SUMMARY:Moana 2 Adventures
DESCRIPTION:Journey into Oceania with fun activities in this action packed camp!\n$50 members/$55 non-members
URL:https://www.wgil.com/event/moana-2-adventures/2025-06-18/
LOCATION:Discovery Depot\, 128 S Chambers St\, Galesburg\, IL\, 61401\, United States
CATEGORIES:Community Events
ATTACH;FMTTYPE=image/png:https://dehayf5mhw1h7.cloudfront.net/wp-content/uploads/sites/2036/2025/03/28141915/moana-2-adventures-e1743456059265.png
ORGANIZER;CN="Discovery%20Depot":MAILTO:director@discoverydepot.org
END:VEVENT
BEGIN:VEVENT
DTSTART;TZID=America/Chicago:20250618T110000
DTEND;TZID=America/Chicago:20250618T140000
DTSTAMP:20260419T200332
CREATED:20250507T220948Z
LAST-MODIFIED:20250618T135606Z
UID:678795-1750244400-1750255200@www.wgil.com
SUMMARY:CANCELLED due to weather - Café in the Park
DESCRIPTION:Today’s event has been cancelled due to the weather. Catch us next month on July 16th for Cafe in the Park in Park Plaza in Galesburg.
URL:https://www.wgil.com/event/cafe-in-the-park-3/
LOCATION:Park Plaza\, dowtown\, Galesburg\, IL\, 61401\, United States
CATEGORIES:Community Events
ATTACH;FMTTYPE=image/jpeg:https://dehayf5mhw1h7.cloudfront.net/wp-content/uploads/sites/2036/2025/05/07170923/493932620_663533423095397_2711410555835200176_n-e1746655775393.jpg
ORGANIZER;CN="Downtown%20Community%20Partnership":MAILTO:dcpofgalesburg@gmail.com
GEO:40.9478158;-90.3712395
X-APPLE-STRUCTURED-LOCATION;VALUE=URI;X-ADDRESS=Park Plaza dowtown Galesburg IL 61401 United States;X-APPLE-RADIUS=500;X-TITLE=dowtown:geo:-90.3712395,40.9478158
END:VEVENT
BEGIN:VEVENT
DTSTART;TZID=America/Chicago:20250618T110000
DTEND;TZID=America/Chicago:20250618T140000
DTSTAMP:20260419T200332
CREATED:20250602T214459Z
LAST-MODIFIED:20250602T214459Z
UID:679988-1750244400-1750255200@www.wgil.com
SUMMARY:Mobile Playground: June Dates
DESCRIPTION:Date: Various Dates\, May 7-September 6\nTimes: Vary\nCost: Free\nLocation: Various locations throughout Galesburg \nUnpack the fun with our mobile truck filled with outdoor games and activities! Check the schedule to see when it will be in your neighborhood. \nDates may cancel without notice via www.rainoutline.com\, due to staffing or equipment issues or inclement weather.
URL:https://www.wgil.com/event/mobile-playground-june-dates/2025-06-18/
LOCATION:IL
CATEGORIES:Community Events
ATTACH;FMTTYPE=image/png:https://dehayf5mhw1h7.cloudfront.net/wp-content/uploads/sites/2036/2025/05/30142651/mobile-playground-monthly-experience-galesburg-and-wgil-1-e1748900686994.png
END:VEVENT
BEGIN:VEVENT
DTSTART;TZID=America/Chicago:20250618T130000
DTEND;TZID=America/Chicago:20250618T140000
DTSTAMP:20260419T200332
CREATED:20210524T132602Z
LAST-MODIFIED:20210524T132602Z
UID:636029-1750251600-1750255200@www.wgil.com
SUMMARY:St. Vincent de Paul Food Pantry
DESCRIPTION:ST VINCENT DE PAUL WEEKLY FOOD DISTRIBUTION. Weekly (Wednesdays from 1PM toll 2 PM) grocery distribution for individuals and families in need. \nCurbside service is provided as well. \nNot required to call ahead\, but calling will speed up the process. \nWill be asked whether they need a milk voucher\, number of adults and children in family and about any food restrictions. \nNUMBER TO CALL: 815-200-4911.
URL:https://www.wgil.com/event/st-vincent-de-paul-food-pantry/2025-06-18/
LOCATION:Corpus Christi Church basement\, 273 South Prairie St\, Galesburg\, IL\, 61401\, United States
CATEGORIES:Community Events
ORGANIZER;CN="St%20Vincent%20de%20Paul%20Society":MAILTO:dallind@grics.net
END:VEVENT
BEGIN:VEVENT
DTSTART;TZID=America/Chicago:20250618T130000
DTEND;TZID=America/Chicago:20250618T143000
DTSTAMP:20260419T200332
CREATED:20250520T211927Z
LAST-MODIFIED:20250520T211927Z
UID:679337-1750251600-1750257000@www.wgil.com
SUMMARY:Caregiver Corner @ Knox County Nursing Home
DESCRIPTION:Supporting the people that take care of everyone else. Support group meeting June 18\, 2025 @ 1-2:30pm in the Garden room @ Knox County Nursing Home. \nAmanda Powell from Therapy for Positive Aging will be there with tips & tricks to take care of yourself & teach you how to deal with the daily stresses that come with taking care of a loved one. Light lunch will be served. This is a casual meeting.
URL:https://www.wgil.com/event/caregiver-corner-knox-county-nursing-home/
LOCATION:800 n. Market Knoxville\, IL\, 800 n. Market st.\, Knoxville\, IL\, 61448\, United States
CATEGORIES:Community Events
ATTACH;FMTTYPE=image/jpeg:https://dehayf5mhw1h7.cloudfront.net/wp-content/uploads/sites/2036/2025/05/20141046/support-e1747775948622.jpg
END:VEVENT
BEGIN:VEVENT
DTSTART;TZID=America/Chicago:20250618T130000
DTEND;TZID=America/Chicago:20250618T150000
DTSTAMP:20260419T200332
CREATED:20250331T212232Z
LAST-MODIFIED:20250331T212232Z
UID:672045-1750251600-1750258800@www.wgil.com
SUMMARY:GLOW Rewind
DESCRIPTION:The best is back from GLOW 1\, 2\, 3 Camps! \n$55 member/$60 nonmember
URL:https://www.wgil.com/event/glow-rewind/2025-06-18/
LOCATION:Discovery Depot\, 128 S Chambers St\, Galesburg\, IL\, 61401\, United States
CATEGORIES:Community Events
ATTACH;FMTTYPE=image/png:https://dehayf5mhw1h7.cloudfront.net/wp-content/uploads/sites/2036/2025/03/28143628/glow-camp-2025-2-e1743456100773.png
ORGANIZER;CN="Discovery%20Depot":MAILTO:director@discoverydepot.org
END:VEVENT
BEGIN:VEVENT
DTSTART;TZID=America/Chicago:20250618T170000
DTEND;TZID=America/Chicago:20250618T190000
DTSTAMP:20260419T200332
CREATED:20250602T214459Z
LAST-MODIFIED:20250602T214459Z
UID:679989-1750266000-1750273200@www.wgil.com
SUMMARY:Mobile Playground: June Dates
DESCRIPTION:Date: Various Dates\, May 7-September 6\nTimes: Vary\nCost: Free\nLocation: Various locations throughout Galesburg \nUnpack the fun with our mobile truck filled with outdoor games and activities! Check the schedule to see when it will be in your neighborhood. \nDates may cancel without notice via www.rainoutline.com\, due to staffing or equipment issues or inclement weather.
URL:https://www.wgil.com/event/mobile-playground-june-dates/2025-06-18/2/
LOCATION:IL
CATEGORIES:Community Events
ATTACH;FMTTYPE=image/png:https://dehayf5mhw1h7.cloudfront.net/wp-content/uploads/sites/2036/2025/05/30142651/mobile-playground-monthly-experience-galesburg-and-wgil-1-e1748900686994.png
END:VEVENT
BEGIN:VEVENT
DTSTART;TZID=America/Chicago:20250618T173000
DTEND;TZID=America/Chicago:20250618T183000
DTSTAMP:20260419T200332
CREATED:20240207T185913Z
LAST-MODIFIED:20240207T185913Z
UID:648735-1750267800-1750271400@www.wgil.com
SUMMARY:First Lutheran Church Food Pantry
DESCRIPTION:First Lutheran Church Food Pantry\, 364 E. Water St.\, Galesburg.
URL:https://www.wgil.com/event/first-lutheran-church-food-pantry-2/2025-06-18/
LOCATION:First Lutheran Church\, 364 E. Water St.\, Galesburg\, IL\, 61401\, United States
CATEGORIES:Community Events
ATTACH;FMTTYPE=image/jpeg:https://dehayf5mhw1h7.cloudfront.net/wp-content/uploads/sites/2036/2020/05/27162250/first-lutheran-church-food-pantry.jpg
GEO:40.9495812;-90.3650888
X-APPLE-STRUCTURED-LOCATION;VALUE=URI;X-ADDRESS=First Lutheran Church 364 E. Water St. Galesburg IL 61401 United States;X-APPLE-RADIUS=500;X-TITLE=364 E. Water St.:geo:-90.3650888,40.9495812
END:VEVENT
BEGIN:VEVENT
DTSTART;TZID=America/New_York:20250618T183000
DTEND;TZID=America/New_York:20250618T200000
DTSTAMP:20260419T200332
CREATED:20200124T193917Z
LAST-MODIFIED:20200124T193917Z
UID:636026-1750271400-1750276800@www.wgil.com
SUMMARY:Chess Club
DESCRIPTION:A chess club for players of all levels will meet at 6:30 pm on Wednesday nights at the Henderson Town Hall. There is no cost to come play\, learn and make friends.
URL:https://www.wgil.com/event/chess-club/2025-06-18/
LOCATION:Henderson Town Hall\, 215 S Main Street\, HENDERSON\, IL\, 61439\, United States
CATEGORIES:Community Events
ORGANIZER;CN="Dale%20Hidden":MAILTO:dale_hidden@yahoo.com
END:VEVENT
BEGIN:VEVENT
DTSTART;VALUE=DATE:20250619
DTEND;VALUE=DATE:20250620
DTSTAMP:20260419T200332
CREATED:20200912T172504Z
LAST-MODIFIED:20200912T172504Z
UID:636028-1750291200-1750377599@www.wgil.com
SUMMARY:Galesburg Veterans Van
DESCRIPTION:We start running to Iowa City VA Hospital on Wednesdays and Thursdays.  Please give us a weeks notice. 309-342-7735
URL:https://www.wgil.com/event/galesburg-veterans-van-2/2025-06-19/
LOCATION:IL
CATEGORIES:Community Events
ATTACH;FMTTYPE=image/jpeg:https://dehayf5mhw1h7.cloudfront.net/wp-content/uploads/sites/2036/2020/09/12172504/7D5E0CF3-3117-4BDA-80CF-17EE7A16E44C-e1599931346207.jpeg
ORGANIZER;CN="Galesburg%20Veterans%20Van":MAILTO:Galesburgveteransvan@gmail.com
END:VEVENT
BEGIN:VEVENT
DTSTART;TZID=America/Chicago:20250619T100000
DTEND;TZID=America/Chicago:20250619T113000
DTSTAMP:20260419T200332
CREATED:20250331T212125Z
LAST-MODIFIED:20250331T212125Z
UID:672041-1750327200-1750332600@www.wgil.com
SUMMARY:Moana 2 Adventures
DESCRIPTION:Journey into Oceania with fun activities in this action packed camp!\n$50 members/$55 non-members
URL:https://www.wgil.com/event/moana-2-adventures/2025-06-19/
LOCATION:Discovery Depot\, 128 S Chambers St\, Galesburg\, IL\, 61401\, United States
CATEGORIES:Community Events
ATTACH;FMTTYPE=image/png:https://dehayf5mhw1h7.cloudfront.net/wp-content/uploads/sites/2036/2025/03/28141915/moana-2-adventures-e1743456059265.png
ORGANIZER;CN="Discovery%20Depot":MAILTO:director@discoverydepot.org
END:VEVENT
BEGIN:VEVENT
DTSTART;TZID=America/Chicago:20250619T130000
DTEND;TZID=America/Chicago:20250619T150000
DTSTAMP:20260419T200332
CREATED:20250331T212233Z
LAST-MODIFIED:20250331T212233Z
UID:672046-1750338000-1750345200@www.wgil.com
SUMMARY:GLOW Rewind
DESCRIPTION:The best is back from GLOW 1\, 2\, 3 Camps! \n$55 member/$60 nonmember
URL:https://www.wgil.com/event/glow-rewind/2025-06-19/
LOCATION:Discovery Depot\, 128 S Chambers St\, Galesburg\, IL\, 61401\, United States
CATEGORIES:Community Events
ATTACH;FMTTYPE=image/png:https://dehayf5mhw1h7.cloudfront.net/wp-content/uploads/sites/2036/2025/03/28143628/glow-camp-2025-2-e1743456100773.png
ORGANIZER;CN="Discovery%20Depot":MAILTO:director@discoverydepot.org
END:VEVENT
BEGIN:VEVENT
DTSTART;TZID=America/Chicago:20250619T160000
DTEND;TZID=America/Chicago:20250619T180000
DTSTAMP:20260419T200332
CREATED:20250520T212106Z
LAST-MODIFIED:20250520T212106Z
UID:679344-1750348800-1750356000@www.wgil.com
SUMMARY:Thrifty Thursday!
DESCRIPTION:Thrifty Thursday\nJoin us for an evening of reduced admission! 4:00 p.m. – 6:00 p.m. $6.50 for admission/members are free. Advanced tickets required.
URL:https://www.wgil.com/event/thrifty-thursday-20/
LOCATION:Discovery Depot\, 128 S Chambers St\, Galesburg\, IL\, 61401\, United States
CATEGORIES:Community Events
ATTACH;FMTTYPE=image/png:https://dehayf5mhw1h7.cloudfront.net/wp-content/uploads/sites/2036/2025/05/20142336/thrifty-thursday-15-e1747776058750.png
ORGANIZER;CN="Discovery%20Depot":MAILTO:director@discoverydepot.org
END:VEVENT
BEGIN:VEVENT
DTSTART;TZID=America/Chicago:20250619T160000
DTEND;TZID=America/Chicago:20250619T180000
DTSTAMP:20260419T200332
CREATED:20250529T212214Z
LAST-MODIFIED:20250529T212214Z
UID:679776-1750348800-1750356000@www.wgil.com
SUMMARY:Thrifty Thursday!
DESCRIPTION:Thrifty Thursday\nJoin us for an evening of reduced admission! 4:00 p.m. – 6:00 p.m. $6.50 for admission/members are free. Advanced tickets required.
URL:https://www.wgil.com/event/thrifty-thursday-21/
LOCATION:Discovery Depot\, 128 S Chambers St\, Galesburg\, IL\, 61401\, United States
CATEGORIES:Community Events
ATTACH;FMTTYPE=image/png:https://dehayf5mhw1h7.cloudfront.net/wp-content/uploads/sites/2036/2025/05/28123812/thrifty-thursday-15-e1748553721191.png
ORGANIZER;CN="Discovery%20Depot":MAILTO:director@discoverydepot.org
END:VEVENT
BEGIN:VEVENT
DTSTART;VALUE=DATE:20250620
DTEND;VALUE=DATE:20250630
DTSTAMP:20260419T200332
CREATED:20250617T213402Z
LAST-MODIFIED:20250617T213402Z
UID:680577-1750377600-1751241599@www.wgil.com
SUMMARY:Canton's Bicentennial Celebration
DESCRIPTION:To honor the 200th year of the city of Canton\, the Bicentennial Planning Committee has planned a series of events and activities from June 20-29\, 2025\, that will not only showcase our rich heritage but also bring our community together in a spirit of unity and celebration. \n\nTo honor Canton’s Bicentennial Celebration\, we have created ways for everyone to be involved. \n1) Donating funds for the celebration week \n2. Volunteering \n3. Come out and enjoy all the events \n\nIf you have questions call 309-647-2677 or by email at cantonilbicentennial2025@gmail.com.
URL:https://www.wgil.com/event/cantons-bicentennial-celebration/
LOCATION:Downtown Canton\, Canton\, IL\, 61520\, United States
CATEGORIES:Community Events
ATTACH;FMTTYPE=image/png:https://dehayf5mhw1h7.cloudfront.net/wp-content/uploads/sites/2036/2025/06/17163323/calendar-of-events-for-bicentennial-final-4-e1750196026808.png
ORGANIZER;CN="Canton%20Bicentennial%20Planning%20Committee":MAILTO:cantonilbicentennial2025@gmail.com
END:VEVENT
END:VCALENDAR