BEGIN:VCALENDAR
VERSION:2.0
PRODID:-//WGIL 93.7 FM - 1400 AM - ECPv5.6.0//NONSGML v1.0//EN
CALSCALE:GREGORIAN
METHOD:PUBLISH
X-WR-CALNAME:WGIL 93.7 FM - 1400 AM
X-ORIGINAL-URL:https://www.wgil.com
X-WR-CALDESC:Events for WGIL 93.7 FM - 1400 AM
BEGIN:VTIMEZONE
TZID:America/Chicago
BEGIN:DAYLIGHT
TZOFFSETFROM:-0600
TZOFFSETTO:-0500
TZNAME:CDT
DTSTART:20250309T080000
END:DAYLIGHT
BEGIN:STANDARD
TZOFFSETFROM:-0500
TZOFFSETTO:-0600
TZNAME:CST
DTSTART:20251102T070000
END:STANDARD
TZID:America/New_York
BEGIN:DAYLIGHT
TZOFFSETFROM:-0500
TZOFFSETTO:-0400
TZNAME:EDT
DTSTART:20250309T070000
END:DAYLIGHT
BEGIN:STANDARD
TZOFFSETFROM:-0400
TZOFFSETTO:-0500
TZNAME:EST
DTSTART:20251102T060000
END:STANDARD
END:VTIMEZONE
BEGIN:VEVENT
DTSTART;TZID=America/Chicago:20250809T080000
DTEND;TZID=America/Chicago:20250809T120000
DTSTAMP:20260419T220628
CREATED:20250507T221622Z
LAST-MODIFIED:20250602T214753Z
UID:679389-1754726400-1754740800@www.wgil.com
SUMMARY:Galesburg Farmers Market
DESCRIPTION:The Galesburg Farmers’ Market is your one-stop-shop for all the local goods you need\, from fresh fruits and veggies\, meats and eggs\, honey\, baked goods and prepared foods\, handmade crafts and jewelry\, and so much more. Find us in downtown Galesburg near the corner of Simmons and Seminary every Saturday from 8-12\, May through September.
URL:https://www.wgil.com/event/galesburg-farmers-market-7/2025-08-09/
LOCATION:Corner of Seminary and Simmons Street\, Galesburg\, IL\, 61401\, United States
CATEGORIES:Community Events
ATTACH;FMTTYPE=image/jpeg:https://dehayf5mhw1h7.cloudfront.net/wp-content/uploads/sites/2036/2025/05/07171555/343830643_1469380623831389_7442780086955849820_n-e1746656170854.jpg
GEO:40.937822;-90.3936722
END:VEVENT
BEGIN:VEVENT
DTSTART;TZID=America/Chicago:20250809T090000
DTEND;TZID=America/Chicago:20250809T103000
DTSTAMP:20260419T220628
CREATED:20250429T220155Z
LAST-MODIFIED:20250617T212658Z
UID:678325-1754730000-1754735400@www.wgil.com
SUMMARY:Yoga in the Park
DESCRIPTION:Dates: June 7 – August 30\, 2025\, Saturdays. *No program July 5\nTime: 9-10AM\nCost: Free\nLocation: Lake Storey Park shelter area\, closest to the lake *At Lincoln Park Gazebo\, August 16. \nEnjoy Free YOGA! Every Saturday from 9am-10am at Lake Storey Park Shelter Area (closest to the lake). Each Saturday this summer we will be joined by one of our wonderful yoga instructors for an hour long session of Zen!
URL:https://www.wgil.com/event/yoga-in-the-park-2/2025-08-09/
LOCATION:Lake Storey Park\, 1572 Machen Dr.\, Galesburg\, IL\, 61401\, United States
CATEGORIES:Community Events
ATTACH;FMTTYPE=image/png:https://dehayf5mhw1h7.cloudfront.net/wp-content/uploads/sites/2036/2025/04/29114145/yoga-in-the-park-fb-2025-e1745964098202.png
END:VEVENT
BEGIN:VEVENT
DTSTART;TZID=America/Chicago:20250809T093000
DTEND;TZID=America/Chicago:20250809T110000
DTSTAMP:20260419T220628
CREATED:20250721T203605Z
LAST-MODIFIED:20250721T203605Z
UID:682173-1754731800-1754737200@www.wgil.com
SUMMARY:Second Saturdays: Creature Feature: Dragonflies
DESCRIPTION:Date: August 9\, 2025\nTime: 9:30-11AM\nCost: Free\nLocation: Lakeside Nature Center \nLet’s talk about the whimsical ways of Dragonflies. Their day to day routines. Class is held outdoors at the Lakeside Nature Center Shelter\, with a Nature Walk through the woods\, so dress for the weather! \nPre-register at: https://app.amilia.com/store/en/city-of-galesburg-pr/shop/activities/5600751
URL:https://www.wgil.com/event/second-saturdays-creature-feature-dragonflies/
LOCATION:Lakeside Nature Center\, 1033 S Lake Storey Rd\, Galesburg\, IL\, 61401\, United States
CATEGORIES:Community Events
ATTACH;FMTTYPE=image/png:https://dehayf5mhw1h7.cloudfront.net/wp-content/uploads/sites/2036/2025/07/18152251/second-saturday-august-creature-feature-dragonfly-2025-fb-e1753130154916.png
GEO:40.984045;-90.39031
X-APPLE-STRUCTURED-LOCATION;VALUE=URI;X-ADDRESS=Lakeside Nature Center 1033 S Lake Storey Rd Galesburg IL 61401 United States;X-APPLE-RADIUS=500;X-TITLE=1033 S Lake Storey Rd:geo:-90.39031,40.984045
END:VEVENT
BEGIN:VEVENT
DTSTART;TZID=America/Chicago:20250809T100000
DTEND;TZID=America/Chicago:20250809T140000
DTSTAMP:20260419T220628
CREATED:20250807T232652Z
LAST-MODIFIED:20250807T232652Z
UID:683058-1754733600-1754748000@www.wgil.com
SUMMARY:NAACP Galesburg's Community Cookout
DESCRIPTION:Join us for a free community cookout\, including food and activities for families!
URL:https://www.wgil.com/event/naacp-galesburgs-community-cookout/
LOCATION:Kiwanis Park\, Galesburg\, IL\, 61401\, United States
CATEGORIES:Community Events
ATTACH;FMTTYPE=image/jpeg:https://dehayf5mhw1h7.cloudfront.net/wp-content/uploads/sites/2036/2025/08/07182410/527456055_1172377461603100_4342980596770701217_n-e1754609190538.jpg
ORGANIZER;CN="Galesburg%20NAACP":MAILTO:naacpgalesburg@gmail.com
GEO:40.9478158;-90.3712395
END:VEVENT
BEGIN:VEVENT
DTSTART;TZID=America/Chicago:20250809T103000
DTEND;TZID=America/Chicago:20250809T133000
DTSTAMP:20260419T220628
CREATED:20250715T205538Z
LAST-MODIFIED:20250715T205641Z
UID:681838-1754735400-1754746200@www.wgil.com
SUMMARY:Scratch Art Masterpieces
DESCRIPTION:Stop by Discovery Depot to create your very own Scratch Art Masterpiece!\nOnly $1.00 with admission!
URL:https://www.wgil.com/event/scratch-art-masterpieces/
LOCATION:Discovery Depot\, 128 S Chambers St\, Galesburg\, IL\, 61401\, United States
CATEGORIES:Community Events
ATTACH;FMTTYPE=image/jpeg:https://dehayf5mhw1h7.cloudfront.net/wp-content/uploads/sites/2036/2025/07/15143935/aug-9th-scratch-art_ad.jpg
ORGANIZER;CN="Discovery%20Depot":MAILTO:director@discoverydepot.org
END:VEVENT
BEGIN:VEVENT
DTSTART;TZID=America/Chicago:20250809T110000
DTEND;TZID=America/Chicago:20250809T120000
DTSTAMP:20260419T220628
CREATED:20250721T203653Z
LAST-MODIFIED:20250721T203653Z
UID:682177-1754737200-1754740800@www.wgil.com
SUMMARY:Little Sprouts: Art in Nature
DESCRIPTION:Date: Saturday\, August 9\, 2025\nTime: 11AM-12PM\nCost: $5\, includes child and caregiver\nAges: 2-5 years old\nLocation: Lakeside Nature Center \nThis month\, we will be making some fun art projects! Using items we find in nature while we explore around the Nature Center\, we will create our own artistic masterpieces! Little Sprouts is held mostly outside at Lakeside Nature Center Shelter\, so dress for outdoor adventuring. In poor weather\, we will go inside the Nature Center. \nRegister at: https://app.amilia.com/store/en/city-of-galesburg-pr/shop/activities/5600763
URL:https://www.wgil.com/event/little-sprouts-art-in-nature-2/
LOCATION:Lakeside Nature Center\, 1033 S Lake Storey Rd\, Galesburg\, IL\, 61401\, United States
CATEGORIES:Community Events
ATTACH;FMTTYPE=image/png:https://dehayf5mhw1h7.cloudfront.net/wp-content/uploads/sites/2036/2025/07/18152417/little-sprouts-art-in-nature-aug-2025-fb-e1753130192591.png
GEO:40.984045;-90.39031
X-APPLE-STRUCTURED-LOCATION;VALUE=URI;X-ADDRESS=Lakeside Nature Center 1033 S Lake Storey Rd Galesburg IL 61401 United States;X-APPLE-RADIUS=500;X-TITLE=1033 S Lake Storey Rd:geo:-90.39031,40.984045
END:VEVENT
BEGIN:VEVENT
DTSTART;TZID=America/Chicago:20250809T124500
DTEND;TZID=America/Chicago:20250809T124500
DTSTAMP:20260419T220628
CREATED:20220831T050559Z
LAST-MODIFIED:20220831T050559Z
UID:639339-1754743500-1754743500@www.wgil.com
SUMMARY:BINGO at the Galesburg VFW
DESCRIPTION:Come and have some fun at the Galesburg VFW with BINGO each Saturday. Doors open at 10:30a and BINGO starts at 12:45p.
URL:https://www.wgil.com/event/bingo-at-the-galesburg-vfw-2/2025-08-09/
LOCATION:Galesburg VFW Post 2257\, 1001 Michigan ave\, Galesburg\, IL\, 61401\, United States
CATEGORIES:Community Events
END:VEVENT
BEGIN:VEVENT
DTSTART;TZID=America/Chicago:20250809T183000
DTEND;TZID=America/Chicago:20250809T183000
DTSTAMP:20260419T220628
CREATED:20250512T212025Z
LAST-MODIFIED:20250512T212025Z
UID:678965-1754764200-1754764200@www.wgil.com
SUMMARY:Saturday Nite Alive in Jesus
DESCRIPTION:Saturday Nite Alive in Jesus will be held the second Saturday of every month from May to November 2025\, featuring Marty smith\, Hillsong Gospel Ministries\, and Randy Koch. Doors will open at 5pm with food served before the concert\, starting at 6:30pm. \nPlease come prepared to give a free will offering to cover expenses of this ministry.
URL:https://www.wgil.com/event/saturday-nite-alive-in-jesus-6/2025-08-09/
LOCATION:First Church of God\, 1080 Harrison Street\, Galesburg\, IL\, 61401\, United States
CATEGORIES:Community Events
ATTACH;FMTTYPE=image/jpeg:https://dehayf5mhw1h7.cloudfront.net/wp-content/uploads/sites/2036/2025/05/12161956/officegalesburgradio-com_20250512_180247_pages-to-jpg-0001-e1747084811679.jpg
END:VEVENT
BEGIN:VEVENT
DTSTART;TZID=America/Chicago:20250810T100000
DTEND;TZID=America/Chicago:20250810T150000
DTSTAMP:20260419T220628
CREATED:20250807T231438Z
LAST-MODIFIED:20250807T231438Z
UID:683014-1754820000-1754838000@www.wgil.com
SUMMARY:OAKS Cruise-In
DESCRIPTION:50/50 drawing\, raffles\, cars and more cars. Dash plaques to the First Fifty. Hosted by New Limited Rods of Western Illinois.\n176 N. Farnham St\, Galesburg
URL:https://www.wgil.com/event/oaks-cruise-in/
LOCATION:OAKS Senior Center\, 176 Farnham\, Galesburg\, IL\, United States
CATEGORIES:Community Events
GEO:40.9493687;-90.3453589
X-APPLE-STRUCTURED-LOCATION;VALUE=URI;X-ADDRESS=OAKS Senior Center 176 Farnham Galesburg IL United States;X-APPLE-RADIUS=500;X-TITLE=176 Farnham:geo:-90.3453589,40.9493687
END:VEVENT
BEGIN:VEVENT
DTSTART;TZID=America/Chicago:20250810T120000
DTEND;TZID=America/Chicago:20250810T143000
DTSTAMP:20260419T220628
CREATED:20250723T221213Z
LAST-MODIFIED:20250723T221213Z
UID:682428-1754827200-1754836200@www.wgil.com
SUMMARY:RIF Day
DESCRIPTION:Free book for every child with regular admission!
URL:https://www.wgil.com/event/rif-day-5/
LOCATION:Discovery Depot\, 128 S Chambers St\, Galesburg\, IL\, 61401\, United States
CATEGORIES:Community Events
ATTACH;FMTTYPE=image/png:https://dehayf5mhw1h7.cloudfront.net/wp-content/uploads/sites/2036/2025/07/23105317/rif-day-aug-2025-e1753308723504.png
END:VEVENT
BEGIN:VEVENT
DTSTART;TZID=America/Chicago:20250810T160000
DTEND;TZID=America/Chicago:20250810T170000
DTSTAMP:20260419T220628
CREATED:20250725T190352Z
LAST-MODIFIED:20250725T190352Z
UID:682491-1754841600-1754845200@www.wgil.com
SUMMARY:Pet Blessing - First Lutheran Church
DESCRIPTION:Annually on the Second Sunday in August! \nBring your people friendly pets on leashes or in carriers. If your pet is difficult to travel with or easily frightens around people\, bring a picture. \nWe will also offer prayers in memory of pets no longer with us.\nInvite your friends\, family\, and neighbors of all faith traditions!
URL:https://www.wgil.com/event/pet-blessing-first-lutheran-church/
LOCATION:First Lutheran Church in Galesburg\, Seminary and Water Street\, Galesburg\, IL\, United States
CATEGORIES:Community Events
ATTACH;FMTTYPE=image/png:https://dehayf5mhw1h7.cloudfront.net/wp-content/uploads/sites/2036/2025/07/24152719/pet-blessing-2025.png
END:VEVENT
BEGIN:VEVENT
DTSTART;VALUE=DATE:20250813
DTEND;VALUE=DATE:20250814
DTSTAMP:20260419T220628
CREATED:20200912T172504Z
LAST-MODIFIED:20200912T172504Z
UID:639404-1755043200-1755129599@www.wgil.com
SUMMARY:Galesburg Veterans Van
DESCRIPTION:We start running to Iowa City VA Hospital on Wednesdays and Thursdays.  Please give us a weeks notice. 309-342-7735
URL:https://www.wgil.com/event/galesburg-veterans-van-2/2025-08-13/
LOCATION:IL
CATEGORIES:Community Events
ATTACH;FMTTYPE=image/jpeg:https://dehayf5mhw1h7.cloudfront.net/wp-content/uploads/sites/2036/2020/09/12172504/7D5E0CF3-3117-4BDA-80CF-17EE7A16E44C-e1599931346207.jpeg
ORGANIZER;CN="Galesburg%20Veterans%20Van":MAILTO:Galesburgveteransvan@gmail.com
END:VEVENT
BEGIN:VEVENT
DTSTART;TZID=America/Chicago:20250813T130000
DTEND;TZID=America/Chicago:20250813T140000
DTSTAMP:20260419T220628
CREATED:20210524T132602Z
LAST-MODIFIED:20210524T132602Z
UID:639406-1755090000-1755093600@www.wgil.com
SUMMARY:St. Vincent de Paul Food Pantry
DESCRIPTION:ST VINCENT DE PAUL WEEKLY FOOD DISTRIBUTION. Weekly (Wednesdays from 1PM toll 2 PM) grocery distribution for individuals and families in need. \nCurbside service is provided as well. \nNot required to call ahead\, but calling will speed up the process. \nWill be asked whether they need a milk voucher\, number of adults and children in family and about any food restrictions. \nNUMBER TO CALL: 815-200-4911.
URL:https://www.wgil.com/event/st-vincent-de-paul-food-pantry/2025-08-13/
LOCATION:Corpus Christi Church basement\, 273 South Prairie St\, Galesburg\, IL\, 61401\, United States
CATEGORIES:Community Events
ORGANIZER;CN="St%20Vincent%20de%20Paul%20Society":MAILTO:dallind@grics.net
END:VEVENT
BEGIN:VEVENT
DTSTART;TZID=America/New_York:20250813T183000
DTEND;TZID=America/New_York:20250813T200000
DTSTAMP:20260419T220628
CREATED:20200124T193917Z
LAST-MODIFIED:20200124T193917Z
UID:639403-1755109800-1755115200@www.wgil.com
SUMMARY:Chess Club
DESCRIPTION:A chess club for players of all levels will meet at 6:30 pm on Wednesday nights at the Henderson Town Hall. There is no cost to come play\, learn and make friends.
URL:https://www.wgil.com/event/chess-club/2025-08-13/
LOCATION:Henderson Town Hall\, 215 S Main Street\, HENDERSON\, IL\, 61439\, United States
CATEGORIES:Community Events
ORGANIZER;CN="Dale%20Hidden":MAILTO:dale_hidden@yahoo.com
END:VEVENT
BEGIN:VEVENT
DTSTART;VALUE=DATE:20250814
DTEND;VALUE=DATE:20250817
DTSTAMP:20260419T220628
CREATED:20250807T233851Z
LAST-MODIFIED:20250807T233851Z
UID:683064-1755129600-1755388799@www.wgil.com
SUMMARY:2025 Avon Fat Steer Show
DESCRIPTION:
URL:https://www.wgil.com/event/2025-avon-fat-steer-show/
LOCATION:South Harrison Street\, Avon\, IL\, United States\, 61415\, South Harrison Street\, Avon\, IL\, 61415\, United States
CATEGORIES:Community Events
ATTACH;FMTTYPE=image/jpeg:https://dehayf5mhw1h7.cloudfront.net/wp-content/uploads/sites/2036/2025/08/07183823/491731992_1229395909190340_2973937020959860879_n-e1754609919842.jpg
END:VEVENT
BEGIN:VEVENT
DTSTART;VALUE=DATE:20250814
DTEND;VALUE=DATE:20250817
DTSTAMP:20260419T220628
CREATED:20250814T205343Z
LAST-MODIFIED:20250814T205343Z
UID:683406-1755129600-1755388799@www.wgil.com
SUMMARY:2025 New Windsor Fair\, Rodeo\, and Horse Show
DESCRIPTION:The biggest little rodeo in the Midwest is back! Started in 1939\, join the cowboys and rodeo clowns for the 85th New Windsor Fair\, Rodeo\, and Horse Show! Children 12 and under get in for free. \nThursday August 14\n\n9:00 am.     Entries Open in all Departments\n3:00 pm.     Entries Open for Parade\n4:00 pm.     Entries Close in All Departments\n5:00 pm.     Street parade\, New Windsor Business District\n7:00 pm.     IPRA Rodeo and Mutton Bustin begins at the fair grounds and Carnival opens\n\n  \nFriday August 15\n\n5:00 pm.     Carnival Opens\n6:00 pm.     Bouncy & Stick Horse Races for kids\n7:00 pm.     IPRA Rodeo and Mutton Bustin begins at the fair grounds.\n\n  \nSaturday August 16\n\n7:00 am.     Race Day Entries Open for Rodeo Run\n8:00 am.     Rodeo Run Start\n8:30 am.     Entries Open for Junior Horse Show\n9:00 am.     Junior Horse show\n11:00 am.     Entries open for Kiddie Parade\n1:00 pm.     Kiddie Parade\n5:00 pm.     Carnival Opens\n6:00 pm.     Bouncy & Stick Horse Races for kids\n7:00 pm.     The final performance of the IPRA rodeo and Mutton Bustin
URL:https://www.wgil.com/event/2025-new-windsor-fair-rodeo-and-horse-show/
LOCATION:New Windsor Rodeo Fairgrounds\,  802 Washington St\, New Windsor\, IL\, 61465\, United States
CATEGORIES:Community Events
ATTACH;FMTTYPE=image/png:https://dehayf5mhw1h7.cloudfront.net/wp-content/uploads/sites/2036/2025/08/14155310/logo-e1755204805391.png
ORGANIZER;CN="New%20Windsor%20Fair%2C%20Rodeo%2C%20and%20Horse%20Show%20Association":MAILTO:rodeo@nwrodeo.org
GEO:41.2046494;-90.4456715
X-APPLE-STRUCTURED-LOCATION;VALUE=URI;X-ADDRESS=New Windsor Rodeo Fairgrounds  802 Washington St New Windsor IL 61465 United States;X-APPLE-RADIUS=500;X-TITLE=802 Washington St:geo:-90.4456715,41.2046494
END:VEVENT
BEGIN:VEVENT
DTSTART;VALUE=DATE:20250814
DTEND;VALUE=DATE:20250815
DTSTAMP:20260419T220628
CREATED:20200912T172504Z
LAST-MODIFIED:20200912T172504Z
UID:639405-1755129600-1755215999@www.wgil.com
SUMMARY:Galesburg Veterans Van
DESCRIPTION:We start running to Iowa City VA Hospital on Wednesdays and Thursdays.  Please give us a weeks notice. 309-342-7735
URL:https://www.wgil.com/event/galesburg-veterans-van-2/2025-08-14/
LOCATION:IL
CATEGORIES:Community Events
ATTACH;FMTTYPE=image/jpeg:https://dehayf5mhw1h7.cloudfront.net/wp-content/uploads/sites/2036/2020/09/12172504/7D5E0CF3-3117-4BDA-80CF-17EE7A16E44C-e1599931346207.jpeg
ORGANIZER;CN="Galesburg%20Veterans%20Van":MAILTO:Galesburgveteransvan@gmail.com
END:VEVENT
BEGIN:VEVENT
DTSTART;TZID=America/Chicago:20250814T130000
DTEND;TZID=America/Chicago:20250814T140000
DTSTAMP:20260419T220628
CREATED:20240207T190411Z
LAST-MODIFIED:20240207T190411Z
UID:648680-1755176400-1755180000@www.wgil.com
SUMMARY:First Lutheran Church Food Pantry
DESCRIPTION:First Lutheran Church Food Pantry\, 364 E. Water St.\, Galesburg.
URL:https://www.wgil.com/event/first-lutheran-church-food-pantry/2025-08-14/
LOCATION:First Lutheran Church\, 364 E. Water St.\, Galesburg\, IL\, 61401\, United States
CATEGORIES:Community Events
ATTACH;FMTTYPE=image/jpeg:https://dehayf5mhw1h7.cloudfront.net/wp-content/uploads/sites/2036/2020/05/27162250/first-lutheran-church-food-pantry.jpg
GEO:40.9495812;-90.3650888
X-APPLE-STRUCTURED-LOCATION;VALUE=URI;X-ADDRESS=First Lutheran Church 364 E. Water St. Galesburg IL 61401 United States;X-APPLE-RADIUS=500;X-TITLE=364 E. Water St.:geo:-90.3650888,40.9495812
END:VEVENT
BEGIN:VEVENT
DTSTART;TZID=America/Chicago:20250814T180000
DTEND;TZID=America/Chicago:20250814T200000
DTSTAMP:20260419T220628
CREATED:20250721T203859Z
LAST-MODIFIED:20250721T203859Z
UID:682188-1755194400-1755201600@www.wgil.com
SUMMARY:Craft Night Out: Wire Botanicals
DESCRIPTION:Date: Thursday\, August 14\, 2025\nTime: 6-8PM\nCost: $15 by August 10\nAges: Recommended for ages 7+ with adult assistance\nLocation: Lake Storey Pavilion \nJoin us for a night of fun crafts and friendship! This month\, we will be creating a whimsical wire flower display or botanical sculpture! All supplies and crafting tools provided. \nRegister at: https://app.amilia.com/store/en/city-of-galesburg-pr/shop/activities/6093186
URL:https://www.wgil.com/event/craft-night-out-wire-botanicals/
LOCATION:Lake Storey Pavilion\, 1572 Machen Drive\, Galesburg\, IL\, 61462\, United States
CATEGORIES:Community Events
END:VEVENT
BEGIN:VEVENT
DTSTART;VALUE=DATE:20250815
DTEND;VALUE=DATE:20250818
DTSTAMP:20260419T220628
CREATED:20250612T212943Z
LAST-MODIFIED:20250612T212943Z
UID:680370-1755216000-1755475199@www.wgil.com
SUMMARY:Galesburg Heritage Days Living History Festival
DESCRIPTION:Slip back in time with us to visit history. You can see and experience life in both an Early American Frontier Rendezvous and in a Civil War Battle Encampment. With almost 1\,000 visual Storytellers\, Reenactors\, Living Historians\, Demonstrators\, Merchants\, Sutlers and more! A family-friendly event\, free admission & free parking to the public.\nCome join us for 30th annual Galesburg Heritage Days\, August 16th-17th at Lake Storey Park in Galesburg\, IL\nFor more information or updates visit galesburgheritagedays.org
URL:https://www.wgil.com/event/galesburg-heritage-days-living-history-festival/
LOCATION:Lake Storey\, 1572 Machen Drive\, Galesburg\, IL\, 61401\, United States
CATEGORIES:Community Events
ATTACH;FMTTYPE=image/jpeg:https://dehayf5mhw1h7.cloudfront.net/wp-content/uploads/sites/2036/2025/06/12100206/ghd-image-e1749763773211.jpg
END:VEVENT
BEGIN:VEVENT
DTSTART;TZID=America/Chicago:20250815T200000
DTEND;TZID=America/Chicago:20250815T213000
DTSTAMP:20260419T220628
CREATED:20250429T220917Z
LAST-MODIFIED:20250429T220917Z
UID:678283-1755288000-1755293400@www.wgil.com
SUMMARY:Kayak Nights
DESCRIPTION:Dates: June 7 – September 6\, 2025. Held on first Saturday and third Friday of the month*\nTime: 8-9:30PM\nCost: $5 – bring your own kayak; $20 – rent a kayak; $30 – rent a tandem kayak\nLocation: Lake Storey Beach \nRent a kayak or bring your own to Kayak Nights! All ages allowed\, but must register each person individually. We will meet at the Lake Storey Beach\, and you will receive lights to attach to the ends of your boat for nighttime boating. Life jackets are required and must be worn at all times on the water. Please bring a flashlight (in a waterproof pouch or baggie) or some sort of white light – in case of emergency. \n*July 5 Kayak Night will be cancelled if fireworks are postponed to July 5 due to weather. \nRegister at: https://app.amilia.com/store/en/city-of-galesburg-pr/shop/programs/114327
URL:https://www.wgil.com/event/kayak-nights/2025-08-15/
LOCATION:Lake Storey Beach\, 1572 Machen Dr\, Galesburg\, IL\, 61401\, United States
CATEGORIES:Community Events
ATTACH;FMTTYPE=image/png:https://dehayf5mhw1h7.cloudfront.net/wp-content/uploads/sites/2036/2025/04/29131758/kayak-at-night-monthly-2025-fb-e1745964247847.png
END:VEVENT
BEGIN:VEVENT
DTSTART;TZID=America/Chicago:20250816T080000
DTEND;TZID=America/Chicago:20250816T120000
DTSTAMP:20260419T220628
CREATED:20250507T221622Z
LAST-MODIFIED:20250602T214755Z
UID:679390-1755331200-1755345600@www.wgil.com
SUMMARY:Galesburg Farmers Market
DESCRIPTION:The Galesburg Farmers’ Market is your one-stop-shop for all the local goods you need\, from fresh fruits and veggies\, meats and eggs\, honey\, baked goods and prepared foods\, handmade crafts and jewelry\, and so much more. Find us in downtown Galesburg near the corner of Simmons and Seminary every Saturday from 8-12\, May through September.
URL:https://www.wgil.com/event/galesburg-farmers-market-7/2025-08-16/
LOCATION:Corner of Seminary and Simmons Street\, Galesburg\, IL\, 61401\, United States
CATEGORIES:Community Events
ATTACH;FMTTYPE=image/jpeg:https://dehayf5mhw1h7.cloudfront.net/wp-content/uploads/sites/2036/2025/05/07171555/343830643_1469380623831389_7442780086955849820_n-e1746656170854.jpg
GEO:40.937822;-90.3936722
END:VEVENT
BEGIN:VEVENT
DTSTART;TZID=America/Chicago:20250816T090000
DTEND;TZID=America/Chicago:20250816T103000
DTSTAMP:20260419T220628
CREATED:20250429T220228Z
LAST-MODIFIED:20250429T220228Z
UID:678327-1755334800-1755340200@www.wgil.com
SUMMARY:Yoga in the Park
DESCRIPTION:Dates: June 7 – August 30\, 2025\, Saturdays. *No program July 5\nTime: 9-10AM\nCost: Free\nLocation: Lake Storey Park shelter area\, closest to the lake *At Lincoln Park Gazebo\, August 16. \nEnjoy Free YOGA! Every Saturday from 9am-10am at Lake Storey Park Shelter Area (closest to the lake). Each Saturday this summer we will be joined by one of our wonderful yoga instructors for an hour long session of Zen!
URL:https://www.wgil.com/event/yoga-in-the-park-2/2025-08-16/
LOCATION:Lake Storey Park\, 1572 Machen Dr.\, Galesburg\, IL\, 61401\, United States
CATEGORIES:Community Events
ATTACH;FMTTYPE=image/png:https://dehayf5mhw1h7.cloudfront.net/wp-content/uploads/sites/2036/2025/04/29114145/yoga-in-the-park-fb-2025-e1745964098202.png
END:VEVENT
BEGIN:VEVENT
DTSTART;TZID=America/Chicago:20250816T090000
DTEND;TZID=America/Chicago:20250816T110000
DTSTAMP:20260419T220628
CREATED:20250723T221341Z
LAST-MODIFIED:20250723T221341Z
UID:682442-1755334800-1755342000@www.wgil.com
SUMMARY:Pickleball Adult Lessons
DESCRIPTION:Date: Saturday\, August 16\, 2025\nTime: 9-11AM\nCost: $20\nLocation: Hawthorne Gym \nThis class is designed for adult players who are new to the game. It will cover the fundamentals of scoring\, serving\, point play\, and dinking. Please come dressed to play and remember to bring a water bottle. \nRegister at: https://app.amilia.com/store/en/city-of-galesburg-pr/shop/activities/6094744
URL:https://www.wgil.com/event/pickleball-adult-lessons/
LOCATION:Hawthorne Gym\, 2265 Veterans Dr\, Galesburg\, IL\, 61401\, United States
CATEGORIES:Community Events
ATTACH;FMTTYPE=image/png:https://dehayf5mhw1h7.cloudfront.net/wp-content/uploads/sites/2036/2025/07/23131145/pickleball-lessons-august-25-fb-e1753308806639.png
END:VEVENT
BEGIN:VEVENT
DTSTART;TZID=America/Chicago:20250816T124500
DTEND;TZID=America/Chicago:20250816T124500
DTSTAMP:20260419T220628
CREATED:20220831T050559Z
LAST-MODIFIED:20220831T050559Z
UID:639562-1755348300-1755348300@www.wgil.com
SUMMARY:BINGO at the Galesburg VFW
DESCRIPTION:Come and have some fun at the Galesburg VFW with BINGO each Saturday. Doors open at 10:30a and BINGO starts at 12:45p.
URL:https://www.wgil.com/event/bingo-at-the-galesburg-vfw-2/2025-08-16/
LOCATION:Galesburg VFW Post 2257\, 1001 Michigan ave\, Galesburg\, IL\, 61401\, United States
CATEGORIES:Community Events
END:VEVENT
BEGIN:VEVENT
DTSTART;TZID=America/Chicago:20250817T120000
DTEND;TZID=America/Chicago:20250817T180000
DTSTAMP:20260419T220628
CREATED:20250801T193230Z
LAST-MODIFIED:20250801T193230Z
UID:682743-1755432000-1755453600@www.wgil.com
SUMMARY:8th Annual Lewistown Truck & Tractor Pull
DESCRIPTION:Join us for 8th Annual Lewistown Truck & Tractor Pull\, where all proceeds benefit local FFA chapters! There will be food vendors\, t-shirt sales\, 50/50\, giveaways\, and more!
URL:https://www.wgil.com/event/8th-annual-lewistown-truck-tractor-pull/
LOCATION:Fulton County Fairgrounds\, 1325 South Main Street\, Lewistown\, IL\, 61542\, United States
CATEGORIES:Community Events
ATTACH;FMTTYPE=image/png:https://dehayf5mhw1h7.cloudfront.net/wp-content/uploads/sites/2036/2025/07/31151224/brown-modern-open-donation-flyer_20250731_150327_0000.png
ORGANIZER;CN="Lewistown%20Truck%20%26amp%3Bamp%3B%20Tractor%20Pull%2C%20NFP":MAILTO:Lewistowntrucktractorpull@gmail.com
GEO:40.3878611;-90.1551517
X-APPLE-STRUCTURED-LOCATION;VALUE=URI;X-ADDRESS=Fulton County Fairgrounds 1325 South Main Street Lewistown IL 61542 United States;X-APPLE-RADIUS=500;X-TITLE=1325 South Main Street:geo:-90.1551517,40.3878611
END:VEVENT
BEGIN:VEVENT
DTSTART;TZID=America/Chicago:20250817T123000
DTEND;TZID=America/Chicago:20250817T140000
DTSTAMP:20260419T220628
CREATED:20250715T205810Z
LAST-MODIFIED:20250715T205810Z
UID:681847-1755433800-1755439200@www.wgil.com
SUMMARY:Thomas the Train Photo Props
DESCRIPTION:Frame your photos with Thomas the Train! \nFree with admission
URL:https://www.wgil.com/event/thomas-the-train-photo-props/
LOCATION:Discovery Depot\, 128 S Chambers St\, Galesburg\, IL\, 61401\, United States
CATEGORIES:Community Events
ATTACH;FMTTYPE=image/jpeg:https://dehayf5mhw1h7.cloudfront.net/wp-content/uploads/sites/2036/2025/07/15144553/aug-train-photo_ad-e1752613081809.jpg
ORGANIZER;CN="Discovery%20Depot":MAILTO:director@discoverydepot.org
END:VEVENT
BEGIN:VEVENT
DTSTART;TZID=America/Chicago:20250817T160000
DTEND;TZID=America/Chicago:20250817T190000
DTSTAMP:20260419T220628
CREATED:20250721T202225Z
LAST-MODIFIED:20250721T202225Z
UID:681951-1755446400-1755457200@www.wgil.com
SUMMARY:Rio Community Ice Cream Social
DESCRIPTION:Beat the heat and connect with your neighbors at a sweet summer gathering!\nJoin us on Sunday\, August 17\, at the Rio Fire Protection District & Presbyterian Church for an evening of good food\, fun games\, and plenty of ice cream. \nBring your family\, your appetite\, lawn chairs\, and towels for the kids to enjoy water games.
URL:https://www.wgil.com/event/rio-community-ice-cream-social-4/
LOCATION:Rio Presbyterian Church\, 210 East Center Ave.\, Rio\, IL\, 61472\, United States
CATEGORIES:Community Events
ATTACH;FMTTYPE=image/png:https://dehayf5mhw1h7.cloudfront.net/wp-content/uploads/sites/2036/2025/07/16174810/2025-rio-ice-cream-social-2-e1753129296914.png
END:VEVENT
BEGIN:VEVENT
DTSTART;TZID=America/Chicago:20250819T173000
DTEND;TZID=America/Chicago:20250819T190000
DTSTAMP:20260419T220628
CREATED:20250715T205352Z
LAST-MODIFIED:20250715T205352Z
UID:681826-1755624600-1755630000@www.wgil.com
SUMMARY:Toddler Plus Tuesday
DESCRIPTION:This program is for toddlers plus their families and is offered after hours. This program is in collaboration with ROE #33 educators. Special developmental activities will be available each month. Reduced admission rate is $6.50. Members are free.
URL:https://www.wgil.com/event/toddler-plus-tuesday-26/
LOCATION:Discovery Depot\, 128 S Chambers St\, Galesburg\, IL\, 61401\, United States
CATEGORIES:Community Events
ATTACH;FMTTYPE=image/png:https://dehayf5mhw1h7.cloudfront.net/wp-content/uploads/sites/2036/2025/07/15142931/toddler-tuesday-august-2025-e1752612822541.png
END:VEVENT
BEGIN:VEVENT
DTSTART;VALUE=DATE:20250820
DTEND;VALUE=DATE:20250825
DTSTAMP:20260419T220628
CREATED:20250807T234533Z
LAST-MODIFIED:20250818T223502Z
UID:683070-1755648000-1756079999@www.wgil.com
SUMMARY:Abingdon Community Festival
DESCRIPTION:The Abingdon Community Festival Association has been serving the community of Abingdon\, Illinois since 1954. Come join in on the fun! To ensure a safe and enjoyable time at the festival\, visitors are reminded that rude\, inconsiderate and/or disruptive behavior will not be tolerated. Disruptive individuals will be removed from the festival grounds and banned from future festival events.
URL:https://www.wgil.com/event/abingdon-community-festival-9/
LOCATION:abingdon fair grounds\, United States
CATEGORIES:Community Events
ATTACH;FMTTYPE=image/jpeg:https://dehayf5mhw1h7.cloudfront.net/wp-content/uploads/sites/2036/2025/08/07184302/327218699_568564678490951_2641435984338114319_n-e1754610196273.jpg
END:VEVENT
END:VCALENDAR