BEGIN:VCALENDAR
VERSION:2.0
PRODID:-//WGIL 93.7 FM - 1400 AM - ECPv5.6.0//NONSGML v1.0//EN
CALSCALE:GREGORIAN
METHOD:PUBLISH
X-WR-CALNAME:WGIL 93.7 FM - 1400 AM
X-ORIGINAL-URL:https://www.wgil.com
X-WR-CALDESC:Events for WGIL 93.7 FM - 1400 AM
BEGIN:VTIMEZONE
TZID:America/Chicago
BEGIN:DAYLIGHT
TZOFFSETFROM:-0600
TZOFFSETTO:-0500
TZNAME:CDT
DTSTART:20250309T080000
END:DAYLIGHT
BEGIN:STANDARD
TZOFFSETFROM:-0500
TZOFFSETTO:-0600
TZNAME:CST
DTSTART:20251102T070000
END:STANDARD
END:VTIMEZONE
BEGIN:VEVENT
DTSTART;TZID=America/Chicago:20250830T090000
DTEND;TZID=America/Chicago:20250830T103000
DTSTAMP:20260419T163043
CREATED:20250429T220232Z
LAST-MODIFIED:20250429T220232Z
UID:678331-1756544400-1756549800@www.wgil.com
SUMMARY:Yoga in the Park
DESCRIPTION:Dates: June 7 – August 30\, 2025\, Saturdays. *No program July 5\nTime: 9-10AM\nCost: Free\nLocation: Lake Storey Park shelter area\, closest to the lake *At Lincoln Park Gazebo\, August 16. \nEnjoy Free YOGA! Every Saturday from 9am-10am at Lake Storey Park Shelter Area (closest to the lake). Each Saturday this summer we will be joined by one of our wonderful yoga instructors for an hour long session of Zen!
URL:https://www.wgil.com/event/yoga-in-the-park-2/2025-08-30/
LOCATION:Lake Storey Park\, 1572 Machen Dr.\, Galesburg\, IL\, 61401\, United States
CATEGORIES:Community Events
ATTACH;FMTTYPE=image/png:https://dehayf5mhw1h7.cloudfront.net/wp-content/uploads/sites/2036/2025/04/29114145/yoga-in-the-park-fb-2025-e1745964098202.png
END:VEVENT
BEGIN:VEVENT
DTSTART;TZID=America/Chicago:20250823T090000
DTEND;TZID=America/Chicago:20250823T103000
DTSTAMP:20260419T163043
CREATED:20250429T220230Z
LAST-MODIFIED:20250429T220230Z
UID:678329-1755939600-1755945000@www.wgil.com
SUMMARY:Yoga in the Park
DESCRIPTION:Dates: June 7 – August 30\, 2025\, Saturdays. *No program July 5\nTime: 9-10AM\nCost: Free\nLocation: Lake Storey Park shelter area\, closest to the lake *At Lincoln Park Gazebo\, August 16. \nEnjoy Free YOGA! Every Saturday from 9am-10am at Lake Storey Park Shelter Area (closest to the lake). Each Saturday this summer we will be joined by one of our wonderful yoga instructors for an hour long session of Zen!
URL:https://www.wgil.com/event/yoga-in-the-park-2/2025-08-23/
LOCATION:Lake Storey Park\, 1572 Machen Dr.\, Galesburg\, IL\, 61401\, United States
CATEGORIES:Community Events
ATTACH;FMTTYPE=image/png:https://dehayf5mhw1h7.cloudfront.net/wp-content/uploads/sites/2036/2025/04/29114145/yoga-in-the-park-fb-2025-e1745964098202.png
END:VEVENT
BEGIN:VEVENT
DTSTART;TZID=America/Chicago:20250816T090000
DTEND;TZID=America/Chicago:20250816T103000
DTSTAMP:20260419T163043
CREATED:20250429T220228Z
LAST-MODIFIED:20250429T220228Z
UID:678327-1755334800-1755340200@www.wgil.com
SUMMARY:Yoga in the Park
DESCRIPTION:Dates: June 7 – August 30\, 2025\, Saturdays. *No program July 5\nTime: 9-10AM\nCost: Free\nLocation: Lake Storey Park shelter area\, closest to the lake *At Lincoln Park Gazebo\, August 16. \nEnjoy Free YOGA! Every Saturday from 9am-10am at Lake Storey Park Shelter Area (closest to the lake). Each Saturday this summer we will be joined by one of our wonderful yoga instructors for an hour long session of Zen!
URL:https://www.wgil.com/event/yoga-in-the-park-2/2025-08-16/
LOCATION:Lake Storey Park\, 1572 Machen Dr.\, Galesburg\, IL\, 61401\, United States
CATEGORIES:Community Events
ATTACH;FMTTYPE=image/png:https://dehayf5mhw1h7.cloudfront.net/wp-content/uploads/sites/2036/2025/04/29114145/yoga-in-the-park-fb-2025-e1745964098202.png
END:VEVENT
BEGIN:VEVENT
DTSTART;TZID=America/Chicago:20250809T090000
DTEND;TZID=America/Chicago:20250809T103000
DTSTAMP:20260419T163043
CREATED:20250429T220155Z
LAST-MODIFIED:20250617T212658Z
UID:678325-1754730000-1754735400@www.wgil.com
SUMMARY:Yoga in the Park
DESCRIPTION:Dates: June 7 – August 30\, 2025\, Saturdays. *No program July 5\nTime: 9-10AM\nCost: Free\nLocation: Lake Storey Park shelter area\, closest to the lake *At Lincoln Park Gazebo\, August 16. \nEnjoy Free YOGA! Every Saturday from 9am-10am at Lake Storey Park Shelter Area (closest to the lake). Each Saturday this summer we will be joined by one of our wonderful yoga instructors for an hour long session of Zen!
URL:https://www.wgil.com/event/yoga-in-the-park-2/2025-08-09/
LOCATION:Lake Storey Park\, 1572 Machen Dr.\, Galesburg\, IL\, 61401\, United States
CATEGORIES:Community Events
ATTACH;FMTTYPE=image/png:https://dehayf5mhw1h7.cloudfront.net/wp-content/uploads/sites/2036/2025/04/29114145/yoga-in-the-park-fb-2025-e1745964098202.png
END:VEVENT
BEGIN:VEVENT
DTSTART;TZID=America/Chicago:20250802T090000
DTEND;TZID=America/Chicago:20250802T103000
DTSTAMP:20260419T163043
CREATED:20250429T220155Z
LAST-MODIFIED:20250617T212657Z
UID:678323-1754125200-1754130600@www.wgil.com
SUMMARY:Yoga in the Park
DESCRIPTION:Dates: June 7 – August 30\, 2025\, Saturdays. *No program July 5\nTime: 9-10AM\nCost: Free\nLocation: Lake Storey Park shelter area\, closest to the lake *At Lincoln Park Gazebo\, August 16. \nEnjoy Free YOGA! Every Saturday from 9am-10am at Lake Storey Park Shelter Area (closest to the lake). Each Saturday this summer we will be joined by one of our wonderful yoga instructors for an hour long session of Zen!
URL:https://www.wgil.com/event/yoga-in-the-park-2/2025-08-02/
LOCATION:Lake Storey Park\, 1572 Machen Dr.\, Galesburg\, IL\, 61401\, United States
CATEGORIES:Community Events
ATTACH;FMTTYPE=image/png:https://dehayf5mhw1h7.cloudfront.net/wp-content/uploads/sites/2036/2025/04/29114145/yoga-in-the-park-fb-2025-e1745964098202.png
END:VEVENT
BEGIN:VEVENT
DTSTART;TZID=America/Chicago:20250726T090000
DTEND;TZID=America/Chicago:20250726T103000
DTSTAMP:20260419T163043
CREATED:20250429T220155Z
LAST-MODIFIED:20250617T212655Z
UID:678321-1753520400-1753525800@www.wgil.com
SUMMARY:Yoga in the Park
DESCRIPTION:Dates: June 7 – August 30\, 2025\, Saturdays. *No program July 5\nTime: 9-10AM\nCost: Free\nLocation: Lake Storey Park shelter area\, closest to the lake *At Lincoln Park Gazebo\, August 16. \nEnjoy Free YOGA! Every Saturday from 9am-10am at Lake Storey Park Shelter Area (closest to the lake). Each Saturday this summer we will be joined by one of our wonderful yoga instructors for an hour long session of Zen!
URL:https://www.wgil.com/event/yoga-in-the-park-2/2025-07-26/
LOCATION:Lake Storey Park\, 1572 Machen Dr.\, Galesburg\, IL\, 61401\, United States
CATEGORIES:Community Events
ATTACH;FMTTYPE=image/png:https://dehayf5mhw1h7.cloudfront.net/wp-content/uploads/sites/2036/2025/04/29114145/yoga-in-the-park-fb-2025-e1745964098202.png
END:VEVENT
BEGIN:VEVENT
DTSTART;TZID=America/Chicago:20250719T090000
DTEND;TZID=America/Chicago:20250719T103000
DTSTAMP:20260419T163043
CREATED:20250429T220155Z
LAST-MODIFIED:20250617T212653Z
UID:678319-1752915600-1752921000@www.wgil.com
SUMMARY:Yoga in the Park
DESCRIPTION:Dates: June 7 – August 30\, 2025\, Saturdays. *No program July 5\nTime: 9-10AM\nCost: Free\nLocation: Lake Storey Park shelter area\, closest to the lake *At Lincoln Park Gazebo\, August 16. \nEnjoy Free YOGA! Every Saturday from 9am-10am at Lake Storey Park Shelter Area (closest to the lake). Each Saturday this summer we will be joined by one of our wonderful yoga instructors for an hour long session of Zen!
URL:https://www.wgil.com/event/yoga-in-the-park-2/2025-07-19/
LOCATION:Lake Storey Park\, 1572 Machen Dr.\, Galesburg\, IL\, 61401\, United States
CATEGORIES:Community Events
ATTACH;FMTTYPE=image/png:https://dehayf5mhw1h7.cloudfront.net/wp-content/uploads/sites/2036/2025/04/29114145/yoga-in-the-park-fb-2025-e1745964098202.png
END:VEVENT
BEGIN:VEVENT
DTSTART;TZID=America/Chicago:20250712T090000
DTEND;TZID=America/Chicago:20250712T103000
DTSTAMP:20260419T163043
CREATED:20250429T220155Z
LAST-MODIFIED:20250617T212652Z
UID:678266-1752310800-1752316200@www.wgil.com
SUMMARY:Yoga in the Park
DESCRIPTION:Dates: June 7 – August 30\, 2025\, Saturdays. *No program July 5\nTime: 9-10AM\nCost: Free\nLocation: Lake Storey Park shelter area\, closest to the lake *At Lincoln Park Gazebo\, August 16. \nEnjoy Free YOGA! Every Saturday from 9am-10am at Lake Storey Park Shelter Area (closest to the lake). Each Saturday this summer we will be joined by one of our wonderful yoga instructors for an hour long session of Zen!
URL:https://www.wgil.com/event/yoga-in-the-park-2/2025-07-12/
LOCATION:Lake Storey Park\, 1572 Machen Dr.\, Galesburg\, IL\, 61401\, United States
CATEGORIES:Community Events
ATTACH;FMTTYPE=image/png:https://dehayf5mhw1h7.cloudfront.net/wp-content/uploads/sites/2036/2025/04/29114145/yoga-in-the-park-fb-2025-e1745964098202.png
END:VEVENT
BEGIN:VEVENT
DTSTART;TZID=America/Chicago:20250628T090000
DTEND;TZID=America/Chicago:20250628T103000
DTSTAMP:20260419T163043
CREATED:20250429T220155Z
LAST-MODIFIED:20250617T212650Z
UID:678263-1751101200-1751106600@www.wgil.com
SUMMARY:Yoga in the Park
DESCRIPTION:Dates: June 7 – August 30\, 2025\, Saturdays. *No program July 5\nTime: 9-10AM\nCost: Free\nLocation: Lake Storey Park shelter area\, closest to the lake *At Lincoln Park Gazebo\, August 16. \nEnjoy Free YOGA! Every Saturday from 9am-10am at Lake Storey Park Shelter Area (closest to the lake). Each Saturday this summer we will be joined by one of our wonderful yoga instructors for an hour long session of Zen!
URL:https://www.wgil.com/event/yoga-in-the-park-2/2025-06-28/
LOCATION:Lake Storey Park\, 1572 Machen Dr.\, Galesburg\, IL\, 61401\, United States
CATEGORIES:Community Events
ATTACH;FMTTYPE=image/png:https://dehayf5mhw1h7.cloudfront.net/wp-content/uploads/sites/2036/2025/04/29114145/yoga-in-the-park-fb-2025-e1745964098202.png
END:VEVENT
BEGIN:VEVENT
DTSTART;TZID=America/Chicago:20250621T090000
DTEND;TZID=America/Chicago:20250621T103000
DTSTAMP:20260419T163043
CREATED:20250429T220155Z
LAST-MODIFIED:20250617T212648Z
UID:678261-1750496400-1750501800@www.wgil.com
SUMMARY:Yoga in the Park
DESCRIPTION:Dates: June 7 – August 30\, 2025\, Saturdays. *No program July 5\nTime: 9-10AM\nCost: Free\nLocation: Lake Storey Park shelter area\, closest to the lake *At Lincoln Park Gazebo\, August 16. \nEnjoy Free YOGA! Every Saturday from 9am-10am at Lake Storey Park Shelter Area (closest to the lake). Each Saturday this summer we will be joined by one of our wonderful yoga instructors for an hour long session of Zen!
URL:https://www.wgil.com/event/yoga-in-the-park-2/2025-06-21/
LOCATION:Lake Storey Park\, 1572 Machen Dr.\, Galesburg\, IL\, 61401\, United States
CATEGORIES:Community Events
ATTACH;FMTTYPE=image/png:https://dehayf5mhw1h7.cloudfront.net/wp-content/uploads/sites/2036/2025/04/29114145/yoga-in-the-park-fb-2025-e1745964098202.png
END:VEVENT
BEGIN:VEVENT
DTSTART;TZID=America/Chicago:20250614T090000
DTEND;TZID=America/Chicago:20250614T103000
DTSTAMP:20260419T163043
CREATED:20250429T220155Z
LAST-MODIFIED:20250617T212647Z
UID:678259-1749891600-1749897000@www.wgil.com
SUMMARY:Yoga in the Park
DESCRIPTION:Dates: June 7 – August 30\, 2025\, Saturdays. *No program July 5\nTime: 9-10AM\nCost: Free\nLocation: Lake Storey Park shelter area\, closest to the lake *At Lincoln Park Gazebo\, August 16. \nEnjoy Free YOGA! Every Saturday from 9am-10am at Lake Storey Park Shelter Area (closest to the lake). Each Saturday this summer we will be joined by one of our wonderful yoga instructors for an hour long session of Zen!
URL:https://www.wgil.com/event/yoga-in-the-park-2/2025-06-14/
LOCATION:Lake Storey Park\, 1572 Machen Dr.\, Galesburg\, IL\, 61401\, United States
CATEGORIES:Community Events
ATTACH;FMTTYPE=image/png:https://dehayf5mhw1h7.cloudfront.net/wp-content/uploads/sites/2036/2025/04/29114145/yoga-in-the-park-fb-2025-e1745964098202.png
END:VEVENT
BEGIN:VEVENT
DTSTART;TZID=America/Chicago:20250607T090000
DTEND;TZID=America/Chicago:20250607T103000
DTSTAMP:20260419T163043
CREATED:20250429T220155Z
LAST-MODIFIED:20250617T212629Z
UID:678255-1749286800-1749292200@www.wgil.com
SUMMARY:Yoga in the Park
DESCRIPTION:Dates: June 7 – August 30\, 2025\, Saturdays. *No program July 5\nTime: 9-10AM\nCost: Free\nLocation: Lake Storey Park shelter area\, closest to the lake *At Lincoln Park Gazebo\, August 16. \nEnjoy Free YOGA! Every Saturday from 9am-10am at Lake Storey Park Shelter Area (closest to the lake). Each Saturday this summer we will be joined by one of our wonderful yoga instructors for an hour long session of Zen!
URL:https://www.wgil.com/event/yoga-in-the-park-2/2025-06-07/
LOCATION:Lake Storey Park\, 1572 Machen Dr.\, Galesburg\, IL\, 61401\, United States
CATEGORIES:Community Events
ATTACH;FMTTYPE=image/png:https://dehayf5mhw1h7.cloudfront.net/wp-content/uploads/sites/2036/2025/04/29114145/yoga-in-the-park-fb-2025-e1745964098202.png
END:VEVENT
END:VCALENDAR